BEGIN:VCALENDAR
VERSION:2.0
PRODID:-//Emmanuel Covenant Church | South Surrey, BC - ECPv6.15.20//NONSGML v1.0//EN
CALSCALE:GREGORIAN
METHOD:PUBLISH
X-ORIGINAL-URL:https://emmanuelcovenant.ca
X-WR-CALDESC:Events for Emmanuel Covenant Church | South Surrey, BC
REFRESH-INTERVAL;VALUE=DURATION:PT1H
X-Robots-Tag:noindex
X-PUBLISHED-TTL:PT1H
BEGIN:VTIMEZONE
TZID:America/Vancouver
BEGIN:DAYLIGHT
TZOFFSETFROM:-0800
TZOFFSETTO:-0700
TZNAME:PDT
DTSTART:20180311T100000
END:DAYLIGHT
BEGIN:STANDARD
TZOFFSETFROM:-0700
TZOFFSETTO:-0800
TZNAME:PST
DTSTART:20181104T090000
END:STANDARD
BEGIN:DAYLIGHT
TZOFFSETFROM:-0800
TZOFFSETTO:-0700
TZNAME:PDT
DTSTART:20190310T100000
END:DAYLIGHT
BEGIN:STANDARD
TZOFFSETFROM:-0700
TZOFFSETTO:-0800
TZNAME:PST
DTSTART:20191103T090000
END:STANDARD
BEGIN:DAYLIGHT
TZOFFSETFROM:-0800
TZOFFSETTO:-0700
TZNAME:PDT
DTSTART:20200308T100000
END:DAYLIGHT
BEGIN:STANDARD
TZOFFSETFROM:-0700
TZOFFSETTO:-0800
TZNAME:PST
DTSTART:20201101T090000
END:STANDARD
BEGIN:DAYLIGHT
TZOFFSETFROM:-0800
TZOFFSETTO:-0700
TZNAME:PDT
DTSTART:20210314T100000
END:DAYLIGHT
BEGIN:STANDARD
TZOFFSETFROM:-0700
TZOFFSETTO:-0800
TZNAME:PST
DTSTART:20211107T090000
END:STANDARD
END:VTIMEZONE
BEGIN:VEVENT
DTSTART;TZID=America/Vancouver:20200119T091500
DTEND;TZID=America/Vancouver:20200119T101500
DTSTAMP:20260424T035919
CREATED:20191212T175919Z
LAST-MODIFIED:20191212T175919Z
UID:406632-1579425300-1579428900@emmanuelcovenant.ca
SUMMARY:Sunday Bible Study & Prayer
DESCRIPTION:
URL:https://emmanuelcovenant.ca/event/sunday-bible-study-prayer-19/
CATEGORIES:Bible Study,Life Together,Prayer
END:VEVENT
BEGIN:VEVENT
DTSTART;TZID=America/Vancouver:20200117T180000
DTEND;TZID=America/Vancouver:20200117T200000
DTSTAMP:20260424T035919
CREATED:20200118T020000Z
LAST-MODIFIED:20200406T183016Z
UID:406490-1579284000-1579291200@emmanuelcovenant.ca
SUMMARY:Men's Bible Study
DESCRIPTION:[column width=”1/1″ last=”true” title=”” title_type=”single” animation=”none” implicit=”true”] \nDinner at 6pm Bible Study at 7pm Please RSVP to debbie@emmanuelcovenant.ca \n[/column]
URL:https://emmanuelcovenant.ca/event/mens-bible-study-88/
CATEGORIES:Bible Study,Men's Ministry
END:VEVENT
BEGIN:VEVENT
DTSTART;TZID=America/Vancouver:20200115T090000
DTEND;TZID=America/Vancouver:20200115T120000
DTSTAMP:20260424T035919
CREATED:20191210T031444Z
LAST-MODIFIED:20191210T031444Z
UID:406577-1579078800-1579089600@emmanuelcovenant.ca
SUMMARY:Ladies' Bible Study
DESCRIPTION:
URL:https://emmanuelcovenant.ca/event/ladies-bible-study-50/
CATEGORIES:Bible Study,Prayer,Womens' Ministry
END:VEVENT
BEGIN:VEVENT
DTSTART;TZID=America/Vancouver:20200112T103000
DTEND;TZID=America/Vancouver:20200112T113000
DTSTAMP:20260424T035919
CREATED:20200112T183000Z
LAST-MODIFIED:20200406T183017Z
UID:406467-1578825000-1578828600@emmanuelcovenant.ca
SUMMARY:Sunday Worship
DESCRIPTION:[column width=”1/1″ last=”true” title=”” title_type=”single” animation=”none” implicit=”true”] \nSermon Series: John \n[/column]
URL:https://emmanuelcovenant.ca/event/sunday-worship-22/
CATEGORIES:Worship
END:VEVENT
BEGIN:VEVENT
DTSTART;TZID=America/Vancouver:20200112T091500
DTEND;TZID=America/Vancouver:20200112T101500
DTSTAMP:20260424T035919
CREATED:20191212T175719Z
LAST-MODIFIED:20191212T175719Z
UID:406630-1578820500-1578824100@emmanuelcovenant.ca
SUMMARY:Sunday Bible Study & Prayer
DESCRIPTION:
URL:https://emmanuelcovenant.ca/event/sunday-bible-study-prayer-18/
CATEGORIES:Bible Study,Life Together,Prayer
END:VEVENT
BEGIN:VEVENT
DTSTART;TZID=America/Vancouver:20200110T180000
DTEND;TZID=America/Vancouver:20200110T200000
DTSTAMP:20260424T035919
CREATED:20200111T020000Z
LAST-MODIFIED:20200406T183017Z
UID:406488-1578679200-1578686400@emmanuelcovenant.ca
SUMMARY:Men's Bible Study
DESCRIPTION:[column width=”1/1″ last=”true” title=”” title_type=”single” animation=”none” implicit=”true”] \nDinner at 6pm Bible Study at 7pm Please RSVP to debbie@emmanuelcovenant.ca \n[/column]
URL:https://emmanuelcovenant.ca/event/mens-bible-study-87/
CATEGORIES:Bible Study,Men's Ministry
END:VEVENT
BEGIN:VEVENT
DTSTART;TZID=America/Vancouver:20200109T180000
DTEND;TZID=America/Vancouver:20200109T200000
DTSTAMP:20260424T035919
CREATED:20200110T020000Z
LAST-MODIFIED:20200406T183017Z
UID:406621-1578592800-1578600000@emmanuelcovenant.ca
SUMMARY:Women's Evening Bible Study
DESCRIPTION:[column width=”1/1″ last=”true” title=”” title_type=”single” animation=”none” implicit=”true”] \nStudy at Jeanie T’s house\, contact the church office for details – office@emmanuelcovenant.ca \n[/column]
URL:https://emmanuelcovenant.ca/event/womens-evening-bible-study/
CATEGORIES:Bible Study,Prayer,Womens' Ministry
END:VEVENT
BEGIN:VEVENT
DTSTART;TZID=America/Vancouver:20200107T123000
DTEND;TZID=America/Vancouver:20200107T140000
DTSTAMP:20260424T035919
CREATED:20200107T203000Z
LAST-MODIFIED:20200406T183017Z
UID:406619-1578400200-1578405600@emmanuelcovenant.ca
SUMMARY:Women's Afternoon Bible Study
DESCRIPTION:[column width=”1/1″ last=”true” title=”” title_type=”single” animation=”none” implicit=”true”] \nStudy at Holly S’s house\, contact the church office for details – office@emmanuelcovenant.ca \n[/column]
URL:https://emmanuelcovenant.ca/event/womens-afternoon-bible-study/
CATEGORIES:Bible Study,Life Together,Womens' Ministry
END:VEVENT
BEGIN:VEVENT
DTSTART;TZID=America/Vancouver:20200105T103000
DTEND;TZID=America/Vancouver:20200105T113000
DTSTAMP:20260424T035919
CREATED:20200105T183000Z
LAST-MODIFIED:20200406T183017Z
UID:406465-1578220200-1578223800@emmanuelcovenant.ca
SUMMARY:Sunday Worship - Communion
DESCRIPTION:[column width=”1/1″ last=”true” title=”” title_type=”single” animation=”none” implicit=”true”] \nSermon Series: John \n[/column]
URL:https://emmanuelcovenant.ca/event/sunday-worship-21/
CATEGORIES:Worship
END:VEVENT
BEGIN:VEVENT
DTSTART;TZID=America/Vancouver:20200105T091500
DTEND;TZID=America/Vancouver:20200105T101500
DTSTAMP:20260424T035919
CREATED:20191210T033606Z
LAST-MODIFIED:20191210T033606Z
UID:406624-1578215700-1578219300@emmanuelcovenant.ca
SUMMARY:Sunday Bible Study & Prayer
DESCRIPTION:
URL:https://emmanuelcovenant.ca/event/sunday-bible-study-prayer-17/
CATEGORIES:Bible Study,Prayer
END:VEVENT
BEGIN:VEVENT
DTSTART;TZID=America/Vancouver:20200105T090000
DTEND;TZID=America/Vancouver:20200105T160000
DTSTAMP:20260424T035919
CREATED:20191112T191039Z
LAST-MODIFIED:20191120T012235Z
UID:406427-1578214800-1578240000@emmanuelcovenant.ca
SUMMARY:Christmas Tree Chipping & Bottle Drive
DESCRIPTION:
URL:https://emmanuelcovenant.ca/event/christmas-tree-chipping-bottle-drive-6/
LOCATION:17029 16 Ave\, Surrey\, BC V3Z 9M5\, Canada
CATEGORIES:Fellowship,Life Together,Outreach,Youth
END:VEVENT
BEGIN:VEVENT
DTSTART;TZID=America/Vancouver:20200104T100000
DTEND;TZID=America/Vancouver:20200104T160000
DTSTAMP:20260424T035919
CREATED:20191112T190910Z
LAST-MODIFIED:20191112T190930Z
UID:406425-1578132000-1578153600@emmanuelcovenant.ca
SUMMARY:Christmas Tree Chipping & Bottle Drive
DESCRIPTION:
URL:https://emmanuelcovenant.ca/event/christmas-tree-chipping-bottle-drive-5/
LOCATION:17029 16 Ave\, Surrey\, BC V3Z 9M5\, Canada
CATEGORIES:Fellowship,Life Together,Outreach,Youth
END:VEVENT
BEGIN:VEVENT
DTSTART;TZID=America/Vancouver:20200103T180000
DTEND;TZID=America/Vancouver:20200103T200000
DTSTAMP:20260424T035919
CREATED:20200104T020000Z
LAST-MODIFIED:20200406T183017Z
UID:406486-1578074400-1578081600@emmanuelcovenant.ca
SUMMARY:Men's Bible Study
DESCRIPTION:[column width=”1/1″ last=”true” title=”” title_type=”single” animation=”none” implicit=”true”] \nDinner at 6pm Bible Study at 7pm Please RSVP to debbie@emmanuelcovenant.ca \n[/column]
URL:https://emmanuelcovenant.ca/event/mens-bible-study-60/
CATEGORIES:Bible Study,Men's Ministry
END:VEVENT
BEGIN:VEVENT
DTSTART;VALUE=DATE:20200101
DTEND;VALUE=DATE:20200102
DTSTAMP:20260424T035919
CREATED:20191209T195703Z
LAST-MODIFIED:20191209T195703Z
UID:406456-1577836800-1577923199@emmanuelcovenant.ca
SUMMARY:New Year's Day!
DESCRIPTION:
URL:https://emmanuelcovenant.ca/event/new-years-day/
END:VEVENT
BEGIN:VEVENT
DTSTART;TZID=America/Vancouver:20191229T103000
DTEND;TZID=America/Vancouver:20191229T113000
DTSTAMP:20260424T035919
CREATED:20191229T183000Z
LAST-MODIFIED:20200406T183017Z
UID:406238-1577615400-1577619000@emmanuelcovenant.ca
SUMMARY:Sunday Worship with guests Kent & Rhonda Egging
DESCRIPTION:[column width=”1/1″ last=”true” title=”” title_type=”single” animation=”none” implicit=”true”] \n[/column]
URL:https://emmanuelcovenant.ca/event/sunday-worship-19/
CATEGORIES:Worship
END:VEVENT
BEGIN:VEVENT
DTSTART;VALUE=DATE:20191225
DTEND;VALUE=DATE:20191226
DTSTAMP:20260424T035919
CREATED:20191209T195548Z
LAST-MODIFIED:20191209T195610Z
UID:406454-1577232000-1577318399@emmanuelcovenant.ca
SUMMARY:Christmas Day!
DESCRIPTION:
URL:https://emmanuelcovenant.ca/event/christmas-day/
CATEGORIES:Life Together,Worship
END:VEVENT
BEGIN:VEVENT
DTSTART;TZID=America/Vancouver:20191224T170000
DTEND;TZID=America/Vancouver:20191224T180000
DTSTAMP:20260424T035919
CREATED:20191225T010000Z
LAST-MODIFIED:20200406T183017Z
UID:406240-1577206800-1577210400@emmanuelcovenant.ca
SUMMARY:Christmas Eve Service
DESCRIPTION:[column parallax_bg=”disabled” parallax_bg_inertia=”-0.2″ extended=”” extended_padding=”1″ background_color=”” background_image=”” background_repeat=”” background_position=”” background_size=”auto” background_attachment=”” hide_bg_lowres=”” background_video=”” vertical_padding_top=”0″ vertical_padding_bottom=”0″ more_link=”” more_text=”” left_border=”transparent” class=”” id=”” title=”” title_type=”single” animation=”none” width=”1/1″ last=”true”] \n[/column]
URL:https://emmanuelcovenant.ca/event/christmas-eve-service-5/
CATEGORIES:Worship
ATTACH;FMTTYPE=image/png:https://emmanuelcovenant.ca/wp-content/uploads/2019/12/With-Us-Featured.png
END:VEVENT
BEGIN:VEVENT
DTSTART;TZID=America/Vancouver:20191222T103000
DTEND;TZID=America/Vancouver:20191222T113000
DTSTAMP:20260424T035919
CREATED:20191222T183000Z
LAST-MODIFIED:20200406T183017Z
UID:406236-1577010600-1577014200@emmanuelcovenant.ca
SUMMARY:Sunday Worship
DESCRIPTION:[column width=”1/1″ last=”true” title=”” title_type=”single” animation=”none” implicit=”true”] \nSeries: With Us \n[/column]
URL:https://emmanuelcovenant.ca/event/sunday-worship-18/
CATEGORIES:Worship
ATTACH;FMTTYPE=image/png:https://emmanuelcovenant.ca/wp-content/uploads/2019/12/With-Us-Featured.png
END:VEVENT
BEGIN:VEVENT
DTSTART;TZID=America/Vancouver:20191222T091500
DTEND;TZID=America/Vancouver:20191222T101500
DTSTAMP:20260424T035919
CREATED:20191222T171500Z
LAST-MODIFIED:20200406T183018Z
UID:406197-1577006100-1577009700@emmanuelcovenant.ca
SUMMARY:Sunday Bible Study & Prayer
DESCRIPTION:[column width=”1/1″ last=”true” title=”” title_type=”single” animation=”none” implicit=”true”] \n  \n[/column]
URL:https://emmanuelcovenant.ca/event/sunday-bible-study-prayer-16/
CATEGORIES:Bible Study,Life Together,Prayer
END:VEVENT
BEGIN:VEVENT
DTSTART;TZID=America/Vancouver:20191220T180000
DTEND;TZID=America/Vancouver:20191220T200000
DTSTAMP:20260424T035919
CREATED:20191221T020000Z
LAST-MODIFIED:20200406T183018Z
UID:406157-1576864800-1576872000@emmanuelcovenant.ca
SUMMARY:Men's Bible Study
DESCRIPTION:[column width=”1/1″ last=”true” title=”” title_type=”single” animation=”none” implicit=”true”] \nDinner at 6pm \nBible Study at 7pm \nPlease RSVP to debbie@emmanuelcovenant.ca \n[/column]
URL:https://emmanuelcovenant.ca/event/mens-bible-study-85/
CATEGORIES:Bible Study,Men's Ministry
END:VEVENT
BEGIN:VEVENT
DTSTART;TZID=America/Vancouver:20191215T103000
DTEND;TZID=America/Vancouver:20191215T113000
DTSTAMP:20260424T035919
CREATED:20191215T183000Z
LAST-MODIFIED:20200406T183018Z
UID:406460-1576405800-1576409400@emmanuelcovenant.ca
SUMMARY:Sunday Worship
DESCRIPTION:[column width=”1/1″ last=”true” title=”” title_type=”single” animation=”none” implicit=”true”] \nSeries: With Us \n[/column]
URL:https://emmanuelcovenant.ca/event/sunday-worship-20/
CATEGORIES:Worship
ATTACH;FMTTYPE=image/png:https://emmanuelcovenant.ca/wp-content/uploads/2019/12/With-Us-Featured.png
END:VEVENT
BEGIN:VEVENT
DTSTART;TZID=America/Vancouver:20191215T091500
DTEND;TZID=America/Vancouver:20191215T101500
DTSTAMP:20260424T035919
CREATED:20191215T171500Z
LAST-MODIFIED:20200406T183018Z
UID:406195-1576401300-1576404900@emmanuelcovenant.ca
SUMMARY:Sunday Bible Study & Prayer
DESCRIPTION:[column width=”1/1″ last=”true” title=”” title_type=”single” animation=”none” implicit=”true”] \n  \n[/column]
URL:https://emmanuelcovenant.ca/event/sunday-bible-study-prayer-15/
CATEGORIES:Bible Study,Life Together,Prayer
END:VEVENT
BEGIN:VEVENT
DTSTART;TZID=America/Vancouver:20191213T180000
DTEND;TZID=America/Vancouver:20191213T200000
DTSTAMP:20260424T035919
CREATED:20191214T020000Z
LAST-MODIFIED:20200406T183018Z
UID:406155-1576260000-1576267200@emmanuelcovenant.ca
SUMMARY:Men's Bible Study
DESCRIPTION:[column width=”1/1″ last=”true” title=”” title_type=”single” animation=”none” implicit=”true”] \nDinner at 6pm \nBible Study at 7pm \nPlease RSVP to debbie@emmanuelcovenant.ca \n[/column]
URL:https://emmanuelcovenant.ca/event/mens-bible-study-84/
CATEGORIES:Bible Study,Men's Ministry
END:VEVENT
BEGIN:VEVENT
DTSTART;TZID=America/Vancouver:20191208T103000
DTEND;TZID=America/Vancouver:20191208T113000
DTSTAMP:20260424T035919
CREATED:20191208T183000Z
LAST-MODIFIED:20200406T183018Z
UID:406234-1575801000-1575804600@emmanuelcovenant.ca
SUMMARY:Sunday Worship
DESCRIPTION:[column width=”1/1″ last=”true” title=”” title_type=”single” animation=”none” implicit=”true”] \nSeries: With Us \n[/column]
URL:https://emmanuelcovenant.ca/event/sunday-worship-17/
CATEGORIES:Worship
ATTACH;FMTTYPE=image/png:https://emmanuelcovenant.ca/wp-content/uploads/2019/12/With-Us-Featured.png
END:VEVENT
BEGIN:VEVENT
DTSTART;TZID=America/Vancouver:20191208T091500
DTEND;TZID=America/Vancouver:20191208T101500
DTSTAMP:20260424T035919
CREATED:20191208T171500Z
LAST-MODIFIED:20200406T183018Z
UID:406193-1575796500-1575800100@emmanuelcovenant.ca
SUMMARY:Sunday Bible Study & Prayer
DESCRIPTION:[column width=”1/1″ last=”true” title=”” title_type=”single” animation=”none” implicit=”true”] \n  \n[/column]
URL:https://emmanuelcovenant.ca/event/sunday-bible-study-prayer-14/
CATEGORIES:Bible Study,Life Together,Prayer
END:VEVENT
BEGIN:VEVENT
DTSTART;TZID=America/Vancouver:20191207T150000
DTEND;TZID=America/Vancouver:20191207T183000
DTSTAMP:20260424T035919
CREATED:20191207T230000Z
LAST-MODIFIED:20200406T183018Z
UID:406334-1575730800-1575743400@emmanuelcovenant.ca
SUMMARY:Christmas Event!
DESCRIPTION:[column width=”1/1″ last=”true” title=”” title_type=”single” animation=”none” implicit=”true”] \n[/column]
URL:https://emmanuelcovenant.ca/event/christmas-event/
LOCATION:17029 16 Ave\, Surrey\, BC V3Z 9M5\, Canada
CATEGORIES:Fellowship,Life Together,Outreach
END:VEVENT
BEGIN:VEVENT
DTSTART;TZID=America/Vancouver:20191206T180000
DTEND;TZID=America/Vancouver:20191206T200000
DTSTAMP:20260424T035919
CREATED:20191207T020000Z
LAST-MODIFIED:20200406T183020Z
UID:406153-1575655200-1575662400@emmanuelcovenant.ca
SUMMARY:Men's Bible Study
DESCRIPTION:[column width=”1/1″ last=”true” title=”” title_type=”single” animation=”none” implicit=”true”] \nDinner at 6pm \nBible Study at 7pm \nPlease RSVP to debbie@emmanuelcovenant.ca \n[/column]
URL:https://emmanuelcovenant.ca/event/mens-bible-study-83/
CATEGORIES:Bible Study,Men's Ministry
END:VEVENT
BEGIN:VEVENT
DTSTART;TZID=America/Vancouver:20191204T093000
DTEND;TZID=America/Vancouver:20191204T120000
DTSTAMP:20260424T035919
CREATED:20191204T173000Z
LAST-MODIFIED:20200406T183020Z
UID:406304-1575451800-1575460800@emmanuelcovenant.ca
SUMMARY:Ladies' Bible Study
DESCRIPTION:[column width=”1/1″ last=”true” title=”” title_type=”single” animation=”none” implicit=”true”] \n  \n[/column]
URL:https://emmanuelcovenant.ca/event/ladies-bible-study-49/
LOCATION:Emmanuel Evangelical Covenant Church\, 17029 16 Ave\, Surrey\, BC\, V3Z9M5\, Canada
CATEGORIES:Bible Study,Life Together,Prayer,Womens' Ministry
END:VEVENT
BEGIN:VEVENT
DTSTART;TZID=America/Vancouver:20191201T103000
DTEND;TZID=America/Vancouver:20191201T113000
DTSTAMP:20260424T035919
CREATED:20191201T183000Z
LAST-MODIFIED:20200406T183020Z
UID:406231-1575196200-1575199800@emmanuelcovenant.ca
SUMMARY:Sunday Worship
DESCRIPTION:[column width=”1/1″ last=”true” title=”” title_type=”single” animation=”none” implicit=”true”] \nSeries: With Us \nGuest Preacher: Rev. Tim Fretheim \n[/column]
URL:https://emmanuelcovenant.ca/event/sunday-worship-16/
CATEGORIES:Worship
END:VEVENT
BEGIN:VEVENT
DTSTART;TZID=America/Vancouver:20191201T091500
DTEND;TZID=America/Vancouver:20191201T101500
DTSTAMP:20260424T035919
CREATED:20191201T171500Z
LAST-MODIFIED:20200406T183020Z
UID:406191-1575191700-1575195300@emmanuelcovenant.ca
SUMMARY:Sunday Bible Study & Prayer
DESCRIPTION:[column width=”1/1″ last=”true” title=”” title_type=”single” animation=”none” implicit=”true”] \n  \n[/column]
URL:https://emmanuelcovenant.ca/event/sunday-bible-study-prayer-13/
CATEGORIES:Bible Study,Life Together,Prayer
END:VEVENT
END:VCALENDAR