BEGIN:VCALENDAR
VERSION:2.0
PRODID:-//Emmanuel Covenant Church | South Surrey, BC - ECPv6.15.20//NONSGML v1.0//EN
CALSCALE:GREGORIAN
METHOD:PUBLISH
X-ORIGINAL-URL:https://emmanuelcovenant.ca
X-WR-CALDESC:Events for Emmanuel Covenant Church | South Surrey, BC
REFRESH-INTERVAL;VALUE=DURATION:PT1H
X-Robots-Tag:noindex
X-PUBLISHED-TTL:PT1H
BEGIN:VTIMEZONE
TZID:America/Vancouver
BEGIN:DAYLIGHT
TZOFFSETFROM:-0800
TZOFFSETTO:-0700
TZNAME:PDT
DTSTART:20190310T100000
END:DAYLIGHT
BEGIN:STANDARD
TZOFFSETFROM:-0700
TZOFFSETTO:-0800
TZNAME:PST
DTSTART:20191103T090000
END:STANDARD
BEGIN:DAYLIGHT
TZOFFSETFROM:-0800
TZOFFSETTO:-0700
TZNAME:PDT
DTSTART:20200308T100000
END:DAYLIGHT
BEGIN:STANDARD
TZOFFSETFROM:-0700
TZOFFSETTO:-0800
TZNAME:PST
DTSTART:20201101T090000
END:STANDARD
BEGIN:DAYLIGHT
TZOFFSETFROM:-0800
TZOFFSETTO:-0700
TZNAME:PDT
DTSTART:20210314T100000
END:DAYLIGHT
BEGIN:STANDARD
TZOFFSETFROM:-0700
TZOFFSETTO:-0800
TZNAME:PST
DTSTART:20211107T090000
END:STANDARD
END:VTIMEZONE
BEGIN:VEVENT
DTSTART;TZID=America/Vancouver:20200417T180000
DTEND;TZID=America/Vancouver:20200417T200000
DTSTAMP:20260423T224943
CREATED:20200418T010000Z
LAST-MODIFIED:20200406T183012Z
UID:406514-1587146400-1587153600@emmanuelcovenant.ca
SUMMARY:Men's Bible Study
DESCRIPTION:[column width=”1/1″ last=”true” title=”” title_type=”single” animation=”none” implicit=”true”] \nDinner at 6pm Bible Study at 7pm Please RSVP to debbie@emmanuelcovenant.ca \n[/column]
URL:https://emmanuelcovenant.ca/event/mens-bible-study-106/
CATEGORIES:Bible Study,Men's Ministry
END:VEVENT
BEGIN:VEVENT
DTSTART;TZID=America/Vancouver:20200415T093000
DTEND;TZID=America/Vancouver:20200415T120000
DTSTAMP:20260423T224943
CREATED:20191210T032341Z
LAST-MODIFIED:20191210T032341Z
UID:406605-1586943000-1586952000@emmanuelcovenant.ca
SUMMARY:Ladies' Bible Study
DESCRIPTION:
URL:https://emmanuelcovenant.ca/event/ladies-bible-study-68/
CATEGORIES:Bible Study,Prayer,Womens' Ministry
END:VEVENT
BEGIN:VEVENT
DTSTART;TZID=America/Vancouver:20200412T103000
DTEND;TZID=America/Vancouver:20200412T113000
DTSTAMP:20260423T224943
CREATED:20200412T173000Z
LAST-MODIFIED:20200406T183012Z
UID:406546-1586687400-1586691000@emmanuelcovenant.ca
SUMMARY:Easter Sunday Worship!
DESCRIPTION:[column width=”1/1″ last=”true” title=”” title_type=”single” animation=”none” implicit=”true”] \nSermon Series: Resurrection Sunday! \n[/column]
URL:https://emmanuelcovenant.ca/event/easter-sunday-worship/
CATEGORIES:Worship
END:VEVENT
BEGIN:VEVENT
DTSTART;VALUE=DATE:20200410
DTEND;VALUE=DATE:20200411
DTSTAMP:20260423T224943
CREATED:20200410T070000Z
LAST-MODIFIED:20200406T183012Z
UID:406552-1586476800-1586563199@emmanuelcovenant.ca
SUMMARY:Good Friday Service
DESCRIPTION:Emmanuel at Home Resource for Good Friday
URL:https://emmanuelcovenant.ca/event/good-friday-service-5/
LOCATION:at home
CATEGORIES:Worship
END:VEVENT
BEGIN:VEVENT
DTSTART;TZID=America/Vancouver:20200405T103000
DTEND;TZID=America/Vancouver:20200405T113000
DTSTAMP:20260423T224943
CREATED:20200405T173000Z
LAST-MODIFIED:20200406T183012Z
UID:406544-1586082600-1586086200@emmanuelcovenant.ca
SUMMARY:Sunday Worship - Communion
DESCRIPTION:[column width=”1/1″ last=”true” title=”” title_type=”single” animation=”none” implicit=”true”] \nSermon Series: Lent – Palm Sunday \n[/column]
URL:https://emmanuelcovenant.ca/event/sunday-worship-communion-3/
CATEGORIES:Worship
END:VEVENT
BEGIN:VEVENT
DTSTART;TZID=America/Vancouver:20200405T091500
DTEND;TZID=America/Vancouver:20200405T101500
DTSTAMP:20260423T224943
CREATED:20191212T183532Z
LAST-MODIFIED:20191212T183532Z
UID:406655-1586078100-1586081700@emmanuelcovenant.ca
SUMMARY:Sunday Bible Study & Prayer
DESCRIPTION:
URL:https://emmanuelcovenant.ca/event/sunday-bible-study-prayer-30/
CATEGORIES:Bible Study,Life Together,Prayer
END:VEVENT
BEGIN:VEVENT
DTSTART;TZID=America/Vancouver:20200329T103000
DTEND;TZID=America/Vancouver:20200329T113000
DTSTAMP:20260423T224943
CREATED:20200329T173000Z
LAST-MODIFIED:20200406T183013Z
UID:406542-1585477800-1585481400@emmanuelcovenant.ca
SUMMARY:Sunday Worship
DESCRIPTION:[column width=”1/1″ last=”true” title=”” title_type=”single” animation=”none” implicit=”true”] \nSermon Series: Lent \n[/column]
URL:https://emmanuelcovenant.ca/event/sunday-worship-31/
CATEGORIES:Worship
END:VEVENT
BEGIN:VEVENT
DTSTART;TZID=America/Vancouver:20200322T103000
DTEND;TZID=America/Vancouver:20200322T113000
DTSTAMP:20260423T224943
CREATED:20200322T173000Z
LAST-MODIFIED:20200406T183013Z
UID:406540-1584873000-1584876600@emmanuelcovenant.ca
SUMMARY:Sunday Worship
DESCRIPTION:Here’s a link to our Emmanuel at Home service for March 22
URL:https://emmanuelcovenant.ca/event/sunday-worship-30/
CATEGORIES:Worship
END:VEVENT
BEGIN:VEVENT
DTSTART;TZID=America/Vancouver:20200315T103000
DTEND;TZID=America/Vancouver:20200315T113000
DTSTAMP:20260423T224943
CREATED:20200315T173000Z
LAST-MODIFIED:20200406T183014Z
UID:406538-1584268200-1584271800@emmanuelcovenant.ca
SUMMARY:Sunday Worship
DESCRIPTION:Here is the link for Emmanuel at Home worship for March 15
URL:https://emmanuelcovenant.ca/event/sunday-worship-29/
CATEGORIES:Worship
END:VEVENT
BEGIN:VEVENT
DTSTART;TZID=America/Vancouver:20200313T180000
DTEND;TZID=America/Vancouver:20200313T200000
DTSTAMP:20260423T224943
CREATED:20200314T010000Z
LAST-MODIFIED:20200406T183014Z
UID:406506-1584122400-1584129600@emmanuelcovenant.ca
SUMMARY:Men's Bible Study
DESCRIPTION:[column width=”1/1″ last=”true” title=”” title_type=”single” animation=”none” implicit=”true”] \nDinner at 6pm Bible Study at 7pm Please RSVP to debbie@emmanuelcovenant.ca \n[/column]
URL:https://emmanuelcovenant.ca/event/mens-bible-study-100/
CATEGORIES:Bible Study,Men's Ministry
END:VEVENT
BEGIN:VEVENT
DTSTART;TZID=America/Vancouver:20200308T103000
DTEND;TZID=America/Vancouver:20200308T113000
DTSTAMP:20260423T224943
CREATED:20200308T173000Z
LAST-MODIFIED:20200406T183015Z
UID:406536-1583663400-1583667000@emmanuelcovenant.ca
SUMMARY:Sunday Worship
DESCRIPTION:[column width=”1/1″ last=”true” title=”” title_type=”single” animation=”none” implicit=”true”] \nSermon Series: Lent \n[/column]
URL:https://emmanuelcovenant.ca/event/sunday-worship-28/
CATEGORIES:Worship
END:VEVENT
BEGIN:VEVENT
DTSTART;TZID=America/Vancouver:20200308T091500
DTEND;TZID=America/Vancouver:20200308T101500
DTSTAMP:20260423T224943
CREATED:20191212T181251Z
LAST-MODIFIED:20191212T181251Z
UID:406646-1583658900-1583662500@emmanuelcovenant.ca
SUMMARY:Sunday Bible Study & Prayer
DESCRIPTION:
URL:https://emmanuelcovenant.ca/event/sunday-bible-study-prayer-26/
CATEGORIES:Bible Study,Life Together,Prayer
END:VEVENT
BEGIN:VEVENT
DTSTART;TZID=America/Vancouver:20200306T180000
DTEND;TZID=America/Vancouver:20200306T200000
DTSTAMP:20260423T224943
CREATED:20200307T020000Z
LAST-MODIFIED:20200406T183015Z
UID:406504-1583517600-1583524800@emmanuelcovenant.ca
SUMMARY:Men's Bible Study
DESCRIPTION:[column width=”1/1″ last=”true” title=”” title_type=”single” animation=”none” implicit=”true”] \nDinner at 6pm Bible Study at 7pm Please RSVP to debbie@emmanuelcovenant.ca \n[/column]
URL:https://emmanuelcovenant.ca/event/mens-bible-study-99/
CATEGORIES:Bible Study,Men's Ministry
END:VEVENT
BEGIN:VEVENT
DTSTART;TZID=America/Vancouver:20200304T093000
DTEND;TZID=America/Vancouver:20200304T120000
DTSTAMP:20260423T224943
CREATED:20200304T173000Z
LAST-MODIFIED:20200406T183015Z
UID:406593-1583314200-1583323200@emmanuelcovenant.ca
SUMMARY:Ladies' Bible Study
DESCRIPTION:[column width=”1/1″ last=”true” title=”” title_type=”single” animation=”none” implicit=”true”] \n[/column]
URL:https://emmanuelcovenant.ca/event/ladies-bible-study-58/
CATEGORIES:Bible Study,Prayer,Womens' Ministry
END:VEVENT
BEGIN:VEVENT
DTSTART;TZID=America/Vancouver:20200301T103000
DTEND;TZID=America/Vancouver:20200301T113000
DTSTAMP:20260423T224943
CREATED:20200301T183000Z
LAST-MODIFIED:20200406T183015Z
UID:406534-1583058600-1583062200@emmanuelcovenant.ca
SUMMARY:Sunday Worship - Communion
DESCRIPTION:[column width=”1/1″ last=”true” title=”” title_type=”single” animation=”none” implicit=”true”] \nSermon Series: John \n[/column]
URL:https://emmanuelcovenant.ca/event/sunday-worship-communion-2/
CATEGORIES:Worship
END:VEVENT
BEGIN:VEVENT
DTSTART;TZID=America/Vancouver:20200301T091500
DTEND;TZID=America/Vancouver:20200301T101500
DTSTAMP:20260423T224943
CREATED:20191212T180719Z
LAST-MODIFIED:20191212T180719Z
UID:406644-1583054100-1583057700@emmanuelcovenant.ca
SUMMARY:Sunday Bible Study & Prayer
DESCRIPTION:
URL:https://emmanuelcovenant.ca/event/sunday-bible-study-prayer-25/
CATEGORIES:Bible Study,Life Together,Prayer
END:VEVENT
BEGIN:VEVENT
DTSTART;TZID=America/Vancouver:20200228T180000
DTEND;TZID=America/Vancouver:20200228T200000
DTSTAMP:20260423T224943
CREATED:20200229T020000Z
LAST-MODIFIED:20200406T183015Z
UID:406502-1582912800-1582920000@emmanuelcovenant.ca
SUMMARY:Men's Bible Study
DESCRIPTION:[column width=”1/1″ last=”true” title=”” title_type=”single” animation=”none” implicit=”true”] \nDinner at 6pm Bible Study at 7pm Please RSVP to debbie@emmanuelcovenant.ca \n[/column]
URL:https://emmanuelcovenant.ca/event/mens-bible-study-97/
CATEGORIES:Bible Study,Men's Ministry
END:VEVENT
BEGIN:VEVENT
DTSTART;TZID=America/Vancouver:20200226T093000
DTEND;TZID=America/Vancouver:20200226T120000
DTSTAMP:20260423T224943
CREATED:20191210T031918Z
LAST-MODIFIED:20191210T031918Z
UID:406591-1582709400-1582718400@emmanuelcovenant.ca
SUMMARY:Ladies' Bible Study
DESCRIPTION:
URL:https://emmanuelcovenant.ca/event/ladies-bible-study-57/
CATEGORIES:Bible Study,Prayer,Womens' Ministry
END:VEVENT
BEGIN:VEVENT
DTSTART;TZID=America/Vancouver:20200223T103000
DTEND;TZID=America/Vancouver:20200223T113000
DTSTAMP:20260423T224943
CREATED:20200223T183000Z
LAST-MODIFIED:20200406T183016Z
UID:406484-1582453800-1582457400@emmanuelcovenant.ca
SUMMARY:Sunday Worship
DESCRIPTION:[column width=”1/1″ last=”true” title=”” title_type=”single” animation=”none” implicit=”true”] \nSermon Series: John \n[/column]
URL:https://emmanuelcovenant.ca/event/sunday-worship-27/
CATEGORIES:Worship
END:VEVENT
BEGIN:VEVENT
DTSTART;TZID=America/Vancouver:20200223T091500
DTEND;TZID=America/Vancouver:20200223T101500
DTSTAMP:20260423T224943
CREATED:20191212T180633Z
LAST-MODIFIED:20191212T180633Z
UID:406642-1582449300-1582452900@emmanuelcovenant.ca
SUMMARY:Sunday Bible Study & Prayer
DESCRIPTION:
URL:https://emmanuelcovenant.ca/event/sunday-bible-study-prayer-24/
CATEGORIES:Bible Study,Life Together,Prayer
END:VEVENT
BEGIN:VEVENT
DTSTART;TZID=America/Vancouver:20200221T180000
DTEND;TZID=America/Vancouver:20200221T200000
DTSTAMP:20260423T224943
CREATED:20200222T020000Z
LAST-MODIFIED:20200406T183016Z
UID:406500-1582308000-1582315200@emmanuelcovenant.ca
SUMMARY:Men's Bible Study
DESCRIPTION:[column width=”1/1″ last=”true” title=”” title_type=”single” animation=”none” implicit=”true”] \nDinner at 6pm Bible Study at 7pm Please RSVP to debbie@emmanuelcovenant.ca \n[/column]
URL:https://emmanuelcovenant.ca/event/mens-bible-study-96/
CATEGORIES:Bible Study,Men's Ministry
END:VEVENT
BEGIN:VEVENT
DTSTART;TZID=America/Vancouver:20200219T093000
DTEND;TZID=America/Vancouver:20200219T120000
DTSTAMP:20260423T224943
CREATED:20191210T031851Z
LAST-MODIFIED:20191210T031851Z
UID:406589-1582104600-1582113600@emmanuelcovenant.ca
SUMMARY:Ladies' Bible Study
DESCRIPTION:
URL:https://emmanuelcovenant.ca/event/ladies-bible-study-56/
CATEGORIES:Bible Study,Prayer,Womens' Ministry
END:VEVENT
BEGIN:VEVENT
DTSTART;TZID=America/Vancouver:20200216T103000
DTEND;TZID=America/Vancouver:20200216T113000
DTSTAMP:20260423T224943
CREATED:20200216T183000Z
LAST-MODIFIED:20200406T183016Z
UID:406482-1581849000-1581852600@emmanuelcovenant.ca
SUMMARY:Sunday Worship
DESCRIPTION:[column width=”1/1″ last=”true” title=”” title_type=”single” animation=”none” implicit=”true”] \nSermon Series: John \n[/column]
URL:https://emmanuelcovenant.ca/event/sunday-worship-26/
CATEGORIES:Worship
END:VEVENT
BEGIN:VEVENT
DTSTART;TZID=America/Vancouver:20200216T091500
DTEND;TZID=America/Vancouver:20200216T101500
DTSTAMP:20260423T224943
CREATED:20191212T180528Z
LAST-MODIFIED:20191212T180528Z
UID:406640-1581844500-1581848100@emmanuelcovenant.ca
SUMMARY:Sunday Bible Study & Prayer
DESCRIPTION:
URL:https://emmanuelcovenant.ca/event/sunday-bible-study-prayer-23/
CATEGORIES:Bible Study,Life Together,Prayer
END:VEVENT
BEGIN:VEVENT
DTSTART;TZID=America/Vancouver:20200214T180000
DTEND;TZID=America/Vancouver:20200214T200000
DTSTAMP:20260423T224943
CREATED:20200215T020000Z
LAST-MODIFIED:20200406T183016Z
UID:406498-1581703200-1581710400@emmanuelcovenant.ca
SUMMARY:Men's Bible Study
DESCRIPTION:[column width=”1/1″ last=”true” title=”” title_type=”single” animation=”none” implicit=”true”] \nDinner at 6pm Bible Study at 7pm Please RSVP to debbie@emmanuelcovenant.ca \n[/column]
URL:https://emmanuelcovenant.ca/event/mens-bible-study-94/
CATEGORIES:Bible Study,Men's Ministry
END:VEVENT
BEGIN:VEVENT
DTSTART;TZID=America/Vancouver:20200212T093000
DTEND;TZID=America/Vancouver:20200212T120000
DTSTAMP:20260423T224943
CREATED:20191210T031759Z
LAST-MODIFIED:20191210T031759Z
UID:406587-1581499800-1581508800@emmanuelcovenant.ca
SUMMARY:Ladies' Bible Study
DESCRIPTION:
URL:https://emmanuelcovenant.ca/event/ladies-bible-study-55/
CATEGORIES:Bible Study,Prayer,Womens' Ministry
END:VEVENT
BEGIN:VEVENT
DTSTART;TZID=America/Vancouver:20200209T103000
DTEND;TZID=America/Vancouver:20200209T113000
DTSTAMP:20260423T224943
CREATED:20200209T183000Z
LAST-MODIFIED:20200406T183016Z
UID:406480-1581244200-1581247800@emmanuelcovenant.ca
SUMMARY:Sunday Worship
DESCRIPTION:[column width=”1/1″ last=”true” title=”” title_type=”single” animation=”none” implicit=”true”] \nSermon Series: John \n[/column]
URL:https://emmanuelcovenant.ca/event/sunday-worship-25/
CATEGORIES:Worship
END:VEVENT
BEGIN:VEVENT
DTSTART;TZID=America/Vancouver:20200209T091500
DTEND;TZID=America/Vancouver:20200209T101500
DTSTAMP:20260423T224943
CREATED:20191212T180246Z
LAST-MODIFIED:20191212T180246Z
UID:406638-1581239700-1581243300@emmanuelcovenant.ca
SUMMARY:Sunday Bible Study & Prayer
DESCRIPTION:
URL:https://emmanuelcovenant.ca/event/sunday-bible-study-prayer-22/
CATEGORIES:Bible Study,Life Together,Prayer
END:VEVENT
BEGIN:VEVENT
DTSTART;TZID=America/Vancouver:20200208T190000
DTEND;TZID=America/Vancouver:20200208T210000
DTSTAMP:20260423T224943
CREATED:20200120T192646Z
LAST-MODIFIED:20200120T192646Z
UID:406713-1581188400-1581195600@emmanuelcovenant.ca
SUMMARY:Games Night!
DESCRIPTION:
URL:https://emmanuelcovenant.ca/event/games-night-4/
LOCATION:Old’s Home – Contact the Church Office for Address
CATEGORIES:Life Together
END:VEVENT
BEGIN:VEVENT
DTSTART;TZID=America/Vancouver:20200207T180000
DTEND;TZID=America/Vancouver:20200207T200000
DTSTAMP:20260423T224943
CREATED:20200208T020000Z
LAST-MODIFIED:20200406T183016Z
UID:406496-1581098400-1581105600@emmanuelcovenant.ca
SUMMARY:Men's Bible Study
DESCRIPTION:[column width=”1/1″ last=”true” title=”” title_type=”single” animation=”none” implicit=”true”] \nDinner at 6pm Bible Study at 7pm Please RSVP to debbie@emmanuelcovenant.ca \n[/column]
URL:https://emmanuelcovenant.ca/event/mens-bible-study-93/
CATEGORIES:Bible Study,Men's Ministry
END:VEVENT
END:VCALENDAR