BEGIN:VCALENDAR
VERSION:2.0
PRODID:-//Emmanuel Covenant Church | South Surrey, BC - ECPv6.15.20//NONSGML v1.0//EN
CALSCALE:GREGORIAN
METHOD:PUBLISH
X-ORIGINAL-URL:https://emmanuelcovenant.ca
X-WR-CALDESC:Events for Emmanuel Covenant Church | South Surrey, BC
REFRESH-INTERVAL;VALUE=DURATION:PT1H
X-Robots-Tag:noindex
X-PUBLISHED-TTL:PT1H
BEGIN:VTIMEZONE
TZID:America/Vancouver
BEGIN:DAYLIGHT
TZOFFSETFROM:-0800
TZOFFSETTO:-0700
TZNAME:PDT
DTSTART:20160313T100000
END:DAYLIGHT
BEGIN:STANDARD
TZOFFSETFROM:-0700
TZOFFSETTO:-0800
TZNAME:PST
DTSTART:20161106T090000
END:STANDARD
BEGIN:DAYLIGHT
TZOFFSETFROM:-0800
TZOFFSETTO:-0700
TZNAME:PDT
DTSTART:20170312T100000
END:DAYLIGHT
BEGIN:STANDARD
TZOFFSETFROM:-0700
TZOFFSETTO:-0800
TZNAME:PST
DTSTART:20171105T090000
END:STANDARD
BEGIN:DAYLIGHT
TZOFFSETFROM:-0800
TZOFFSETTO:-0700
TZNAME:PDT
DTSTART:20180311T100000
END:DAYLIGHT
BEGIN:STANDARD
TZOFFSETFROM:-0700
TZOFFSETTO:-0800
TZNAME:PST
DTSTART:20181104T090000
END:STANDARD
END:VTIMEZONE
BEGIN:VEVENT
DTSTART;TZID=America/Vancouver:20170425T190000
DTEND;TZID=America/Vancouver:20170425T203000
DTSTAMP:20260425T183028
CREATED:20170426T020000Z
LAST-MODIFIED:20200406T183144Z
UID:400760-1493146800-1493152200@emmanuelcovenant.ca
SUMMARY:Prayer Meeting
DESCRIPTION:All are welcome to attend this time of prayer.
URL:https://emmanuelcovenant.ca/event/prayer-meeting-147/
LOCATION:Contact Church Administrator for Address
END:VEVENT
BEGIN:VEVENT
DTSTART;TZID=America/Vancouver:20170423T103000
DTEND;TZID=America/Vancouver:20170423T233000
DTSTAMP:20260425T183028
CREATED:20160120T031928Z
LAST-MODIFIED:20160120T031928Z
UID:400758-1492943400-1492990200@emmanuelcovenant.ca
SUMMARY:Worship Service
DESCRIPTION:
URL:https://emmanuelcovenant.ca/event/worship-service-142/
LOCATION:17029 16 Ave\, Surrey\, BC V3Z 9M5\, Canada
END:VEVENT
BEGIN:VEVENT
DTSTART;TZID=America/Vancouver:20170423T100000
DTEND;TZID=America/Vancouver:20170423T102000
DTSTAMP:20260425T183028
CREATED:20170423T170000Z
LAST-MODIFIED:20200406T183144Z
UID:400755-1492941600-1492942800@emmanuelcovenant.ca
SUMMARY:Family Circle
DESCRIPTION:Family Circle is our time of prayer before each worship service. All are welcome to attend. This group meets in the Prayer Room at ECC.
URL:https://emmanuelcovenant.ca/event/family-circle-146/
LOCATION:17029 16 Ave\, Surrey\, BC V3Z 9M5\, Canada
END:VEVENT
BEGIN:VEVENT
DTSTART;TZID=America/Vancouver:20170421T180000
DTEND;TZID=America/Vancouver:20170421T200000
DTSTAMP:20260425T183028
CREATED:20170422T010000Z
LAST-MODIFIED:20200406T183144Z
UID:400749-1492797600-1492804800@emmanuelcovenant.ca
SUMMARY:Mens' Bible Study
DESCRIPTION:This is our weekly men’s Bible study. Men of all ages are welcome to attend! \nDinner is provided (for small donation) at 6:00 pm\nBible study begins at 7:00 pm \n(If you’re interested in small groups or Bible studies that meet other times during the week\, please contact the Church Administrator).
URL:https://emmanuelcovenant.ca/event/mens-bible-study-142/
LOCATION:17029 16 Ave\, Surrey\, BC V3Z 9M5\, Canada
END:VEVENT
BEGIN:VEVENT
DTSTART;TZID=America/Vancouver:20170419T093000
DTEND;TZID=America/Vancouver:20170419T120000
DTSTAMP:20260425T183028
CREATED:20170419T163000Z
LAST-MODIFIED:20200406T183144Z
UID:400743-1492594200-1492603200@emmanuelcovenant.ca
SUMMARY:Ladies Bible Study
DESCRIPTION:This is our weekly women’s Bible study. Women of all ages are welcome to attend!  \n(If you’re interested in small groups or Bible studies that meet other times during the week\, please contact the Church Administrator).
URL:https://emmanuelcovenant.ca/event/ladies-bible-study-140/
LOCATION:17029 16 Ave\, Surrey\, BC V3Z 9M5\, Canada
END:VEVENT
BEGIN:VEVENT
DTSTART;TZID=America/Vancouver:20170418T190000
DTEND;TZID=America/Vancouver:20170418T203000
DTSTAMP:20260425T183028
CREATED:20170419T020000Z
LAST-MODIFIED:20200406T183144Z
UID:400740-1492542000-1492547400@emmanuelcovenant.ca
SUMMARY:Prayer Meeting
DESCRIPTION:All are welcome to attend this time of prayer.
URL:https://emmanuelcovenant.ca/event/prayer-meeting-144/
LOCATION:Contact Church Administrator for Address
END:VEVENT
BEGIN:VEVENT
DTSTART;TZID=America/Vancouver:20170416T103000
DTEND;TZID=America/Vancouver:20170416T233000
DTSTAMP:20260425T183028
CREATED:20160120T031921Z
LAST-MODIFIED:20170309T001718Z
UID:400737-1492338600-1492385400@emmanuelcovenant.ca
SUMMARY:Easter Sunday Worship Service
DESCRIPTION:
URL:https://emmanuelcovenant.ca/event/worship-service-139/
LOCATION:17029 16 Ave\, Surrey\, BC V3Z 9M5\, Canada
END:VEVENT
BEGIN:VEVENT
DTSTART;TZID=America/Vancouver:20170416T100000
DTEND;TZID=America/Vancouver:20170416T102000
DTSTAMP:20260425T183028
CREATED:20170416T170000Z
LAST-MODIFIED:20200406T183144Z
UID:400734-1492336800-1492338000@emmanuelcovenant.ca
SUMMARY:Family Circle
DESCRIPTION:Family Circle is our time of prayer before each worship service. All are welcome to attend. This group meets in the Prayer Room at ECC.
URL:https://emmanuelcovenant.ca/event/family-circle-143/
LOCATION:17029 16 Ave\, Surrey\, BC V3Z 9M5\, Canada
END:VEVENT
BEGIN:VEVENT
DTSTART;TZID=America/Vancouver:20170414T190000
DTEND;TZID=America/Vancouver:20170414T200000
DTSTAMP:20260425T183028
CREATED:20170309T003931Z
LAST-MODIFIED:20170309T003931Z
UID:405078-1492196400-1492200000@emmanuelcovenant.ca
SUMMARY:Good Friday Service
DESCRIPTION:
URL:https://emmanuelcovenant.ca/event/good-friday-service-4/
END:VEVENT
BEGIN:VEVENT
DTSTART;TZID=America/Vancouver:20170412T093000
DTEND;TZID=America/Vancouver:20170412T120000
DTSTAMP:20260425T183028
CREATED:20170412T163000Z
LAST-MODIFIED:20200406T183144Z
UID:400724-1491989400-1491998400@emmanuelcovenant.ca
SUMMARY:Ladies Bible Study
DESCRIPTION:This is our weekly women’s Bible study. Women of all ages are welcome to attend!  \n(If you’re interested in small groups or Bible studies that meet other times during the week\, please contact the Church Administrator).
URL:https://emmanuelcovenant.ca/event/ladies-bible-study-138/
LOCATION:17029 16 Ave\, Surrey\, BC V3Z 9M5\, Canada
END:VEVENT
BEGIN:VEVENT
DTSTART;TZID=America/Vancouver:20170411T190000
DTEND;TZID=America/Vancouver:20170411T203000
DTSTAMP:20260425T183028
CREATED:20170412T020000Z
LAST-MODIFIED:20200406T183144Z
UID:400722-1491937200-1491942600@emmanuelcovenant.ca
SUMMARY:Prayer Meeting
DESCRIPTION:All are welcome to attend this time of prayer.
URL:https://emmanuelcovenant.ca/event/prayer-meeting-142/
LOCATION:Contact Church Administrator for Address
END:VEVENT
BEGIN:VEVENT
DTSTART;TZID=America/Vancouver:20170409T103000
DTEND;TZID=America/Vancouver:20170409T233000
DTSTAMP:20260425T183028
CREATED:20160120T031903Z
LAST-MODIFIED:20160120T031903Z
UID:400718-1491733800-1491780600@emmanuelcovenant.ca
SUMMARY:Worship Service
DESCRIPTION:
URL:https://emmanuelcovenant.ca/event/worship-service-138/
LOCATION:17029 16 Ave\, Surrey\, BC V3Z 9M5\, Canada
END:VEVENT
BEGIN:VEVENT
DTSTART;TZID=America/Vancouver:20170409T100000
DTEND;TZID=America/Vancouver:20170409T102000
DTSTAMP:20260425T183028
CREATED:20170409T170000Z
LAST-MODIFIED:20200406T183145Z
UID:400714-1491732000-1491733200@emmanuelcovenant.ca
SUMMARY:Family Circle
DESCRIPTION:Family Circle is our time of prayer before each worship service. All are welcome to attend. This group meets in the Prayer Room at ECC.
URL:https://emmanuelcovenant.ca/event/family-circle-141/
LOCATION:17029 16 Ave\, Surrey\, BC V3Z 9M5\, Canada
END:VEVENT
BEGIN:VEVENT
DTSTART;TZID=America/Vancouver:20170408T180000
DTEND;TZID=America/Vancouver:20170408T200000
DTSTAMP:20260425T183028
CREATED:20170309T003852Z
LAST-MODIFIED:20170309T003852Z
UID:405075-1491674400-1491681600@emmanuelcovenant.ca
SUMMARY:30th Anniversary Celebration!
DESCRIPTION:
URL:https://emmanuelcovenant.ca/event/30th-anniversary-celebration/
ATTACH;FMTTYPE=image/png:https://emmanuelcovenant.ca/wp-content/uploads/2017/03/30anniv.png
END:VEVENT
BEGIN:VEVENT
DTSTART;TZID=America/Vancouver:20170407T180000
DTEND;TZID=America/Vancouver:20170407T200000
DTSTAMP:20260425T183028
CREATED:20170408T010000Z
LAST-MODIFIED:20200406T183145Z
UID:400708-1491588000-1491595200@emmanuelcovenant.ca
SUMMARY:Mens' Bible Study
DESCRIPTION:This is our weekly men’s Bible study. Men of all ages are welcome to attend! \nDinner is provided (for small donation) at 6:00 pm\nBible study begins at 7:00 pm \n(If you’re interested in small groups or Bible studies that meet other times during the week\, please contact the Church Administrator).
URL:https://emmanuelcovenant.ca/event/mens-bible-study-137/
LOCATION:17029 16 Ave\, Surrey\, BC V3Z 9M5\, Canada
END:VEVENT
BEGIN:VEVENT
DTSTART;TZID=America/Vancouver:20170405T093000
DTEND;TZID=America/Vancouver:20170405T120000
DTSTAMP:20260425T183028
CREATED:20170405T163000Z
LAST-MODIFIED:20200406T183145Z
UID:400702-1491384600-1491393600@emmanuelcovenant.ca
SUMMARY:Ladies Bible Study
DESCRIPTION:This is our weekly women’s Bible study. Women of all ages are welcome to attend!  \n(If you’re interested in small groups or Bible studies that meet other times during the week\, please contact the Church Administrator).
URL:https://emmanuelcovenant.ca/event/ladies-bible-study-135/
LOCATION:17029 16 Ave\, Surrey\, BC V3Z 9M5\, Canada
END:VEVENT
BEGIN:VEVENT
DTSTART;TZID=America/Vancouver:20170404T190000
DTEND;TZID=America/Vancouver:20170404T203000
DTSTAMP:20260425T183028
CREATED:20170405T020000Z
LAST-MODIFIED:20200406T183145Z
UID:400700-1491332400-1491337800@emmanuelcovenant.ca
SUMMARY:Prayer Meeting
DESCRIPTION:All are welcome to attend this time of prayer.
URL:https://emmanuelcovenant.ca/event/prayer-meeting-140/
LOCATION:Contact Church Administrator for Address
END:VEVENT
BEGIN:VEVENT
DTSTART;TZID=America/Vancouver:20170402T103000
DTEND;TZID=America/Vancouver:20170402T233000
DTSTAMP:20260425T183028
CREATED:20160120T031857Z
LAST-MODIFIED:20160120T031857Z
UID:400696-1491129000-1491175800@emmanuelcovenant.ca
SUMMARY:Worship Service
DESCRIPTION:
URL:https://emmanuelcovenant.ca/event/worship-service-135/
LOCATION:17029 16 Ave\, Surrey\, BC V3Z 9M5\, Canada
END:VEVENT
BEGIN:VEVENT
DTSTART;TZID=America/Vancouver:20170402T100000
DTEND;TZID=America/Vancouver:20170402T102000
DTSTAMP:20260425T183028
CREATED:20170402T170000Z
LAST-MODIFIED:20200406T183145Z
UID:400693-1491127200-1491128400@emmanuelcovenant.ca
SUMMARY:Family Circle
DESCRIPTION:Family Circle is our time of prayer before each worship service. All are welcome to attend. This group meets in the Prayer Room at ECC.
URL:https://emmanuelcovenant.ca/event/family-circle-140/
LOCATION:17029 16 Ave\, Surrey\, BC V3Z 9M5\, Canada
END:VEVENT
BEGIN:VEVENT
DTSTART;TZID=America/Vancouver:20170401T133000
DTEND;TZID=America/Vancouver:20170401T163000
DTSTAMP:20260425T183028
CREATED:20170309T003745Z
LAST-MODIFIED:20170327T212405Z
UID:405073-1491053400-1491064200@emmanuelcovenant.ca
SUMMARY:Sewing Bee
DESCRIPTION:
URL:https://emmanuelcovenant.ca/event/sewing-bee-4/
LOCATION:17029 16 Ave\, Surrey\, BC V3Z 9M5\, Canada
END:VEVENT
BEGIN:VEVENT
DTSTART;TZID=America/Vancouver:20170331T180000
DTEND;TZID=America/Vancouver:20170331T200000
DTSTAMP:20260425T183028
CREATED:20170401T010000Z
LAST-MODIFIED:20200406T183145Z
UID:400687-1490983200-1490990400@emmanuelcovenant.ca
SUMMARY:Mens' Bible Study
DESCRIPTION:This is our weekly men’s Bible study. Men of all ages are welcome to attend! \nDinner is provided (for small donation) at 6:00 pm\nBible study begins at 7:00 pm \n(If you’re interested in small groups or Bible studies that meet other times during the week\, please contact the Church Administrator).
URL:https://emmanuelcovenant.ca/event/mens-bible-study-136/
LOCATION:17029 16 Ave\, Surrey\, BC V3Z 9M5\, Canada
END:VEVENT
BEGIN:VEVENT
DTSTART;TZID=America/Vancouver:20170329T093000
DTEND;TZID=America/Vancouver:20170329T120000
DTSTAMP:20260425T183028
CREATED:20170329T163000Z
LAST-MODIFIED:20200406T183145Z
UID:400681-1490779800-1490788800@emmanuelcovenant.ca
SUMMARY:Ladies Bible Study
DESCRIPTION:This is our weekly women’s Bible study. Women of all ages are welcome to attend!  \n(If you’re interested in small groups or Bible studies that meet other times during the week\, please contact the Church Administrator).
URL:https://emmanuelcovenant.ca/event/ladies-bible-study-134/
LOCATION:17029 16 Ave\, Surrey\, BC V3Z 9M5\, Canada
END:VEVENT
BEGIN:VEVENT
DTSTART;TZID=America/Vancouver:20170328T190000
DTEND;TZID=America/Vancouver:20170328T203000
DTSTAMP:20260425T183028
CREATED:20170329T020000Z
LAST-MODIFIED:20200406T183145Z
UID:400678-1490727600-1490733000@emmanuelcovenant.ca
SUMMARY:Prayer Meeting
DESCRIPTION:All are welcome to attend this time of prayer.
URL:https://emmanuelcovenant.ca/event/prayer-meeting-138/
LOCATION:Contact Church Administrator for Address
END:VEVENT
BEGIN:VEVENT
DTSTART;TZID=America/Vancouver:20170326T103000
DTEND;TZID=America/Vancouver:20170326T233000
DTSTAMP:20260425T183028
CREATED:20160120T031853Z
LAST-MODIFIED:20160120T031853Z
UID:400675-1490524200-1490571000@emmanuelcovenant.ca
SUMMARY:Worship Service
DESCRIPTION:
URL:https://emmanuelcovenant.ca/event/worship-service-134/
LOCATION:17029 16 Ave\, Surrey\, BC V3Z 9M5\, Canada
END:VEVENT
BEGIN:VEVENT
DTSTART;TZID=America/Vancouver:20170326T100000
DTEND;TZID=America/Vancouver:20170326T102000
DTSTAMP:20260425T183028
CREATED:20170326T170000Z
LAST-MODIFIED:20200406T183145Z
UID:400672-1490522400-1490523600@emmanuelcovenant.ca
SUMMARY:Family Circle
DESCRIPTION:Family Circle is our time of prayer before each worship service. All are welcome to attend. This group meets in the Prayer Room at ECC.
URL:https://emmanuelcovenant.ca/event/family-circle-138/
LOCATION:17029 16 Ave\, Surrey\, BC V3Z 9M5\, Canada
END:VEVENT
BEGIN:VEVENT
DTSTART;TZID=America/Vancouver:20170325T100000
DTEND;TZID=America/Vancouver:20170325T110000
DTSTAMP:20260425T183028
CREATED:20170309T003701Z
LAST-MODIFIED:20170309T004006Z
UID:405071-1490436000-1490439600@emmanuelcovenant.ca
SUMMARY:Open Worship Practice
DESCRIPTION:
URL:https://emmanuelcovenant.ca/event/open-worship-practice-2/
END:VEVENT
BEGIN:VEVENT
DTSTART;TZID=America/Vancouver:20170324T180000
DTEND;TZID=America/Vancouver:20170324T200000
DTSTAMP:20260425T183028
CREATED:20170325T010000Z
LAST-MODIFIED:20200406T183145Z
UID:400667-1490378400-1490385600@emmanuelcovenant.ca
SUMMARY:Mens' Bible Study
DESCRIPTION:This is our weekly men’s Bible study. Men of all ages are welcome to attend! \nDinner is provided (for small donation) at 6:00 pm\nBible study begins at 7:00 pm \n(If you’re interested in small groups or Bible studies that meet other times during the week\, please contact the Church Administrator).
URL:https://emmanuelcovenant.ca/event/mens-bible-study-135/
LOCATION:17029 16 Ave\, Surrey\, BC V3Z 9M5\, Canada
END:VEVENT
BEGIN:VEVENT
DTSTART;TZID=America/Vancouver:20170322T093000
DTEND;TZID=America/Vancouver:20170322T120000
DTSTAMP:20260425T183028
CREATED:20170322T163000Z
LAST-MODIFIED:20200406T183146Z
UID:400662-1490175000-1490184000@emmanuelcovenant.ca
SUMMARY:Ladies Bible Study
DESCRIPTION:This is our weekly women’s Bible study. Women of all ages are welcome to attend!  \n(If you’re interested in small groups or Bible studies that meet other times during the week\, please contact the Church Administrator).
URL:https://emmanuelcovenant.ca/event/ladies-bible-study-133/
LOCATION:17029 16 Ave\, Surrey\, BC V3Z 9M5\, Canada
END:VEVENT
BEGIN:VEVENT
DTSTART;TZID=America/Vancouver:20170321T190000
DTEND;TZID=America/Vancouver:20170321T203000
DTSTAMP:20260425T183028
CREATED:20170322T020000Z
LAST-MODIFIED:20200406T183146Z
UID:400659-1490122800-1490128200@emmanuelcovenant.ca
SUMMARY:Prayer Meeting
DESCRIPTION:All are welcome to attend this time of prayer.
URL:https://emmanuelcovenant.ca/event/prayer-meeting-137/
LOCATION:Contact Church Administrator for Address
END:VEVENT
BEGIN:VEVENT
DTSTART;TZID=America/Vancouver:20170319T103000
DTEND;TZID=America/Vancouver:20170319T233000
DTSTAMP:20260425T183028
CREATED:20160120T031850Z
LAST-MODIFIED:20160120T031850Z
UID:400656-1489919400-1489966200@emmanuelcovenant.ca
SUMMARY:Worship Service
DESCRIPTION:
URL:https://emmanuelcovenant.ca/event/worship-service-133/
LOCATION:17029 16 Ave\, Surrey\, BC V3Z 9M5\, Canada
END:VEVENT
END:VCALENDAR