BEGIN:VCALENDAR
VERSION:2.0
PRODID:-//Emmanuel Covenant Church | South Surrey, BC - ECPv6.15.20//NONSGML v1.0//EN
CALSCALE:GREGORIAN
METHOD:PUBLISH
X-ORIGINAL-URL:https://emmanuelcovenant.ca
X-WR-CALDESC:Events for Emmanuel Covenant Church | South Surrey, BC
REFRESH-INTERVAL;VALUE=DURATION:PT1H
X-Robots-Tag:noindex
X-PUBLISHED-TTL:PT1H
BEGIN:VTIMEZONE
TZID:America/Vancouver
BEGIN:DAYLIGHT
TZOFFSETFROM:-0800
TZOFFSETTO:-0700
TZNAME:PDT
DTSTART:20160313T100000
END:DAYLIGHT
BEGIN:STANDARD
TZOFFSETFROM:-0700
TZOFFSETTO:-0800
TZNAME:PST
DTSTART:20161106T090000
END:STANDARD
BEGIN:DAYLIGHT
TZOFFSETFROM:-0800
TZOFFSETTO:-0700
TZNAME:PDT
DTSTART:20170312T100000
END:DAYLIGHT
BEGIN:STANDARD
TZOFFSETFROM:-0700
TZOFFSETTO:-0800
TZNAME:PST
DTSTART:20171105T090000
END:STANDARD
BEGIN:DAYLIGHT
TZOFFSETFROM:-0800
TZOFFSETTO:-0700
TZNAME:PDT
DTSTART:20180311T100000
END:DAYLIGHT
BEGIN:STANDARD
TZOFFSETFROM:-0700
TZOFFSETTO:-0800
TZNAME:PST
DTSTART:20181104T090000
END:STANDARD
END:VTIMEZONE
BEGIN:VEVENT
DTSTART;TZID=America/Vancouver:20170623T180000
DTEND;TZID=America/Vancouver:20170623T200000
DTSTAMP:20260425T140858
CREATED:20170624T010000Z
LAST-MODIFIED:20200406T183141Z
UID:400939-1498240800-1498248000@emmanuelcovenant.ca
SUMMARY:Mens' Bible Study
DESCRIPTION:This is our weekly men’s Bible study. Men of all ages are welcome to attend! \nDinner is provided (for small donation) at 6:00 pm\nBible study begins at 7:00 pm \n(If you’re interested in small groups or Bible studies that meet other times during the week\, please contact the Church Administrator).
URL:https://emmanuelcovenant.ca/event/mens-bible-study-163/
LOCATION:17029 16 Ave\, Surrey\, BC V3Z 9M5\, Canada
END:VEVENT
BEGIN:VEVENT
DTSTART;TZID=America/Vancouver:20170620T190000
DTEND;TZID=America/Vancouver:20170620T203000
DTSTAMP:20260425T140858
CREATED:20170621T020000Z
LAST-MODIFIED:20200406T183141Z
UID:400930-1497985200-1497990600@emmanuelcovenant.ca
SUMMARY:Prayer Meeting
DESCRIPTION:All are welcome to attend this time of prayer.
URL:https://emmanuelcovenant.ca/event/prayer-meeting-166/
LOCATION:Contact Church Administrator for Address
END:VEVENT
BEGIN:VEVENT
DTSTART;TZID=America/Vancouver:20170618T103000
DTEND;TZID=America/Vancouver:20170618T233000
DTSTAMP:20260425T140858
CREATED:20160120T032009Z
LAST-MODIFIED:20160120T032009Z
UID:400928-1497781800-1497828600@emmanuelcovenant.ca
SUMMARY:Worship Service
DESCRIPTION:
URL:https://emmanuelcovenant.ca/event/worship-service-163/
LOCATION:17029 16 Ave\, Surrey\, BC V3Z 9M5\, Canada
END:VEVENT
BEGIN:VEVENT
DTSTART;TZID=America/Vancouver:20170616T180000
DTEND;TZID=America/Vancouver:20170616T200000
DTSTAMP:20260425T140858
CREATED:20170617T010000Z
LAST-MODIFIED:20200406T183141Z
UID:400920-1497636000-1497643200@emmanuelcovenant.ca
SUMMARY:Mens' Bible Study
DESCRIPTION:This is our weekly men’s Bible study. Men of all ages are welcome to attend! \nDinner is provided (for small donation) at 6:00 pm\nBible study begins at 7:00 pm \n(If you’re interested in small groups or Bible studies that meet other times during the week\, please contact the Church Administrator).
URL:https://emmanuelcovenant.ca/event/mens-bible-study-162/
LOCATION:17029 16 Ave\, Surrey\, BC V3Z 9M5\, Canada
END:VEVENT
BEGIN:VEVENT
DTSTART;TZID=America/Vancouver:20170614T093000
DTEND;TZID=America/Vancouver:20170614T120000
DTSTAMP:20260425T140858
CREATED:20170614T163000Z
LAST-MODIFIED:20200406T183141Z
UID:400913-1497432600-1497441600@emmanuelcovenant.ca
SUMMARY:Ladies Bible Study
DESCRIPTION:This is our weekly women’s Bible study. Women of all ages are welcome to attend!  \n(If you’re interested in small groups or Bible studies that meet other times during the week\, please contact the Church Administrator).
URL:https://emmanuelcovenant.ca/event/ladies-bible-study-162/
LOCATION:17029 16 Ave\, Surrey\, BC V3Z 9M5\, Canada
END:VEVENT
BEGIN:VEVENT
DTSTART;TZID=America/Vancouver:20170613T190000
DTEND;TZID=America/Vancouver:20170613T203000
DTSTAMP:20260425T140858
CREATED:20170614T020000Z
LAST-MODIFIED:20200406T183141Z
UID:400910-1497380400-1497385800@emmanuelcovenant.ca
SUMMARY:Prayer Meeting
DESCRIPTION:All are welcome to attend this time of prayer.
URL:https://emmanuelcovenant.ca/event/prayer-meeting-165/
LOCATION:Contact Church Administrator for Address
END:VEVENT
BEGIN:VEVENT
DTSTART;TZID=America/Vancouver:20170611T103000
DTEND;TZID=America/Vancouver:20170611T233000
DTSTAMP:20260425T140858
CREATED:20160120T032006Z
LAST-MODIFIED:20160120T032006Z
UID:400907-1497177000-1497223800@emmanuelcovenant.ca
SUMMARY:Worship Service
DESCRIPTION:
URL:https://emmanuelcovenant.ca/event/worship-service-161/
LOCATION:17029 16 Ave\, Surrey\, BC V3Z 9M5\, Canada
END:VEVENT
BEGIN:VEVENT
DTSTART;TZID=America/Vancouver:20170609T180000
DTEND;TZID=America/Vancouver:20170609T200000
DTSTAMP:20260425T140858
CREATED:20170610T010000Z
LAST-MODIFIED:20200406T183142Z
UID:400899-1497031200-1497038400@emmanuelcovenant.ca
SUMMARY:Mens' Bible Study
DESCRIPTION:This is our weekly men’s Bible study. Men of all ages are welcome to attend! \nDinner is provided (for small donation) at 6:00 pm\nBible study begins at 7:00 pm \n(If you’re interested in small groups or Bible studies that meet other times during the week\, please contact the Church Administrator).
URL:https://emmanuelcovenant.ca/event/mens-bible-study-161/
LOCATION:17029 16 Ave\, Surrey\, BC V3Z 9M5\, Canada
END:VEVENT
BEGIN:VEVENT
DTSTART;TZID=America/Vancouver:20170607T093000
DTEND;TZID=America/Vancouver:20170607T120000
DTSTAMP:20260425T140858
CREATED:20170607T163000Z
LAST-MODIFIED:20200406T183142Z
UID:400891-1496827800-1496836800@emmanuelcovenant.ca
SUMMARY:Ladies Bible Study
DESCRIPTION:This is our weekly women’s Bible study. Women of all ages are welcome to attend!  \n(If you’re interested in small groups or Bible studies that meet other times during the week\, please contact the Church Administrator).
URL:https://emmanuelcovenant.ca/event/ladies-bible-study-160/
LOCATION:17029 16 Ave\, Surrey\, BC V3Z 9M5\, Canada
END:VEVENT
BEGIN:VEVENT
DTSTART;VALUE=DATE:20170607
DTEND;VALUE=DATE:20170618
DTSTAMP:20260425T140858
CREATED:20170309T004135Z
LAST-MODIFIED:20170309T004135Z
UID:405081-1496793600-1497743999@emmanuelcovenant.ca
SUMMARY:Israel/Palestine Study Tour
DESCRIPTION:
URL:https://emmanuelcovenant.ca/event/israelpalestine-study-tour/
END:VEVENT
BEGIN:VEVENT
DTSTART;TZID=America/Vancouver:20170606T190000
DTEND;TZID=America/Vancouver:20170606T203000
DTSTAMP:20260425T140858
CREATED:20170607T020000Z
LAST-MODIFIED:20200406T183142Z
UID:400888-1496775600-1496781000@emmanuelcovenant.ca
SUMMARY:Prayer Meeting
DESCRIPTION:All are welcome to attend this time of prayer.
URL:https://emmanuelcovenant.ca/event/prayer-meeting-163/
LOCATION:Contact Church Administrator for Address
END:VEVENT
BEGIN:VEVENT
DTSTART;TZID=America/Vancouver:20170604T103000
DTEND;TZID=America/Vancouver:20170604T233000
DTSTAMP:20260425T140858
CREATED:20160120T032001Z
LAST-MODIFIED:20160120T032001Z
UID:400885-1496572200-1496619000@emmanuelcovenant.ca
SUMMARY:Worship Service
DESCRIPTION:
URL:https://emmanuelcovenant.ca/event/worship-service-159/
LOCATION:17029 16 Ave\, Surrey\, BC V3Z 9M5\, Canada
END:VEVENT
BEGIN:VEVENT
DTSTART;TZID=America/Vancouver:20170602T180000
DTEND;TZID=America/Vancouver:20170602T200000
DTSTAMP:20260425T140858
CREATED:20170603T010000Z
LAST-MODIFIED:20200406T183142Z
UID:400874-1496426400-1496433600@emmanuelcovenant.ca
SUMMARY:Mens' Bible Study
DESCRIPTION:This is our weekly men’s Bible study. Men of all ages are welcome to attend! \nDinner is provided (for small donation) at 6:00 pm\nBible study begins at 7:00 pm \n(If you’re interested in small groups or Bible studies that meet other times during the week\, please contact the Church Administrator).
URL:https://emmanuelcovenant.ca/event/mens-bible-study-159/
LOCATION:17029 16 Ave\, Surrey\, BC V3Z 9M5\, Canada
END:VEVENT
BEGIN:VEVENT
DTSTART;TZID=America/Vancouver:20170531T093000
DTEND;TZID=America/Vancouver:20170531T120000
DTSTAMP:20260425T140858
CREATED:20170531T163000Z
LAST-MODIFIED:20200406T183142Z
UID:400868-1496223000-1496232000@emmanuelcovenant.ca
SUMMARY:Ladies Bible Study
DESCRIPTION:This is our weekly women’s Bible study. Women of all ages are welcome to attend!  \n(If you’re interested in small groups or Bible studies that meet other times during the week\, please contact the Church Administrator).
URL:https://emmanuelcovenant.ca/event/ladies-bible-study-157/
LOCATION:17029 16 Ave\, Surrey\, BC V3Z 9M5\, Canada
END:VEVENT
BEGIN:VEVENT
DTSTART;TZID=America/Vancouver:20170530T190000
DTEND;TZID=America/Vancouver:20170530T203000
DTSTAMP:20260425T140858
CREATED:20170531T020000Z
LAST-MODIFIED:20200406T183142Z
UID:400865-1496170800-1496176200@emmanuelcovenant.ca
SUMMARY:Prayer Meeting
DESCRIPTION:All are welcome to attend this time of prayer.
URL:https://emmanuelcovenant.ca/event/prayer-meeting-161/
LOCATION:Contact Church Administrator for Address
END:VEVENT
BEGIN:VEVENT
DTSTART;TZID=America/Vancouver:20170528T103000
DTEND;TZID=America/Vancouver:20170528T233000
DTSTAMP:20260425T140858
CREATED:20160120T031955Z
LAST-MODIFIED:20160120T031955Z
UID:400862-1495967400-1496014200@emmanuelcovenant.ca
SUMMARY:Worship Service
DESCRIPTION:
URL:https://emmanuelcovenant.ca/event/worship-service-157/
LOCATION:17029 16 Ave\, Surrey\, BC V3Z 9M5\, Canada
END:VEVENT
BEGIN:VEVENT
DTSTART;TZID=America/Vancouver:20170528T100000
DTEND;TZID=America/Vancouver:20170528T102000
DTSTAMP:20260425T140858
CREATED:20170528T170000Z
LAST-MODIFIED:20200406T183142Z
UID:400859-1495965600-1495966800@emmanuelcovenant.ca
SUMMARY:Family Circle
DESCRIPTION:Family Circle is our time of prayer before each worship service. All are welcome to attend. This group meets in the Prayer Room at ECC.
URL:https://emmanuelcovenant.ca/event/family-circle-160/
LOCATION:17029 16 Ave\, Surrey\, BC V3Z 9M5\, Canada
END:VEVENT
BEGIN:VEVENT
DTSTART;TZID=America/Vancouver:20170526T180000
DTEND;TZID=America/Vancouver:20170526T200000
DTSTAMP:20260425T140858
CREATED:20170527T010000Z
LAST-MODIFIED:20200406T183143Z
UID:400853-1495821600-1495828800@emmanuelcovenant.ca
SUMMARY:Mens' Bible Study
DESCRIPTION:This is our weekly men’s Bible study. Men of all ages are welcome to attend! \nDinner is provided (for small donation) at 6:00 pm\nBible study begins at 7:00 pm \n(If you’re interested in small groups or Bible studies that meet other times during the week\, please contact the Church Administrator).
URL:https://emmanuelcovenant.ca/event/mens-bible-study-157/
LOCATION:17029 16 Ave\, Surrey\, BC V3Z 9M5\, Canada
END:VEVENT
BEGIN:VEVENT
DTSTART;TZID=America/Vancouver:20170524T093000
DTEND;TZID=America/Vancouver:20170524T120000
DTSTAMP:20260425T140858
CREATED:20170524T163000Z
LAST-MODIFIED:20200406T183143Z
UID:400845-1495618200-1495627200@emmanuelcovenant.ca
SUMMARY:Ladies Bible Study
DESCRIPTION:This is our weekly women’s Bible study. Women of all ages are welcome to attend!  \n(If you’re interested in small groups or Bible studies that meet other times during the week\, please contact the Church Administrator).
URL:https://emmanuelcovenant.ca/event/ladies-bible-study-155/
LOCATION:17029 16 Ave\, Surrey\, BC V3Z 9M5\, Canada
END:VEVENT
BEGIN:VEVENT
DTSTART;TZID=America/Vancouver:20170523T190000
DTEND;TZID=America/Vancouver:20170523T203000
DTSTAMP:20260425T140858
CREATED:20170524T020000Z
LAST-MODIFIED:20200406T183143Z
UID:400842-1495566000-1495571400@emmanuelcovenant.ca
SUMMARY:Prayer Meeting
DESCRIPTION:All are welcome to attend this time of prayer.
URL:https://emmanuelcovenant.ca/event/prayer-meeting-159/
LOCATION:Contact Church Administrator for Address
END:VEVENT
BEGIN:VEVENT
DTSTART;TZID=America/Vancouver:20170521T103000
DTEND;TZID=America/Vancouver:20170521T233000
DTSTAMP:20260425T140858
CREATED:20160120T031951Z
LAST-MODIFIED:20160120T031951Z
UID:400839-1495362600-1495409400@emmanuelcovenant.ca
SUMMARY:Worship Service
DESCRIPTION:
URL:https://emmanuelcovenant.ca/event/worship-service-154/
LOCATION:17029 16 Ave\, Surrey\, BC V3Z 9M5\, Canada
END:VEVENT
BEGIN:VEVENT
DTSTART;TZID=America/Vancouver:20170521T100000
DTEND;TZID=America/Vancouver:20170521T102000
DTSTAMP:20260425T140858
CREATED:20170521T170000Z
LAST-MODIFIED:20200406T183143Z
UID:400836-1495360800-1495362000@emmanuelcovenant.ca
SUMMARY:Family Circle
DESCRIPTION:Family Circle is our time of prayer before each worship service. All are welcome to attend. This group meets in the Prayer Room at ECC.
URL:https://emmanuelcovenant.ca/event/family-circle-158/
LOCATION:17029 16 Ave\, Surrey\, BC V3Z 9M5\, Canada
END:VEVENT
BEGIN:VEVENT
DTSTART;TZID=America/Vancouver:20170519T180000
DTEND;TZID=America/Vancouver:20170519T200000
DTSTAMP:20260425T140858
CREATED:20170520T010000Z
LAST-MODIFIED:20200406T183143Z
UID:400830-1495216800-1495224000@emmanuelcovenant.ca
SUMMARY:Mens' Bible Study
DESCRIPTION:This is our weekly men’s Bible study. Men of all ages are welcome to attend! \nDinner is provided (for small donation) at 6:00 pm\nBible study begins at 7:00 pm \n(If you’re interested in small groups or Bible studies that meet other times during the week\, please contact the Church Administrator).
URL:https://emmanuelcovenant.ca/event/mens-bible-study-154/
LOCATION:17029 16 Ave\, Surrey\, BC V3Z 9M5\, Canada
END:VEVENT
BEGIN:VEVENT
DTSTART;TZID=America/Vancouver:20170517T093000
DTEND;TZID=America/Vancouver:20170517T120000
DTSTAMP:20260425T140858
CREATED:20170517T163000Z
LAST-MODIFIED:20200406T183143Z
UID:400824-1495013400-1495022400@emmanuelcovenant.ca
SUMMARY:Ladies Bible Study
DESCRIPTION:This is our weekly women’s Bible study. Women of all ages are welcome to attend!  \n(If you’re interested in small groups or Bible studies that meet other times during the week\, please contact the Church Administrator).
URL:https://emmanuelcovenant.ca/event/ladies-bible-study-152/
LOCATION:17029 16 Ave\, Surrey\, BC V3Z 9M5\, Canada
END:VEVENT
BEGIN:VEVENT
DTSTART;TZID=America/Vancouver:20170516T190000
DTEND;TZID=America/Vancouver:20170516T203000
DTSTAMP:20260425T140858
CREATED:20170517T020000Z
LAST-MODIFIED:20200406T183143Z
UID:400821-1494961200-1494966600@emmanuelcovenant.ca
SUMMARY:Prayer Meeting
DESCRIPTION:All are welcome to attend this time of prayer.
URL:https://emmanuelcovenant.ca/event/prayer-meeting-156/
LOCATION:Contact Church Administrator for Address
END:VEVENT
BEGIN:VEVENT
DTSTART;TZID=America/Vancouver:20170514T103000
DTEND;TZID=America/Vancouver:20170514T233000
DTSTAMP:20260425T140858
CREATED:20160120T031944Z
LAST-MODIFIED:20160120T031944Z
UID:400818-1494757800-1494804600@emmanuelcovenant.ca
SUMMARY:Worship Service
DESCRIPTION:
URL:https://emmanuelcovenant.ca/event/worship-service-151/
LOCATION:17029 16 Ave\, Surrey\, BC V3Z 9M5\, Canada
END:VEVENT
BEGIN:VEVENT
DTSTART;TZID=America/Vancouver:20170514T093000
DTEND;TZID=America/Vancouver:20170514T102000
DTSTAMP:20260425T140858
CREATED:20170514T163000Z
LAST-MODIFIED:20200406T183143Z
UID:400816-1494754200-1494757200@emmanuelcovenant.ca
SUMMARY:Family Circle Bible Study & Prayer
DESCRIPTION:[column width=”1/1″ last=”true” title=”” title_type=”single” animation=”none” implicit=”true”] \nFamily Circle is our time of prayer before each worship service. All are welcome to attend. This group meets in the Prayer Room at ECC. \n[/column]
URL:https://emmanuelcovenant.ca/event/family-circle-155/
LOCATION:17029 16 Ave\, Surrey\, BC V3Z 9M5\, Canada
END:VEVENT
BEGIN:VEVENT
DTSTART;TZID=America/Vancouver:20170512T180000
DTEND;TZID=America/Vancouver:20170512T200000
DTSTAMP:20260425T140858
CREATED:20170513T010000Z
LAST-MODIFIED:20200406T183143Z
UID:400810-1494612000-1494619200@emmanuelcovenant.ca
SUMMARY:Mens' Bible Study
DESCRIPTION:This is our weekly men’s Bible study. Men of all ages are welcome to attend! \nDinner is provided (for small donation) at 6:00 pm\nBible study begins at 7:00 pm \n(If you’re interested in small groups or Bible studies that meet other times during the week\, please contact the Church Administrator).
URL:https://emmanuelcovenant.ca/event/mens-bible-study-151/
LOCATION:17029 16 Ave\, Surrey\, BC V3Z 9M5\, Canada
END:VEVENT
BEGIN:VEVENT
DTSTART;TZID=America/Vancouver:20170510T093000
DTEND;TZID=America/Vancouver:20170510T120000
DTSTAMP:20260425T140858
CREATED:20170510T163000Z
LAST-MODIFIED:20200406T183143Z
UID:400803-1494408600-1494417600@emmanuelcovenant.ca
SUMMARY:Ladies Bible Study
DESCRIPTION:This is our weekly women’s Bible study. Women of all ages are welcome to attend!  \n(If you’re interested in small groups or Bible studies that meet other times during the week\, please contact the Church Administrator).
URL:https://emmanuelcovenant.ca/event/ladies-bible-study-149/
LOCATION:17029 16 Ave\, Surrey\, BC V3Z 9M5\, Canada
END:VEVENT
BEGIN:VEVENT
DTSTART;TZID=America/Vancouver:20170509T190000
DTEND;TZID=America/Vancouver:20170509T203000
DTSTAMP:20260425T140858
CREATED:20170510T020000Z
LAST-MODIFIED:20200406T183143Z
UID:400801-1494356400-1494361800@emmanuelcovenant.ca
SUMMARY:Prayer Meeting
DESCRIPTION:All are welcome to attend this time of prayer.
URL:https://emmanuelcovenant.ca/event/prayer-meeting-153/
LOCATION:Contact Church Administrator for Address
END:VEVENT
END:VCALENDAR