BEGIN:VCALENDAR
VERSION:2.0
PRODID:-//Emmanuel Covenant Church | South Surrey, BC - ECPv6.15.20//NONSGML v1.0//EN
CALSCALE:GREGORIAN
METHOD:PUBLISH
X-WR-CALNAME:Emmanuel Covenant Church | South Surrey, BC
X-ORIGINAL-URL:https://emmanuelcovenant.ca
X-WR-CALDESC:Events for Emmanuel Covenant Church | South Surrey, BC
REFRESH-INTERVAL;VALUE=DURATION:PT1H
X-Robots-Tag:noindex
X-PUBLISHED-TTL:PT1H
BEGIN:VTIMEZONE
TZID:America/Vancouver
BEGIN:DAYLIGHT
TZOFFSETFROM:-0800
TZOFFSETTO:-0700
TZNAME:PDT
DTSTART:20160313T100000
END:DAYLIGHT
BEGIN:STANDARD
TZOFFSETFROM:-0700
TZOFFSETTO:-0800
TZNAME:PST
DTSTART:20161106T090000
END:STANDARD
BEGIN:DAYLIGHT
TZOFFSETFROM:-0800
TZOFFSETTO:-0700
TZNAME:PDT
DTSTART:20170312T100000
END:DAYLIGHT
BEGIN:STANDARD
TZOFFSETFROM:-0700
TZOFFSETTO:-0800
TZNAME:PST
DTSTART:20171105T090000
END:STANDARD
BEGIN:DAYLIGHT
TZOFFSETFROM:-0800
TZOFFSETTO:-0700
TZNAME:PDT
DTSTART:20180311T100000
END:DAYLIGHT
BEGIN:STANDARD
TZOFFSETFROM:-0700
TZOFFSETTO:-0800
TZNAME:PST
DTSTART:20181104T090000
END:STANDARD
END:VTIMEZONE
BEGIN:VEVENT
DTSTART;TZID=America/Vancouver:20170728T190000
DTEND;TZID=America/Vancouver:20170728T220000
DTSTAMP:20260425T114449
CREATED:20170704T171352Z
LAST-MODIFIED:20170704T171446Z
UID:405319-1501268400-1501279200@emmanuelcovenant.ca
SUMMARY:Vancouver Canadians Game w/ Green Timbers Covenant Church
DESCRIPTION:
URL:https://emmanuelcovenant.ca/event/vancouver-canadians-game-w-green-timbers-covenant-church/
LOCATION:Nat Bailey Stadium\, Vancouver\, BC\, Canada
CATEGORIES:Fellowship,Outreach
END:VEVENT
BEGIN:VEVENT
DTSTART;TZID=America/Vancouver:20170728T180000
DTEND;TZID=America/Vancouver:20170728T200000
DTSTAMP:20260425T114449
CREATED:20170729T010000Z
LAST-MODIFIED:20200406T183140Z
UID:401045-1501264800-1501272000@emmanuelcovenant.ca
SUMMARY:Mens' Bible Study
DESCRIPTION:This is our weekly men’s Bible study. Men of all ages are welcome to attend! \nDinner is provided (for small donation) at 6:00 pm\nBible study begins at 7:00 pm \n(If you’re interested in small groups or Bible studies that meet other times during the week\, please contact the Church Administrator).
URL:https://emmanuelcovenant.ca/event/mens-bible-study-168/
LOCATION:17029 16 Ave\, Surrey\, BC V3Z 9M5\, Canada
END:VEVENT
BEGIN:VEVENT
DTSTART;TZID=America/Vancouver:20170725T190000
DTEND;TZID=America/Vancouver:20170725T203000
DTSTAMP:20260425T114449
CREATED:20170726T020000Z
LAST-MODIFIED:20200406T183140Z
UID:401036-1501009200-1501014600@emmanuelcovenant.ca
SUMMARY:Prayer Meeting
DESCRIPTION:All are welcome to attend this time of prayer.
URL:https://emmanuelcovenant.ca/event/prayer-meeting-172/
LOCATION:Contact Church Administrator for Address
END:VEVENT
BEGIN:VEVENT
DTSTART;TZID=America/Vancouver:20170723T103000
DTEND;TZID=America/Vancouver:20170723T233000
DTSTAMP:20260425T114449
CREATED:20160120T032025Z
LAST-MODIFIED:20160120T032025Z
UID:401034-1500805800-1500852600@emmanuelcovenant.ca
SUMMARY:Worship Service
DESCRIPTION:
URL:https://emmanuelcovenant.ca/event/worship-service-168/
LOCATION:17029 16 Ave\, Surrey\, BC V3Z 9M5\, Canada
END:VEVENT
BEGIN:VEVENT
DTSTART;TZID=America/Vancouver:20170721T180000
DTEND;TZID=America/Vancouver:20170721T200000
DTSTAMP:20260425T114449
CREATED:20170722T010000Z
LAST-MODIFIED:20200406T183140Z
UID:401023-1500660000-1500667200@emmanuelcovenant.ca
SUMMARY:Mens' Bible Study
DESCRIPTION:This is our weekly men’s Bible study. Men of all ages are welcome to attend! \nDinner is provided (for small donation) at 6:00 pm\nBible study begins at 7:00 pm \n(If you’re interested in small groups or Bible studies that meet other times during the week\, please contact the Church Administrator).
URL:https://emmanuelcovenant.ca/event/mens-bible-study-167/
LOCATION:17029 16 Ave\, Surrey\, BC V3Z 9M5\, Canada
END:VEVENT
BEGIN:VEVENT
DTSTART;TZID=America/Vancouver:20170720T173000
DTEND;TZID=America/Vancouver:20170720T203000
DTSTAMP:20260425T114449
CREATED:20170704T170849Z
LAST-MODIFIED:20170704T170849Z
UID:405317-1500571800-1500582600@emmanuelcovenant.ca
SUMMARY:Olive Branch (50+) BBQ
DESCRIPTION:
URL:https://emmanuelcovenant.ca/event/olive-branch-50-bbq/
CATEGORIES:Fellowship
END:VEVENT
BEGIN:VEVENT
DTSTART;TZID=America/Vancouver:20170718T190000
DTEND;TZID=America/Vancouver:20170718T203000
DTSTAMP:20260425T114449
CREATED:20170719T020000Z
LAST-MODIFIED:20200406T183140Z
UID:401016-1500404400-1500409800@emmanuelcovenant.ca
SUMMARY:Prayer Meeting
DESCRIPTION:All are welcome to attend this time of prayer.
URL:https://emmanuelcovenant.ca/event/prayer-meeting-171/
LOCATION:Contact Church Administrator for Address
END:VEVENT
BEGIN:VEVENT
DTSTART;TZID=America/Vancouver:20170716T103000
DTEND;TZID=America/Vancouver:20170716T233000
DTSTAMP:20260425T114449
CREATED:20160120T032022Z
LAST-MODIFIED:20160120T032022Z
UID:401012-1500201000-1500247800@emmanuelcovenant.ca
SUMMARY:Worship Service
DESCRIPTION:
URL:https://emmanuelcovenant.ca/event/worship-service-167/
LOCATION:17029 16 Ave\, Surrey\, BC V3Z 9M5\, Canada
END:VEVENT
BEGIN:VEVENT
DTSTART;TZID=America/Vancouver:20170715T190000
DTEND;TZID=America/Vancouver:20170715T210000
DTSTAMP:20260425T114449
CREATED:20170704T170757Z
LAST-MODIFIED:20170704T170757Z
UID:405315-1500145200-1500152400@emmanuelcovenant.ca
SUMMARY:A Journey Through Israel & Palestine
DESCRIPTION:
URL:https://emmanuelcovenant.ca/event/a-journey-through-israel-palestine/
LOCATION:Emmanuel Evangelical Covenant Church\, 17029 16 Ave\, Surrey\, BC\, V3Z9M5\, Canada
CATEGORIES:Bible Study,Fellowship,Outreach,Prayer,Worship
END:VEVENT
BEGIN:VEVENT
DTSTART;TZID=America/Vancouver:20170714T180000
DTEND;TZID=America/Vancouver:20170714T200000
DTSTAMP:20260425T114449
CREATED:20170715T010000Z
LAST-MODIFIED:20200406T183140Z
UID:401002-1500055200-1500062400@emmanuelcovenant.ca
SUMMARY:Mens' Bible Study
DESCRIPTION:This is our weekly men’s Bible study. Men of all ages are welcome to attend! \nDinner is provided (for small donation) at 6:00 pm\nBible study begins at 7:00 pm \n(If you’re interested in small groups or Bible studies that meet other times during the week\, please contact the Church Administrator).
URL:https://emmanuelcovenant.ca/event/mens-bible-study-166/
LOCATION:17029 16 Ave\, Surrey\, BC V3Z 9M5\, Canada
END:VEVENT
BEGIN:VEVENT
DTSTART;TZID=America/Vancouver:20170712T130000
DTEND;TZID=America/Vancouver:20170712T143000
DTSTAMP:20260425T114449
CREATED:20170704T170421Z
LAST-MODIFIED:20170704T170421Z
UID:405310-1499864400-1499869800@emmanuelcovenant.ca
SUMMARY:Concert at Dart's Hill Garden Park
DESCRIPTION:
URL:https://emmanuelcovenant.ca/event/concert-at-darts-hill-garden-park/
LOCATION:Dart’s HIll Garden Park\, 1633 170 Street\, Surrey\, Canada
CATEGORIES:Fellowship,Outreach
END:VEVENT
BEGIN:VEVENT
DTSTART;TZID=America/Vancouver:20170711T190000
DTEND;TZID=America/Vancouver:20170711T203000
DTSTAMP:20260425T114449
CREATED:20170712T020000Z
LAST-MODIFIED:20200406T183140Z
UID:400993-1499799600-1499805000@emmanuelcovenant.ca
SUMMARY:Prayer Meeting
DESCRIPTION:All are welcome to attend this time of prayer.
URL:https://emmanuelcovenant.ca/event/prayer-meeting-170/
LOCATION:Contact Church Administrator for Address
END:VEVENT
BEGIN:VEVENT
DTSTART;TZID=America/Vancouver:20170709T103000
DTEND;TZID=America/Vancouver:20170709T233000
DTSTAMP:20260425T114449
CREATED:20160120T032018Z
LAST-MODIFIED:20160120T032018Z
UID:400991-1499596200-1499643000@emmanuelcovenant.ca
SUMMARY:Worship Service
DESCRIPTION:
URL:https://emmanuelcovenant.ca/event/worship-service-166/
LOCATION:17029 16 Ave\, Surrey\, BC V3Z 9M5\, Canada
END:VEVENT
BEGIN:VEVENT
DTSTART;TZID=America/Vancouver:20170707T180000
DTEND;TZID=America/Vancouver:20170707T200000
DTSTAMP:20260425T114449
CREATED:20170708T010000Z
LAST-MODIFIED:20200406T183140Z
UID:400983-1499450400-1499457600@emmanuelcovenant.ca
SUMMARY:Mens' Bible Study
DESCRIPTION:This is our weekly men’s Bible study. Men of all ages are welcome to attend! \nDinner is provided (for small donation) at 6:00 pm\nBible study begins at 7:00 pm \n(If you’re interested in small groups or Bible studies that meet other times during the week\, please contact the Church Administrator).
URL:https://emmanuelcovenant.ca/event/mens-bible-study-165/
LOCATION:17029 16 Ave\, Surrey\, BC V3Z 9M5\, Canada
END:VEVENT
BEGIN:VEVENT
DTSTART;TZID=America/Vancouver:20170705T183000
DTEND;TZID=America/Vancouver:20170705T203000
DTSTAMP:20260425T114449
CREATED:20170704T170139Z
LAST-MODIFIED:20170704T170139Z
UID:405308-1499279400-1499286600@emmanuelcovenant.ca
SUMMARY:Watermelon Wednesday
DESCRIPTION:
URL:https://emmanuelcovenant.ca/event/watermelon-wednesday-3/
LOCATION:Redwood Park
CATEGORIES:Fellowship
END:VEVENT
BEGIN:VEVENT
DTSTART;TZID=America/Vancouver:20170704T190000
DTEND;TZID=America/Vancouver:20170704T203000
DTSTAMP:20260425T114449
CREATED:20170705T020000Z
LAST-MODIFIED:20200406T183140Z
UID:400972-1499194800-1499200200@emmanuelcovenant.ca
SUMMARY:Prayer Meeting
DESCRIPTION:All are welcome to attend this time of prayer.
URL:https://emmanuelcovenant.ca/event/prayer-meeting-169/
LOCATION:Contact Church Administrator for Address
END:VEVENT
BEGIN:VEVENT
DTSTART;TZID=America/Vancouver:20170702T103000
DTEND;TZID=America/Vancouver:20170702T233000
DTSTAMP:20260425T114449
CREATED:20160120T032015Z
LAST-MODIFIED:20160120T032015Z
UID:400969-1498991400-1499038200@emmanuelcovenant.ca
SUMMARY:Worship Service
DESCRIPTION:
URL:https://emmanuelcovenant.ca/event/worship-service-165/
LOCATION:17029 16 Ave\, Surrey\, BC V3Z 9M5\, Canada
END:VEVENT
BEGIN:VEVENT
DTSTART;TZID=America/Vancouver:20170630T180000
DTEND;TZID=America/Vancouver:20170630T200000
DTSTAMP:20260425T114449
CREATED:20170701T010000Z
LAST-MODIFIED:20200406T183140Z
UID:400960-1498845600-1498852800@emmanuelcovenant.ca
SUMMARY:Mens' Bible Study
DESCRIPTION:This is our weekly men’s Bible study. Men of all ages are welcome to attend! \nDinner is provided (for small donation) at 6:00 pm\nBible study begins at 7:00 pm \n(If you’re interested in small groups or Bible studies that meet other times during the week\, please contact the Church Administrator).
URL:https://emmanuelcovenant.ca/event/mens-bible-study-164/
LOCATION:17029 16 Ave\, Surrey\, BC V3Z 9M5\, Canada
END:VEVENT
BEGIN:VEVENT
DTSTART;TZID=America/Vancouver:20170627T190000
DTEND;TZID=America/Vancouver:20170627T203000
DTSTAMP:20260425T114449
CREATED:20170628T020000Z
LAST-MODIFIED:20200406T183141Z
UID:400953-1498590000-1498595400@emmanuelcovenant.ca
SUMMARY:Prayer Meeting
DESCRIPTION:All are welcome to attend this time of prayer.
URL:https://emmanuelcovenant.ca/event/prayer-meeting-168/
LOCATION:Contact Church Administrator for Address
END:VEVENT
BEGIN:VEVENT
DTSTART;TZID=America/Vancouver:20170625T103000
DTEND;TZID=America/Vancouver:20170625T233000
DTSTAMP:20260425T114449
CREATED:20160120T032012Z
LAST-MODIFIED:20160120T032012Z
UID:400949-1498386600-1498433400@emmanuelcovenant.ca
SUMMARY:Worship Service
DESCRIPTION:
URL:https://emmanuelcovenant.ca/event/worship-service-164/
LOCATION:17029 16 Ave\, Surrey\, BC V3Z 9M5\, Canada
END:VEVENT
BEGIN:VEVENT
DTSTART;TZID=America/Vancouver:20170623T180000
DTEND;TZID=America/Vancouver:20170623T200000
DTSTAMP:20260425T114449
CREATED:20170624T010000Z
LAST-MODIFIED:20200406T183141Z
UID:400939-1498240800-1498248000@emmanuelcovenant.ca
SUMMARY:Mens' Bible Study
DESCRIPTION:This is our weekly men’s Bible study. Men of all ages are welcome to attend! \nDinner is provided (for small donation) at 6:00 pm\nBible study begins at 7:00 pm \n(If you’re interested in small groups or Bible studies that meet other times during the week\, please contact the Church Administrator).
URL:https://emmanuelcovenant.ca/event/mens-bible-study-163/
LOCATION:17029 16 Ave\, Surrey\, BC V3Z 9M5\, Canada
END:VEVENT
BEGIN:VEVENT
DTSTART;TZID=America/Vancouver:20170620T190000
DTEND;TZID=America/Vancouver:20170620T203000
DTSTAMP:20260425T114449
CREATED:20170621T020000Z
LAST-MODIFIED:20200406T183141Z
UID:400930-1497985200-1497990600@emmanuelcovenant.ca
SUMMARY:Prayer Meeting
DESCRIPTION:All are welcome to attend this time of prayer.
URL:https://emmanuelcovenant.ca/event/prayer-meeting-166/
LOCATION:Contact Church Administrator for Address
END:VEVENT
BEGIN:VEVENT
DTSTART;TZID=America/Vancouver:20170618T103000
DTEND;TZID=America/Vancouver:20170618T233000
DTSTAMP:20260425T114449
CREATED:20160120T032009Z
LAST-MODIFIED:20160120T032009Z
UID:400928-1497781800-1497828600@emmanuelcovenant.ca
SUMMARY:Worship Service
DESCRIPTION:
URL:https://emmanuelcovenant.ca/event/worship-service-163/
LOCATION:17029 16 Ave\, Surrey\, BC V3Z 9M5\, Canada
END:VEVENT
BEGIN:VEVENT
DTSTART;TZID=America/Vancouver:20170616T180000
DTEND;TZID=America/Vancouver:20170616T200000
DTSTAMP:20260425T114449
CREATED:20170617T010000Z
LAST-MODIFIED:20200406T183141Z
UID:400920-1497636000-1497643200@emmanuelcovenant.ca
SUMMARY:Mens' Bible Study
DESCRIPTION:This is our weekly men’s Bible study. Men of all ages are welcome to attend! \nDinner is provided (for small donation) at 6:00 pm\nBible study begins at 7:00 pm \n(If you’re interested in small groups or Bible studies that meet other times during the week\, please contact the Church Administrator).
URL:https://emmanuelcovenant.ca/event/mens-bible-study-162/
LOCATION:17029 16 Ave\, Surrey\, BC V3Z 9M5\, Canada
END:VEVENT
BEGIN:VEVENT
DTSTART;TZID=America/Vancouver:20170614T093000
DTEND;TZID=America/Vancouver:20170614T120000
DTSTAMP:20260425T114449
CREATED:20170614T163000Z
LAST-MODIFIED:20200406T183141Z
UID:400913-1497432600-1497441600@emmanuelcovenant.ca
SUMMARY:Ladies Bible Study
DESCRIPTION:This is our weekly women’s Bible study. Women of all ages are welcome to attend!  \n(If you’re interested in small groups or Bible studies that meet other times during the week\, please contact the Church Administrator).
URL:https://emmanuelcovenant.ca/event/ladies-bible-study-162/
LOCATION:17029 16 Ave\, Surrey\, BC V3Z 9M5\, Canada
END:VEVENT
BEGIN:VEVENT
DTSTART;TZID=America/Vancouver:20170613T190000
DTEND;TZID=America/Vancouver:20170613T203000
DTSTAMP:20260425T114449
CREATED:20170614T020000Z
LAST-MODIFIED:20200406T183141Z
UID:400910-1497380400-1497385800@emmanuelcovenant.ca
SUMMARY:Prayer Meeting
DESCRIPTION:All are welcome to attend this time of prayer.
URL:https://emmanuelcovenant.ca/event/prayer-meeting-165/
LOCATION:Contact Church Administrator for Address
END:VEVENT
BEGIN:VEVENT
DTSTART;TZID=America/Vancouver:20170611T103000
DTEND;TZID=America/Vancouver:20170611T233000
DTSTAMP:20260425T114449
CREATED:20160120T032006Z
LAST-MODIFIED:20160120T032006Z
UID:400907-1497177000-1497223800@emmanuelcovenant.ca
SUMMARY:Worship Service
DESCRIPTION:
URL:https://emmanuelcovenant.ca/event/worship-service-161/
LOCATION:17029 16 Ave\, Surrey\, BC V3Z 9M5\, Canada
END:VEVENT
BEGIN:VEVENT
DTSTART;TZID=America/Vancouver:20170609T180000
DTEND;TZID=America/Vancouver:20170609T200000
DTSTAMP:20260425T114449
CREATED:20170610T010000Z
LAST-MODIFIED:20200406T183142Z
UID:400899-1497031200-1497038400@emmanuelcovenant.ca
SUMMARY:Mens' Bible Study
DESCRIPTION:This is our weekly men’s Bible study. Men of all ages are welcome to attend! \nDinner is provided (for small donation) at 6:00 pm\nBible study begins at 7:00 pm \n(If you’re interested in small groups or Bible studies that meet other times during the week\, please contact the Church Administrator).
URL:https://emmanuelcovenant.ca/event/mens-bible-study-161/
LOCATION:17029 16 Ave\, Surrey\, BC V3Z 9M5\, Canada
END:VEVENT
BEGIN:VEVENT
DTSTART;TZID=America/Vancouver:20170607T093000
DTEND;TZID=America/Vancouver:20170607T120000
DTSTAMP:20260425T114449
CREATED:20170607T163000Z
LAST-MODIFIED:20200406T183142Z
UID:400891-1496827800-1496836800@emmanuelcovenant.ca
SUMMARY:Ladies Bible Study
DESCRIPTION:This is our weekly women’s Bible study. Women of all ages are welcome to attend!  \n(If you’re interested in small groups or Bible studies that meet other times during the week\, please contact the Church Administrator).
URL:https://emmanuelcovenant.ca/event/ladies-bible-study-160/
LOCATION:17029 16 Ave\, Surrey\, BC V3Z 9M5\, Canada
END:VEVENT
BEGIN:VEVENT
DTSTART;VALUE=DATE:20170607
DTEND;VALUE=DATE:20170618
DTSTAMP:20260425T114449
CREATED:20170309T004135Z
LAST-MODIFIED:20170309T004135Z
UID:405081-1496793600-1497743999@emmanuelcovenant.ca
SUMMARY:Israel/Palestine Study Tour
DESCRIPTION:
URL:https://emmanuelcovenant.ca/event/israelpalestine-study-tour/
END:VEVENT
END:VCALENDAR