BEGIN:VCALENDAR
VERSION:2.0
PRODID:-//Emmanuel Covenant Church | South Surrey, BC - ECPv6.15.20//NONSGML v1.0//EN
CALSCALE:GREGORIAN
METHOD:PUBLISH
X-WR-CALNAME:Emmanuel Covenant Church | South Surrey, BC
X-ORIGINAL-URL:https://emmanuelcovenant.ca
X-WR-CALDESC:Events for Emmanuel Covenant Church | South Surrey, BC
REFRESH-INTERVAL;VALUE=DURATION:PT1H
X-Robots-Tag:noindex
X-PUBLISHED-TTL:PT1H
BEGIN:VTIMEZONE
TZID:America/Vancouver
BEGIN:DAYLIGHT
TZOFFSETFROM:-0800
TZOFFSETTO:-0700
TZNAME:PDT
DTSTART:20160313T100000
END:DAYLIGHT
BEGIN:STANDARD
TZOFFSETFROM:-0700
TZOFFSETTO:-0800
TZNAME:PST
DTSTART:20161106T090000
END:STANDARD
BEGIN:DAYLIGHT
TZOFFSETFROM:-0800
TZOFFSETTO:-0700
TZNAME:PDT
DTSTART:20170312T100000
END:DAYLIGHT
BEGIN:STANDARD
TZOFFSETFROM:-0700
TZOFFSETTO:-0800
TZNAME:PST
DTSTART:20171105T090000
END:STANDARD
BEGIN:DAYLIGHT
TZOFFSETFROM:-0800
TZOFFSETTO:-0700
TZNAME:PDT
DTSTART:20180311T100000
END:DAYLIGHT
BEGIN:STANDARD
TZOFFSETFROM:-0700
TZOFFSETTO:-0800
TZNAME:PST
DTSTART:20181104T090000
END:STANDARD
END:VTIMEZONE
BEGIN:VEVENT
DTSTART;TZID=America/Vancouver:20170924T100000
DTEND;TZID=America/Vancouver:20170924T102000
DTSTAMP:20260425T084127
CREATED:20170924T170000Z
LAST-MODIFIED:20200406T183138Z
UID:401218-1506247200-1506248400@emmanuelcovenant.ca
SUMMARY:Family Circle
DESCRIPTION:Family Circle is our time of prayer before each worship service. All are welcome to attend. This group meets in the Prayer Room at ECC.
URL:https://emmanuelcovenant.ca/event/family-circle-183/
LOCATION:17029 16 Ave\, Surrey\, BC V3Z 9M5\, Canada
END:VEVENT
BEGIN:VEVENT
DTSTART;TZID=America/Vancouver:20170922T180000
DTEND;TZID=America/Vancouver:20170922T200000
DTSTAMP:20260425T084127
CREATED:20170923T010000Z
LAST-MODIFIED:20200406T183138Z
UID:401214-1506103200-1506110400@emmanuelcovenant.ca
SUMMARY:Mens' Bible Study
DESCRIPTION:This is our weekly men’s Bible study. Men of all ages are welcome to attend! \nDinner is provided (for small donation) at 6:00 pm\nBible study begins at 7:00 pm \n(If you’re interested in small groups or Bible studies that meet other times during the week\, please contact the Church Administrator).
URL:https://emmanuelcovenant.ca/event/mens-bible-study-179/
LOCATION:17029 16 Ave\, Surrey\, BC V3Z 9M5\, Canada
END:VEVENT
BEGIN:VEVENT
DTSTART;TZID=America/Vancouver:20170920T093000
DTEND;TZID=America/Vancouver:20170920T120000
DTSTAMP:20260425T084127
CREATED:20170920T163000Z
LAST-MODIFIED:20200406T183138Z
UID:401206-1505899800-1505908800@emmanuelcovenant.ca
SUMMARY:Ladies Bible Study
DESCRIPTION:This is our weekly women’s Bible study. Women of all ages are welcome to attend!  \n(If you’re interested in small groups or Bible studies that meet other times during the week\, please contact the Church Administrator).
URL:https://emmanuelcovenant.ca/event/ladies-bible-study-179/
LOCATION:17029 16 Ave\, Surrey\, BC V3Z 9M5\, Canada
END:VEVENT
BEGIN:VEVENT
DTSTART;TZID=America/Vancouver:20170919T190000
DTEND;TZID=America/Vancouver:20170919T203000
DTSTAMP:20260425T084127
CREATED:20170920T020000Z
LAST-MODIFIED:20200406T183138Z
UID:401203-1505847600-1505853000@emmanuelcovenant.ca
SUMMARY:Prayer Meeting
DESCRIPTION:All are welcome to attend this time of prayer.
URL:https://emmanuelcovenant.ca/event/prayer-meeting-183/
LOCATION:Contact Church Administrator for Address
END:VEVENT
BEGIN:VEVENT
DTSTART;TZID=America/Vancouver:20170917T103000
DTEND;TZID=America/Vancouver:20170917T233000
DTSTAMP:20260425T084127
CREATED:20160120T032100Z
LAST-MODIFIED:20160120T032100Z
UID:401202-1505644200-1505691000@emmanuelcovenant.ca
SUMMARY:Worship Service
DESCRIPTION:
URL:https://emmanuelcovenant.ca/event/worship-service-178/
LOCATION:17029 16 Ave\, Surrey\, BC V3Z 9M5\, Canada
END:VEVENT
BEGIN:VEVENT
DTSTART;TZID=America/Vancouver:20170917T100000
DTEND;TZID=America/Vancouver:20170917T102000
DTSTAMP:20260425T084127
CREATED:20170917T170000Z
LAST-MODIFIED:20200406T183138Z
UID:401199-1505642400-1505643600@emmanuelcovenant.ca
SUMMARY:Family Circle
DESCRIPTION:Family Circle is our time of prayer before each worship service. All are welcome to attend. This group meets in the Prayer Room at ECC.
URL:https://emmanuelcovenant.ca/event/family-circle-182/
LOCATION:17029 16 Ave\, Surrey\, BC V3Z 9M5\, Canada
END:VEVENT
BEGIN:VEVENT
DTSTART;TZID=America/Vancouver:20170915T180000
DTEND;TZID=America/Vancouver:20170915T200000
DTSTAMP:20260425T084127
CREATED:20170916T010000Z
LAST-MODIFIED:20200406T183138Z
UID:401192-1505498400-1505505600@emmanuelcovenant.ca
SUMMARY:Mens' Bible Study
DESCRIPTION:This is our weekly men’s Bible study. Men of all ages are welcome to attend! \nDinner is provided (for small donation) at 6:00 pm\nBible study begins at 7:00 pm \n(If you’re interested in small groups or Bible studies that meet other times during the week\, please contact the Church Administrator).
URL:https://emmanuelcovenant.ca/event/mens-bible-study-176/
LOCATION:17029 16 Ave\, Surrey\, BC V3Z 9M5\, Canada
END:VEVENT
BEGIN:VEVENT
DTSTART;TZID=America/Vancouver:20170913T093000
DTEND;TZID=America/Vancouver:20170913T120000
DTSTAMP:20260425T084127
CREATED:20170913T163000Z
LAST-MODIFIED:20200406T183138Z
UID:401185-1505295000-1505304000@emmanuelcovenant.ca
SUMMARY:Ladies Bible Study
DESCRIPTION:This is our weekly women’s Bible study. Women of all ages are welcome to attend!  \n(If you’re interested in small groups or Bible studies that meet other times during the week\, please contact the Church Administrator).
URL:https://emmanuelcovenant.ca/event/ladies-bible-study-176/
LOCATION:17029 16 Ave\, Surrey\, BC V3Z 9M5\, Canada
END:VEVENT
BEGIN:VEVENT
DTSTART;TZID=America/Vancouver:20170912T190000
DTEND;TZID=America/Vancouver:20170912T203000
DTSTAMP:20260425T084127
CREATED:20170913T020000Z
LAST-MODIFIED:20200406T183138Z
UID:401182-1505242800-1505248200@emmanuelcovenant.ca
SUMMARY:Prayer Meeting
DESCRIPTION:All are welcome to attend this time of prayer.
URL:https://emmanuelcovenant.ca/event/prayer-meeting-180/
LOCATION:Contact Church Administrator for Address
END:VEVENT
BEGIN:VEVENT
DTSTART;TZID=America/Vancouver:20170910T103000
DTEND;TZID=America/Vancouver:20170910T233000
DTSTAMP:20260425T084127
CREATED:20160120T032055Z
LAST-MODIFIED:20160120T032055Z
UID:401181-1505039400-1505086200@emmanuelcovenant.ca
SUMMARY:Worship Service
DESCRIPTION:
URL:https://emmanuelcovenant.ca/event/worship-service-177/
LOCATION:17029 16 Ave\, Surrey\, BC V3Z 9M5\, Canada
END:VEVENT
BEGIN:VEVENT
DTSTART;TZID=America/Vancouver:20170910T093000
DTEND;TZID=America/Vancouver:20170910T102000
DTSTAMP:20260425T084127
CREATED:20170910T163000Z
LAST-MODIFIED:20200406T183139Z
UID:401178-1505035800-1505038800@emmanuelcovenant.ca
SUMMARY:Family Circle Prayer & Bible Study
DESCRIPTION:[column width=”1/1″ last=”true” title=”” title_type=”single” animation=”none” implicit=”true”] \nFamily Circle is our time of prayer before each worship service. All are welcome to attend. This group meets in the Prayer Room at ECC. \n[/column]
URL:https://emmanuelcovenant.ca/event/family-circle-180/
LOCATION:17029 16 Ave\, Surrey\, BC V3Z 9M5\, Canada
END:VEVENT
BEGIN:VEVENT
DTSTART;TZID=America/Vancouver:20170908T180000
DTEND;TZID=America/Vancouver:20170908T200000
DTSTAMP:20260425T084127
CREATED:20170909T010000Z
LAST-MODIFIED:20200406T183139Z
UID:401171-1504893600-1504900800@emmanuelcovenant.ca
SUMMARY:Mens' Bible Study
DESCRIPTION:This is our weekly men’s Bible study. Men of all ages are welcome to attend! \nDinner is provided (for small donation) at 6:00 pm\nBible study begins at 7:00 pm \n(If you’re interested in small groups or Bible studies that meet other times during the week\, please contact the Church Administrator).
URL:https://emmanuelcovenant.ca/event/mens-bible-study-175/
LOCATION:17029 16 Ave\, Surrey\, BC V3Z 9M5\, Canada
END:VEVENT
BEGIN:VEVENT
DTSTART;TZID=America/Vancouver:20170905T190000
DTEND;TZID=America/Vancouver:20170905T203000
DTSTAMP:20260425T084127
CREATED:20170906T020000Z
LAST-MODIFIED:20200406T183139Z
UID:401163-1504638000-1504643400@emmanuelcovenant.ca
SUMMARY:Prayer Meeting
DESCRIPTION:All are welcome to attend this time of prayer.
URL:https://emmanuelcovenant.ca/event/prayer-meeting-179/
LOCATION:Contact Church Administrator for Address
END:VEVENT
BEGIN:VEVENT
DTSTART;TZID=America/Vancouver:20170903T103000
DTEND;TZID=America/Vancouver:20170903T233000
DTSTAMP:20260425T084127
CREATED:20160120T032050Z
LAST-MODIFIED:20160120T032050Z
UID:401159-1504434600-1504481400@emmanuelcovenant.ca
SUMMARY:Worship Service
DESCRIPTION:
URL:https://emmanuelcovenant.ca/event/worship-service-176/
LOCATION:17029 16 Ave\, Surrey\, BC V3Z 9M5\, Canada
END:VEVENT
BEGIN:VEVENT
DTSTART;TZID=America/Vancouver:20170901T180000
DTEND;TZID=America/Vancouver:20170901T200000
DTSTAMP:20260425T084127
CREATED:20170902T010000Z
LAST-MODIFIED:20200406T183139Z
UID:401150-1504288800-1504296000@emmanuelcovenant.ca
SUMMARY:Mens' Bible Study
DESCRIPTION:This is our weekly men’s Bible study. Men of all ages are welcome to attend! \nDinner is provided (for small donation) at 6:00 pm\nBible study begins at 7:00 pm \n(If you’re interested in small groups or Bible studies that meet other times during the week\, please contact the Church Administrator).
URL:https://emmanuelcovenant.ca/event/mens-bible-study-173/
LOCATION:17029 16 Ave\, Surrey\, BC V3Z 9M5\, Canada
END:VEVENT
BEGIN:VEVENT
DTSTART;TZID=America/Vancouver:20170829T190000
DTEND;TZID=America/Vancouver:20170829T203000
DTSTAMP:20260425T084127
CREATED:20170830T020000Z
LAST-MODIFIED:20200406T183139Z
UID:401140-1504033200-1504038600@emmanuelcovenant.ca
SUMMARY:Prayer Meeting
DESCRIPTION:All are welcome to attend this time of prayer.
URL:https://emmanuelcovenant.ca/event/prayer-meeting-178/
LOCATION:Contact Church Administrator for Address
END:VEVENT
BEGIN:VEVENT
DTSTART;TZID=America/Vancouver:20170827T103000
DTEND;TZID=America/Vancouver:20170827T233000
DTSTAMP:20260425T084127
CREATED:20160120T032046Z
LAST-MODIFIED:20160120T032046Z
UID:401138-1503829800-1503876600@emmanuelcovenant.ca
SUMMARY:Worship Service
DESCRIPTION:
URL:https://emmanuelcovenant.ca/event/worship-service-175/
LOCATION:17029 16 Ave\, Surrey\, BC V3Z 9M5\, Canada
END:VEVENT
BEGIN:VEVENT
DTSTART;TZID=America/Vancouver:20170825T180000
DTEND;TZID=America/Vancouver:20170825T200000
DTSTAMP:20260425T084127
CREATED:20170826T010000Z
LAST-MODIFIED:20200406T183139Z
UID:401129-1503684000-1503691200@emmanuelcovenant.ca
SUMMARY:Mens' Bible Study
DESCRIPTION:This is our weekly men’s Bible study. Men of all ages are welcome to attend! \nDinner is provided (for small donation) at 6:00 pm\nBible study begins at 7:00 pm \n(If you’re interested in small groups or Bible studies that meet other times during the week\, please contact the Church Administrator).
URL:https://emmanuelcovenant.ca/event/mens-bible-study-172/
LOCATION:17029 16 Ave\, Surrey\, BC V3Z 9M5\, Canada
END:VEVENT
BEGIN:VEVENT
DTSTART;TZID=America/Vancouver:20170822T190000
DTEND;TZID=America/Vancouver:20170822T203000
DTSTAMP:20260425T084127
CREATED:20170823T020000Z
LAST-MODIFIED:20200406T183139Z
UID:401120-1503428400-1503433800@emmanuelcovenant.ca
SUMMARY:Prayer Meeting
DESCRIPTION:All are welcome to attend this time of prayer.
URL:https://emmanuelcovenant.ca/event/prayer-meeting-176/
LOCATION:Contact Church Administrator for Address
END:VEVENT
BEGIN:VEVENT
DTSTART;TZID=America/Vancouver:20170820T103000
DTEND;TZID=America/Vancouver:20170820T233000
DTSTAMP:20260425T084127
CREATED:20160120T032041Z
LAST-MODIFIED:20160120T032041Z
UID:401116-1503225000-1503271800@emmanuelcovenant.ca
SUMMARY:Worship Service
DESCRIPTION:
URL:https://emmanuelcovenant.ca/event/worship-service-174/
LOCATION:17029 16 Ave\, Surrey\, BC V3Z 9M5\, Canada
END:VEVENT
BEGIN:VEVENT
DTSTART;TZID=America/Vancouver:20170818T180000
DTEND;TZID=America/Vancouver:20170818T200000
DTSTAMP:20260425T084127
CREATED:20170819T010000Z
LAST-MODIFIED:20200406T183139Z
UID:401109-1503079200-1503086400@emmanuelcovenant.ca
SUMMARY:Mens' Bible Study
DESCRIPTION:This is our weekly men’s Bible study. Men of all ages are welcome to attend! \nDinner is provided (for small donation) at 6:00 pm\nBible study begins at 7:00 pm \n(If you’re interested in small groups or Bible studies that meet other times during the week\, please contact the Church Administrator).
URL:https://emmanuelcovenant.ca/event/mens-bible-study-171/
LOCATION:17029 16 Ave\, Surrey\, BC V3Z 9M5\, Canada
END:VEVENT
BEGIN:VEVENT
DTSTART;TZID=America/Vancouver:20170815T190000
DTEND;TZID=America/Vancouver:20170815T203000
DTSTAMP:20260425T084127
CREATED:20170816T020000Z
LAST-MODIFIED:20200406T183139Z
UID:401098-1502823600-1502829000@emmanuelcovenant.ca
SUMMARY:Prayer Meeting
DESCRIPTION:All are welcome to attend this time of prayer.
URL:https://emmanuelcovenant.ca/event/prayer-meeting-175/
LOCATION:Contact Church Administrator for Address
END:VEVENT
BEGIN:VEVENT
DTSTART;TZID=America/Vancouver:20170813T103000
DTEND;TZID=America/Vancouver:20170813T233000
DTSTAMP:20260425T084127
CREATED:20160120T032037Z
LAST-MODIFIED:20160120T032037Z
UID:401096-1502620200-1502667000@emmanuelcovenant.ca
SUMMARY:Worship Service
DESCRIPTION:
URL:https://emmanuelcovenant.ca/event/worship-service-173/
LOCATION:17029 16 Ave\, Surrey\, BC V3Z 9M5\, Canada
END:VEVENT
BEGIN:VEVENT
DTSTART;TZID=America/Vancouver:20170811T180000
DTEND;TZID=America/Vancouver:20170811T200000
DTSTAMP:20260425T084127
CREATED:20170812T010000Z
LAST-MODIFIED:20200406T183139Z
UID:401088-1502474400-1502481600@emmanuelcovenant.ca
SUMMARY:Mens' Bible Study
DESCRIPTION:This is our weekly men’s Bible study. Men of all ages are welcome to attend! \nDinner is provided (for small donation) at 6:00 pm\nBible study begins at 7:00 pm \n(If you’re interested in small groups or Bible studies that meet other times during the week\, please contact the Church Administrator).
URL:https://emmanuelcovenant.ca/event/mens-bible-study-170/
LOCATION:17029 16 Ave\, Surrey\, BC V3Z 9M5\, Canada
END:VEVENT
BEGIN:VEVENT
DTSTART;TZID=America/Vancouver:20170808T190000
DTEND;TZID=America/Vancouver:20170808T203000
DTSTAMP:20260425T084127
CREATED:20170809T020000Z
LAST-MODIFIED:20200406T183140Z
UID:401079-1502218800-1502224200@emmanuelcovenant.ca
SUMMARY:Prayer Meeting
DESCRIPTION:All are welcome to attend this time of prayer.
URL:https://emmanuelcovenant.ca/event/prayer-meeting-174/
LOCATION:Contact Church Administrator for Address
END:VEVENT
BEGIN:VEVENT
DTSTART;TZID=America/Vancouver:20170806T103000
DTEND;TZID=America/Vancouver:20170806T233000
DTSTAMP:20260425T084127
CREATED:20160120T032033Z
LAST-MODIFIED:20160120T032033Z
UID:401076-1502015400-1502062200@emmanuelcovenant.ca
SUMMARY:Worship Service
DESCRIPTION:
URL:https://emmanuelcovenant.ca/event/worship-service-172/
LOCATION:17029 16 Ave\, Surrey\, BC V3Z 9M5\, Canada
END:VEVENT
BEGIN:VEVENT
DTSTART;TZID=America/Vancouver:20170804T180000
DTEND;TZID=America/Vancouver:20170804T200000
DTSTAMP:20260425T084127
CREATED:20170805T010000Z
LAST-MODIFIED:20200406T183140Z
UID:401067-1501869600-1501876800@emmanuelcovenant.ca
SUMMARY:Mens' Bible Study
DESCRIPTION:This is our weekly men’s Bible study. Men of all ages are welcome to attend! \nDinner is provided (for small donation) at 6:00 pm\nBible study begins at 7:00 pm \n(If you’re interested in small groups or Bible studies that meet other times during the week\, please contact the Church Administrator).
URL:https://emmanuelcovenant.ca/event/mens-bible-study-169/
LOCATION:17029 16 Ave\, Surrey\, BC V3Z 9M5\, Canada
END:VEVENT
BEGIN:VEVENT
DTSTART;TZID=America/Vancouver:20170802T183000
DTEND;TZID=America/Vancouver:20170802T200000
DTSTAMP:20260425T084127
CREATED:20170704T170520Z
LAST-MODIFIED:20170704T170520Z
UID:405313-1501698600-1501704000@emmanuelcovenant.ca
SUMMARY:Concert at Dart's Hill Garden Park
DESCRIPTION:
URL:https://emmanuelcovenant.ca/event/concert-at-darts-hill-garden-park-2/
LOCATION:Dart’s HIll Garden Park\, 1633 170 Street\, Surrey\, Canada
CATEGORIES:Fellowship,Outreach
END:VEVENT
BEGIN:VEVENT
DTSTART;TZID=America/Vancouver:20170801T190000
DTEND;TZID=America/Vancouver:20170801T203000
DTSTAMP:20260425T084127
CREATED:20170802T020000Z
LAST-MODIFIED:20200406T183140Z
UID:401056-1501614000-1501619400@emmanuelcovenant.ca
SUMMARY:Prayer Meeting
DESCRIPTION:All are welcome to attend this time of prayer.
URL:https://emmanuelcovenant.ca/event/prayer-meeting-173/
LOCATION:Contact Church Administrator for Address
END:VEVENT
BEGIN:VEVENT
DTSTART;TZID=America/Vancouver:20170730T103000
DTEND;TZID=America/Vancouver:20170730T233000
DTSTAMP:20260425T084127
CREATED:20160120T032029Z
LAST-MODIFIED:20160120T032029Z
UID:401054-1501410600-1501457400@emmanuelcovenant.ca
SUMMARY:Worship Service
DESCRIPTION:
URL:https://emmanuelcovenant.ca/event/worship-service-170/
LOCATION:17029 16 Ave\, Surrey\, BC V3Z 9M5\, Canada
END:VEVENT
END:VCALENDAR