BEGIN:VCALENDAR
VERSION:2.0
PRODID:-//Emmanuel Covenant Church | South Surrey, BC - ECPv6.15.20//NONSGML v1.0//EN
CALSCALE:GREGORIAN
METHOD:PUBLISH
X-ORIGINAL-URL:https://emmanuelcovenant.ca
X-WR-CALDESC:Events for Emmanuel Covenant Church | South Surrey, BC
REFRESH-INTERVAL;VALUE=DURATION:PT1H
X-Robots-Tag:noindex
X-PUBLISHED-TTL:PT1H
BEGIN:VTIMEZONE
TZID:America/Vancouver
BEGIN:DAYLIGHT
TZOFFSETFROM:-0800
TZOFFSETTO:-0700
TZNAME:PDT
DTSTART:20190310T100000
END:DAYLIGHT
BEGIN:STANDARD
TZOFFSETFROM:-0700
TZOFFSETTO:-0800
TZNAME:PST
DTSTART:20191103T090000
END:STANDARD
BEGIN:DAYLIGHT
TZOFFSETFROM:-0800
TZOFFSETTO:-0700
TZNAME:PDT
DTSTART:20200308T100000
END:DAYLIGHT
BEGIN:STANDARD
TZOFFSETFROM:-0700
TZOFFSETTO:-0800
TZNAME:PST
DTSTART:20201101T090000
END:STANDARD
BEGIN:DAYLIGHT
TZOFFSETFROM:-0800
TZOFFSETTO:-0700
TZNAME:PDT
DTSTART:20210314T100000
END:DAYLIGHT
BEGIN:STANDARD
TZOFFSETFROM:-0700
TZOFFSETTO:-0800
TZNAME:PST
DTSTART:20211107T090000
END:STANDARD
END:VTIMEZONE
BEGIN:VEVENT
DTSTART;TZID=America/Vancouver:20200522T180000
DTEND;TZID=America/Vancouver:20200522T200000
DTSTAMP:20260423T201344
CREATED:20200523T010000Z
LAST-MODIFIED:20200406T183011Z
UID:406522-1590170400-1590177600@emmanuelcovenant.ca
SUMMARY:Men's Bible Study
DESCRIPTION:[column width=”1/1″ last=”true” title=”” title_type=”single” animation=”none” implicit=”true”] \nDinner at 6pm Bible Study at 7pm Please RSVP to debbie@emmanuelcovenant.ca \n[/column]
URL:https://emmanuelcovenant.ca/event/mens-bible-study-112/
CATEGORIES:Bible Study,Men's Ministry
END:VEVENT
BEGIN:VEVENT
DTSTART;TZID=America/Vancouver:20200520T093000
DTEND;TZID=America/Vancouver:20200520T120000
DTSTAMP:20260423T201344
CREATED:20191210T032650Z
LAST-MODIFIED:20191210T032650Z
UID:406615-1589967000-1589976000@emmanuelcovenant.ca
SUMMARY:Ladies' Bible Study
DESCRIPTION:
URL:https://emmanuelcovenant.ca/event/ladies-bible-study-77/
CATEGORIES:Bible Study,Prayer,Womens' Ministry
END:VEVENT
BEGIN:VEVENT
DTSTART;TZID=America/Vancouver:20200517T103000
DTEND;TZID=America/Vancouver:20200517T113000
DTSTAMP:20260423T201344
CREATED:20200517T173000Z
LAST-MODIFIED:20200406T183011Z
UID:406559-1589711400-1589715000@emmanuelcovenant.ca
SUMMARY:Sunday Worship
DESCRIPTION:[column width=”1/1″ last=”true” title=”” title_type=”single” animation=”none” implicit=”true”] \nSermon Series: John \n[/column]
URL:https://emmanuelcovenant.ca/event/sunday-worship-35/
CATEGORIES:Worship
END:VEVENT
BEGIN:VEVENT
DTSTART;TZID=America/Vancouver:20200517T091500
DTEND;TZID=America/Vancouver:20200517T101500
DTSTAMP:20260423T201344
CREATED:20191212T183902Z
LAST-MODIFIED:20191212T183902Z
UID:406667-1589706900-1589710500@emmanuelcovenant.ca
SUMMARY:Sunday Bible Study & Prayer
DESCRIPTION:
URL:https://emmanuelcovenant.ca/event/sunday-bible-study-prayer-36/
CATEGORIES:Bible Study,Life Together,Prayer
END:VEVENT
BEGIN:VEVENT
DTSTART;TZID=America/Vancouver:20200515T180000
DTEND;TZID=America/Vancouver:20200515T200000
DTSTAMP:20260423T201344
CREATED:20200516T010000Z
LAST-MODIFIED:20200406T183011Z
UID:406520-1589565600-1589572800@emmanuelcovenant.ca
SUMMARY:Men's Bible Study
DESCRIPTION:[column width=”1/1″ last=”true” title=”” title_type=”single” animation=”none” implicit=”true”] \nDinner at 6pm Bible Study at 7pm Please RSVP to debbie@emmanuelcovenant.ca \n[/column]
URL:https://emmanuelcovenant.ca/event/mens-bible-study-111/
CATEGORIES:Bible Study,Men's Ministry
END:VEVENT
BEGIN:VEVENT
DTSTART;TZID=America/Vancouver:20200513T093000
DTEND;TZID=America/Vancouver:20200513T120000
DTSTAMP:20260423T201344
CREATED:20191210T032617Z
LAST-MODIFIED:20191210T032617Z
UID:406613-1589362200-1589371200@emmanuelcovenant.ca
SUMMARY:Ladies' Bible Study
DESCRIPTION:
URL:https://emmanuelcovenant.ca/event/ladies-bible-study-75/
CATEGORIES:Bible Study,Prayer,Womens' Ministry
END:VEVENT
BEGIN:VEVENT
DTSTART;TZID=America/Vancouver:20200510T103000
DTEND;TZID=America/Vancouver:20200510T113000
DTSTAMP:20260423T201344
CREATED:20200510T173000Z
LAST-MODIFIED:20200406T183011Z
UID:406557-1589106600-1589110200@emmanuelcovenant.ca
SUMMARY:Sunday Worship
DESCRIPTION:[column width=”1/1″ last=”true” title=”” title_type=”single” animation=”none” implicit=”true”] \nSermon Series: John \n[/column]
URL:https://emmanuelcovenant.ca/event/sunday-worship-34/
CATEGORIES:Worship
END:VEVENT
BEGIN:VEVENT
DTSTART;TZID=America/Vancouver:20200510T091500
DTEND;TZID=America/Vancouver:20200510T101500
DTSTAMP:20260423T201344
CREATED:20191212T183815Z
LAST-MODIFIED:20191212T183815Z
UID:406665-1589102100-1589105700@emmanuelcovenant.ca
SUMMARY:Sunday Bible Study & Prayer
DESCRIPTION:
URL:https://emmanuelcovenant.ca/event/sunday-bible-study-prayer-35/
CATEGORIES:Bible Study,Life Together,Prayer
END:VEVENT
BEGIN:VEVENT
DTSTART;TZID=America/Vancouver:20200508T180000
DTEND;TZID=America/Vancouver:20200508T200000
DTSTAMP:20260423T201344
CREATED:20200509T010000Z
LAST-MODIFIED:20200406T183011Z
UID:406518-1588960800-1588968000@emmanuelcovenant.ca
SUMMARY:Men's Bible Study
DESCRIPTION:[column width=”1/1″ last=”true” title=”” title_type=”single” animation=”none” implicit=”true”] \nDinner at 6pm Bible Study at 7pm Please RSVP to debbie@emmanuelcovenant.ca \n[/column]
URL:https://emmanuelcovenant.ca/event/mens-bible-study-109/
CATEGORIES:Bible Study,Men's Ministry
END:VEVENT
BEGIN:VEVENT
DTSTART;TZID=America/Vancouver:20200506T093000
DTEND;TZID=America/Vancouver:20200506T120000
DTSTAMP:20260423T201344
CREATED:20191210T032529Z
LAST-MODIFIED:20191210T032529Z
UID:406611-1588757400-1588766400@emmanuelcovenant.ca
SUMMARY:Ladies' Bible Study
DESCRIPTION:
URL:https://emmanuelcovenant.ca/event/ladies-bible-study-74/
CATEGORIES:Bible Study,Prayer,Womens' Ministry
END:VEVENT
BEGIN:VEVENT
DTSTART;TZID=America/Vancouver:20200503T103000
DTEND;TZID=America/Vancouver:20200503T113000
DTSTAMP:20260423T201344
CREATED:20200503T173000Z
LAST-MODIFIED:20200406T183011Z
UID:406554-1588501800-1588505400@emmanuelcovenant.ca
SUMMARY:Sunday Worship - Communion
DESCRIPTION:[column width=”1/1″ last=”true” title=”” title_type=”single” animation=”none” implicit=”true”] \nSermon Series: AGM \nGuest Preacher: \n[/column]
URL:https://emmanuelcovenant.ca/event/sunday-worship-communion-4/
CATEGORIES:Worship
END:VEVENT
BEGIN:VEVENT
DTSTART;TZID=America/Vancouver:20200503T091500
DTEND;TZID=America/Vancouver:20200503T101500
DTSTAMP:20260423T201344
CREATED:20191212T183744Z
LAST-MODIFIED:20191212T183744Z
UID:406663-1588497300-1588500900@emmanuelcovenant.ca
SUMMARY:Sunday Bible Study & Prayer
DESCRIPTION:
URL:https://emmanuelcovenant.ca/event/sunday-bible-study-prayer-34/
CATEGORIES:Bible Study,Life Together,Prayer
END:VEVENT
BEGIN:VEVENT
DTSTART;VALUE=DATE:20200501
DTEND;VALUE=DATE:20200504
DTSTAMP:20260423T201344
CREATED:20200501T070000Z
LAST-MODIFIED:20200406T183011Z
UID:406472-1588291200-1588550399@emmanuelcovenant.ca
SUMMARY:ECCC AGM
DESCRIPTION:[column width=”1/1″ last=”true” title=”” title_type=”single” animation=”none” implicit=”true”] \nEvangelical Covenant Church of Canada – Annual General Meeting \n[/column]
URL:https://emmanuelcovenant.ca/event/eccc-agm-2/
END:VEVENT
BEGIN:VEVENT
DTSTART;TZID=America/Vancouver:20200429T093000
DTEND;TZID=America/Vancouver:20200429T120000
DTSTAMP:20260423T201344
CREATED:20191210T032457Z
LAST-MODIFIED:20191210T032457Z
UID:406609-1588152600-1588161600@emmanuelcovenant.ca
SUMMARY:Ladies' Bible Study
DESCRIPTION:
URL:https://emmanuelcovenant.ca/event/ladies-bible-study-72/
CATEGORIES:Bible Study,Prayer,Womens' Ministry
END:VEVENT
BEGIN:VEVENT
DTSTART;TZID=America/Vancouver:20200426T103000
DTEND;TZID=America/Vancouver:20200426T113000
DTSTAMP:20260423T201344
CREATED:20200426T173000Z
LAST-MODIFIED:20200406T183011Z
UID:406550-1587897000-1587900600@emmanuelcovenant.ca
SUMMARY:Sunday Worship
DESCRIPTION:[column width=”1/1″ last=”true” title=”” title_type=”single” animation=”none” implicit=”true”] \nSermon Series: John \n[/column]
URL:https://emmanuelcovenant.ca/event/sunday-worship-33/
CATEGORIES:Worship
END:VEVENT
BEGIN:VEVENT
DTSTART;TZID=America/Vancouver:20200426T091500
DTEND;TZID=America/Vancouver:20200426T101500
DTSTAMP:20260423T201344
CREATED:20191212T183707Z
LAST-MODIFIED:20191212T183707Z
UID:406661-1587892500-1587896100@emmanuelcovenant.ca
SUMMARY:Sunday Bible Study & Prayer
DESCRIPTION:
URL:https://emmanuelcovenant.ca/event/sunday-bible-study-prayer-33/
CATEGORIES:Bible Study,Life Together,Prayer
END:VEVENT
BEGIN:VEVENT
DTSTART;TZID=America/Vancouver:20200424T180000
DTEND;TZID=America/Vancouver:20200424T200000
DTSTAMP:20260423T201344
CREATED:20200425T010000Z
LAST-MODIFIED:20200406T183011Z
UID:406516-1587751200-1587758400@emmanuelcovenant.ca
SUMMARY:Men's Bible Study
DESCRIPTION:[column width=”1/1″ last=”true” title=”” title_type=”single” animation=”none” implicit=”true”] \nDinner at 6pm Bible Study at 7pm Please RSVP to debbie@emmanuelcovenant.ca \n[/column]
URL:https://emmanuelcovenant.ca/event/mens-bible-study-108/
CATEGORIES:Bible Study,Men's Ministry
END:VEVENT
BEGIN:VEVENT
DTSTART;TZID=America/Vancouver:20200422T093000
DTEND;TZID=America/Vancouver:20200422T120000
DTSTAMP:20260423T201344
CREATED:20191210T032414Z
LAST-MODIFIED:20191210T032414Z
UID:406607-1587547800-1587556800@emmanuelcovenant.ca
SUMMARY:Ladies' Bible Study
DESCRIPTION:
URL:https://emmanuelcovenant.ca/event/ladies-bible-study-70/
CATEGORIES:Bible Study,Prayer,Womens' Ministry
END:VEVENT
BEGIN:VEVENT
DTSTART;TZID=America/Vancouver:20200419T103000
DTEND;TZID=America/Vancouver:20200419T113000
DTSTAMP:20260423T201344
CREATED:20200419T173000Z
LAST-MODIFIED:20200406T183012Z
UID:406548-1587292200-1587295800@emmanuelcovenant.ca
SUMMARY:Sunday Worship
DESCRIPTION:[column width=”1/1″ last=”true” title=”” title_type=”single” animation=”none” implicit=”true”] \nSermon Series: John \n[/column]
URL:https://emmanuelcovenant.ca/event/sunday-worship-32/
CATEGORIES:Worship
END:VEVENT
BEGIN:VEVENT
DTSTART;TZID=America/Vancouver:20200419T091500
DTEND;TZID=America/Vancouver:20200419T101500
DTSTAMP:20260423T201344
CREATED:20191212T183627Z
LAST-MODIFIED:20191212T183627Z
UID:406659-1587287700-1587291300@emmanuelcovenant.ca
SUMMARY:Sunday Bible Study & Prayer
DESCRIPTION:
URL:https://emmanuelcovenant.ca/event/sunday-bible-study-prayer-32/
CATEGORIES:Bible Study,Life Together,Prayer
END:VEVENT
BEGIN:VEVENT
DTSTART;TZID=America/Vancouver:20200417T180000
DTEND;TZID=America/Vancouver:20200417T200000
DTSTAMP:20260423T201344
CREATED:20200418T010000Z
LAST-MODIFIED:20200406T183012Z
UID:406514-1587146400-1587153600@emmanuelcovenant.ca
SUMMARY:Men's Bible Study
DESCRIPTION:[column width=”1/1″ last=”true” title=”” title_type=”single” animation=”none” implicit=”true”] \nDinner at 6pm Bible Study at 7pm Please RSVP to debbie@emmanuelcovenant.ca \n[/column]
URL:https://emmanuelcovenant.ca/event/mens-bible-study-106/
CATEGORIES:Bible Study,Men's Ministry
END:VEVENT
BEGIN:VEVENT
DTSTART;TZID=America/Vancouver:20200415T093000
DTEND;TZID=America/Vancouver:20200415T120000
DTSTAMP:20260423T201344
CREATED:20191210T032341Z
LAST-MODIFIED:20191210T032341Z
UID:406605-1586943000-1586952000@emmanuelcovenant.ca
SUMMARY:Ladies' Bible Study
DESCRIPTION:
URL:https://emmanuelcovenant.ca/event/ladies-bible-study-68/
CATEGORIES:Bible Study,Prayer,Womens' Ministry
END:VEVENT
BEGIN:VEVENT
DTSTART;TZID=America/Vancouver:20200412T103000
DTEND;TZID=America/Vancouver:20200412T113000
DTSTAMP:20260423T201344
CREATED:20200412T173000Z
LAST-MODIFIED:20200406T183012Z
UID:406546-1586687400-1586691000@emmanuelcovenant.ca
SUMMARY:Easter Sunday Worship!
DESCRIPTION:[column width=”1/1″ last=”true” title=”” title_type=”single” animation=”none” implicit=”true”] \nSermon Series: Resurrection Sunday! \n[/column]
URL:https://emmanuelcovenant.ca/event/easter-sunday-worship/
CATEGORIES:Worship
END:VEVENT
BEGIN:VEVENT
DTSTART;VALUE=DATE:20200410
DTEND;VALUE=DATE:20200411
DTSTAMP:20260423T201344
CREATED:20200410T070000Z
LAST-MODIFIED:20200406T183012Z
UID:406552-1586476800-1586563199@emmanuelcovenant.ca
SUMMARY:Good Friday Service
DESCRIPTION:Emmanuel at Home Resource for Good Friday
URL:https://emmanuelcovenant.ca/event/good-friday-service-5/
LOCATION:at home
CATEGORIES:Worship
END:VEVENT
BEGIN:VEVENT
DTSTART;TZID=America/Vancouver:20200405T103000
DTEND;TZID=America/Vancouver:20200405T113000
DTSTAMP:20260423T201344
CREATED:20200405T173000Z
LAST-MODIFIED:20200406T183012Z
UID:406544-1586082600-1586086200@emmanuelcovenant.ca
SUMMARY:Sunday Worship - Communion
DESCRIPTION:[column width=”1/1″ last=”true” title=”” title_type=”single” animation=”none” implicit=”true”] \nSermon Series: Lent – Palm Sunday \n[/column]
URL:https://emmanuelcovenant.ca/event/sunday-worship-communion-3/
CATEGORIES:Worship
END:VEVENT
BEGIN:VEVENT
DTSTART;TZID=America/Vancouver:20200405T091500
DTEND;TZID=America/Vancouver:20200405T101500
DTSTAMP:20260423T201344
CREATED:20191212T183532Z
LAST-MODIFIED:20191212T183532Z
UID:406655-1586078100-1586081700@emmanuelcovenant.ca
SUMMARY:Sunday Bible Study & Prayer
DESCRIPTION:
URL:https://emmanuelcovenant.ca/event/sunday-bible-study-prayer-30/
CATEGORIES:Bible Study,Life Together,Prayer
END:VEVENT
BEGIN:VEVENT
DTSTART;TZID=America/Vancouver:20200329T103000
DTEND;TZID=America/Vancouver:20200329T113000
DTSTAMP:20260423T201344
CREATED:20200329T173000Z
LAST-MODIFIED:20200406T183013Z
UID:406542-1585477800-1585481400@emmanuelcovenant.ca
SUMMARY:Sunday Worship
DESCRIPTION:[column width=”1/1″ last=”true” title=”” title_type=”single” animation=”none” implicit=”true”] \nSermon Series: Lent \n[/column]
URL:https://emmanuelcovenant.ca/event/sunday-worship-31/
CATEGORIES:Worship
END:VEVENT
BEGIN:VEVENT
DTSTART;TZID=America/Vancouver:20200322T103000
DTEND;TZID=America/Vancouver:20200322T113000
DTSTAMP:20260423T201344
CREATED:20200322T173000Z
LAST-MODIFIED:20200406T183013Z
UID:406540-1584873000-1584876600@emmanuelcovenant.ca
SUMMARY:Sunday Worship
DESCRIPTION:Here’s a link to our Emmanuel at Home service for March 22
URL:https://emmanuelcovenant.ca/event/sunday-worship-30/
CATEGORIES:Worship
END:VEVENT
BEGIN:VEVENT
DTSTART;TZID=America/Vancouver:20200315T103000
DTEND;TZID=America/Vancouver:20200315T113000
DTSTAMP:20260423T201344
CREATED:20200315T173000Z
LAST-MODIFIED:20200406T183014Z
UID:406538-1584268200-1584271800@emmanuelcovenant.ca
SUMMARY:Sunday Worship
DESCRIPTION:Here is the link for Emmanuel at Home worship for March 15
URL:https://emmanuelcovenant.ca/event/sunday-worship-29/
CATEGORIES:Worship
END:VEVENT
BEGIN:VEVENT
DTSTART;TZID=America/Vancouver:20200313T180000
DTEND;TZID=America/Vancouver:20200313T200000
DTSTAMP:20260423T201344
CREATED:20200314T010000Z
LAST-MODIFIED:20200406T183014Z
UID:406506-1584122400-1584129600@emmanuelcovenant.ca
SUMMARY:Men's Bible Study
DESCRIPTION:[column width=”1/1″ last=”true” title=”” title_type=”single” animation=”none” implicit=”true”] \nDinner at 6pm Bible Study at 7pm Please RSVP to debbie@emmanuelcovenant.ca \n[/column]
URL:https://emmanuelcovenant.ca/event/mens-bible-study-100/
CATEGORIES:Bible Study,Men's Ministry
END:VEVENT
END:VCALENDAR