BEGIN:VCALENDAR
VERSION:2.0
PRODID:-//Emmanuel Covenant Church | South Surrey, BC - ECPv6.15.20//NONSGML v1.0//EN
CALSCALE:GREGORIAN
METHOD:PUBLISH
X-ORIGINAL-URL:https://emmanuelcovenant.ca
X-WR-CALDESC:Events for Emmanuel Covenant Church | South Surrey, BC
REFRESH-INTERVAL;VALUE=DURATION:PT1H
X-Robots-Tag:noindex
X-PUBLISHED-TTL:PT1H
BEGIN:VTIMEZONE
TZID:America/Vancouver
BEGIN:DAYLIGHT
TZOFFSETFROM:-0800
TZOFFSETTO:-0700
TZNAME:PDT
DTSTART:20170312T100000
END:DAYLIGHT
BEGIN:STANDARD
TZOFFSETFROM:-0700
TZOFFSETTO:-0800
TZNAME:PST
DTSTART:20171105T090000
END:STANDARD
BEGIN:DAYLIGHT
TZOFFSETFROM:-0800
TZOFFSETTO:-0700
TZNAME:PDT
DTSTART:20180311T100000
END:DAYLIGHT
BEGIN:STANDARD
TZOFFSETFROM:-0700
TZOFFSETTO:-0800
TZNAME:PST
DTSTART:20181104T090000
END:STANDARD
BEGIN:DAYLIGHT
TZOFFSETFROM:-0800
TZOFFSETTO:-0700
TZNAME:PDT
DTSTART:20190310T100000
END:DAYLIGHT
BEGIN:STANDARD
TZOFFSETFROM:-0700
TZOFFSETTO:-0800
TZNAME:PST
DTSTART:20191103T090000
END:STANDARD
BEGIN:DAYLIGHT
TZOFFSETFROM:-0800
TZOFFSETTO:-0700
TZNAME:PDT
DTSTART:20200308T100000
END:DAYLIGHT
BEGIN:STANDARD
TZOFFSETFROM:-0700
TZOFFSETTO:-0800
TZNAME:PST
DTSTART:20201101T090000
END:STANDARD
END:VTIMEZONE
BEGIN:VEVENT
DTSTART;TZID=America/Vancouver:20190113T103000
DTEND;TZID=America/Vancouver:20190113T120000
DTSTAMP:20260424T201645
CREATED:20190113T183000Z
LAST-MODIFIED:20200406T183102Z
UID:405814-1547375400-1547380800@emmanuelcovenant.ca
SUMMARY:Worship Service
DESCRIPTION:[column width=”1/1″ last=”true” title=”” title_type=”single” animation=”none” implicit=”true”] \n  \n[/column]
URL:https://emmanuelcovenant.ca/event/worship-service-44/
CATEGORIES:Bible Study,Fellowship,Life Together,Worship
END:VEVENT
BEGIN:VEVENT
DTSTART;TZID=America/Vancouver:20190113T095000
DTEND;TZID=America/Vancouver:20190113T102000
DTSTAMP:20260424T201645
CREATED:20190113T175000Z
LAST-MODIFIED:20200406T183102Z
UID:405883-1547373000-1547374800@emmanuelcovenant.ca
SUMMARY:Sunday Prayer Together
DESCRIPTION:[column width=”1/1″ last=”true” title=”” title_type=”single” animation=”none” implicit=”true”] \n  \n[/column]
URL:https://emmanuelcovenant.ca/event/sunday-prayer-together/
LOCATION:Emmanuel Evangelical Covenant Church\, 17029 16 Ave\, Surrey\, BC\, V3Z9M5\, Canada
CATEGORIES:Life Together,Prayer
END:VEVENT
BEGIN:VEVENT
DTSTART;TZID=America/Vancouver:20190113T091500
DTEND;TZID=America/Vancouver:20190113T094500
DTSTAMP:20260424T201645
CREATED:20190113T171500Z
LAST-MODIFIED:20200406T183102Z
UID:405876-1547370900-1547372700@emmanuelcovenant.ca
SUMMARY:Sunday Bible Study
DESCRIPTION:[column width=”1/1″ last=”true” title=”” title_type=”single” animation=”none” implicit=”true”] \n  \n[/column]
URL:https://emmanuelcovenant.ca/event/sunday-bible-study/
LOCATION:Emmanuel Evangelical Covenant Church\, 17029 16 Ave\, Surrey\, BC\, V3Z9M5\, Canada
CATEGORIES:Bible Study
END:VEVENT
BEGIN:VEVENT
DTSTART;TZID=America/Vancouver:20190111T180000
DTEND;TZID=America/Vancouver:20190111T200000
DTSTAMP:20260424T201645
CREATED:20190112T020000Z
LAST-MODIFIED:20200406T183103Z
UID:405797-1547229600-1547236800@emmanuelcovenant.ca
SUMMARY:Men's Bible Study
DESCRIPTION:[column width=”1/1″ last=”true” title=”” title_type=”single” animation=”none” implicit=”true”] \n  \n[/column]
URL:https://emmanuelcovenant.ca/event/mens-bible-study-47/
CATEGORIES:Bible Study,Men's Ministry
END:VEVENT
BEGIN:VEVENT
DTSTART;TZID=America/Vancouver:20190109T093000
DTEND;TZID=America/Vancouver:20190109T120000
DTSTAMP:20260424T201645
CREATED:20190109T173000Z
LAST-MODIFIED:20200406T183103Z
UID:405799-1547026200-1547035200@emmanuelcovenant.ca
SUMMARY:Ladies' Bible Study
DESCRIPTION:[column width=”1/1″ last=”true” title=”” title_type=”single” animation=”none” implicit=”true”] \n  \n[/column] \n[column width=”1/1″ last=”true” title=”” title_type=”single” animation=”none” implicit=”true”] \n[/column] \n[column width=”1/1″ last=”true” title=”” title_type=”single” animation=”none” implicit=”true”] \n  \n[/column] \n[column parallax_bg=”disabled” parallax_bg_inertia=”-0.2″ extended=”” extended_padding=”1″ background_color=”” background_image=”” background_repeat=”” background_position=”” background_size=”auto” background_attachment=”” hide_bg_lowres=”” background_video=”” vertical_padding_top=”0″ vertical_padding_bottom=”0″ more_link=”” more_text=”” left_border=”transparent” class=”” id=”” title=”” title_type=”single” animation=”none” width=”1/1″ last=”true”] \n[/column] \n[column width=”1/1″ last=”true” title=”” title_type=”single” animation=”none” implicit=”true”] \n[/column]
URL:https://emmanuelcovenant.ca/event/womens-bible-study-5/
LOCATION:Emmanuel Evangelical Covenant Church\, 17029 16 Ave\, Surrey\, BC\, V3Z9M5\, Canada
CATEGORIES:Bible Study,Womens' Ministry
END:VEVENT
BEGIN:VEVENT
DTSTART;TZID=America/Vancouver:20190106T130000
DTEND;TZID=America/Vancouver:20190106T160000
DTSTAMP:20260424T201645
CREATED:20190106T210000Z
LAST-MODIFIED:20200406T183104Z
UID:405763-1546779600-1546790400@emmanuelcovenant.ca
SUMMARY:Christmas Tree Chipping & Bottle Drive
DESCRIPTION:[column width=”1/1″ last=”true” title=”” title_type=”single” animation=”none” implicit=”true”] \n  \n[/column] \n[column width=”1/1″ last=”true” title=”” title_type=”single” animation=”none” implicit=”true”] \n[/column] \n[column width=”1/1″ last=”true” title=”” title_type=”single” animation=”none” implicit=”true”] \n  \n[/column]
URL:https://emmanuelcovenant.ca/event/christmas-tree-chipping-bottle-drive-4/
CATEGORIES:Fellowship,Youth
ATTACH;FMTTYPE=image/png:https://emmanuelcovenant.ca/wp-content/uploads/2018/11/Tree-Chipping-2019-TV.png
END:VEVENT
BEGIN:VEVENT
DTSTART;TZID=America/Vancouver:20190106T103000
DTEND;TZID=America/Vancouver:20190106T120000
DTSTAMP:20260424T201645
CREATED:20190106T183000Z
LAST-MODIFIED:20200406T183105Z
UID:405812-1546770600-1546776000@emmanuelcovenant.ca
SUMMARY:Worship Service
DESCRIPTION:[column width=”1/1″ last=”true” title=”” title_type=”single” animation=”none” implicit=”true”] \n  \n[/column]
URL:https://emmanuelcovenant.ca/event/worship-service-42/
CATEGORIES:Bible Study,Fellowship,Life Together,Worship
END:VEVENT
BEGIN:VEVENT
DTSTART;TZID=America/Vancouver:20190105T100000
DTEND;TZID=America/Vancouver:20190105T160000
DTSTAMP:20260424T201645
CREATED:20190105T180000Z
LAST-MODIFIED:20200406T183105Z
UID:405761-1546682400-1546704000@emmanuelcovenant.ca
SUMMARY:Christmas Tree Chipping & Bottle Drive
DESCRIPTION:[column width=”1/1″ last=”true” title=”” title_type=”single” animation=”none” implicit=”true”] \n  \n[/column] \n[column width=”1/1″ last=”true” title=”” title_type=”single” animation=”none” implicit=”true”] \n[/column] \n[column width=”1/1″ last=”true” title=”” title_type=”single” animation=”none” implicit=”true”] \n  \n[/column]
URL:https://emmanuelcovenant.ca/event/christmas-tree-chipping-bottle-drive-3/
CATEGORIES:Fellowship,Life Together,Outreach,Youth
ATTACH;FMTTYPE=image/png:https://emmanuelcovenant.ca/wp-content/uploads/2018/11/Tree-Chipping-2019-TV.png
END:VEVENT
BEGIN:VEVENT
DTSTART;TZID=America/Vancouver:20190104T180000
DTEND;TZID=America/Vancouver:20190104T200000
DTSTAMP:20260424T201645
CREATED:20190105T020000Z
LAST-MODIFIED:20200406T183106Z
UID:405795-1546624800-1546632000@emmanuelcovenant.ca
SUMMARY:Men's Bible Study
DESCRIPTION:[column width=”1/1″ last=”true” title=”” title_type=”single” animation=”none” implicit=”true”] \n  \n[/column]
URL:https://emmanuelcovenant.ca/event/mens-bible-study-45/
CATEGORIES:Bible Study,Men's Ministry
END:VEVENT
BEGIN:VEVENT
DTSTART;TZID=America/Vancouver:20181230T103000
DTEND;TZID=America/Vancouver:20181230T120000
DTSTAMP:20260424T201645
CREATED:20181230T183000Z
LAST-MODIFIED:20200406T183106Z
UID:405777-1546165800-1546171200@emmanuelcovenant.ca
SUMMARY:Worship With Sweet Presence Southern Gospel Music Ministry
DESCRIPTION:[column width=”1/1″ last=”true” title=”” title_type=”single” animation=”none” implicit=”true”] \n  \n[/column] \n[column width=”1/1″ last=”true” title=”” title_type=”single” animation=”none” implicit=”true”] \n[/column] \n[column width=”1/1″ last=”true” title=”” title_type=”single” animation=”none” implicit=”true”] \n  \n[/column] \n[column parallax_bg=”disabled” parallax_bg_inertia=”-0.2″ extended=”” extended_padding=”1″ background_color=”” background_image=”” background_repeat=”” background_position=”” background_size=”auto” background_attachment=”” hide_bg_lowres=”” background_video=”” vertical_padding_top=”0″ vertical_padding_bottom=”0″ more_link=”” more_text=”” left_border=”transparent” class=”” id=”” title=”” title_type=”single” animation=”none” width=”1/1″ last=”true”] \n[/column] \n[column width=”1/1″ last=”true” title=”” title_type=”single” animation=”none” implicit=”true”] \n[/column]
URL:https://emmanuelcovenant.ca/event/worship-with-sweet-presence-southern-gospel-music-ministry/
CATEGORIES:Worship
ATTACH;FMTTYPE=image/png:https://emmanuelcovenant.ca/wp-content/uploads/2018/12/sweetpresence.png
END:VEVENT
BEGIN:VEVENT
DTSTART;VALUE=DATE:20181225
DTEND;VALUE=DATE:20181229
DTSTAMP:20260424T201645
CREATED:20181225T080000Z
LAST-MODIFIED:20200406T183107Z
UID:405846-1545696000-1546041599@emmanuelcovenant.ca
SUMMARY:Church Office Closed
DESCRIPTION:[column width=”1/1″ last=”true” title=”” title_type=”single” animation=”none” implicit=”true”] \n  \n[/column]
URL:https://emmanuelcovenant.ca/event/church-office-closed/
CATEGORIES:Life Together
END:VEVENT
BEGIN:VEVENT
DTSTART;TZID=America/Vancouver:20181224T170000
DTEND;TZID=America/Vancouver:20181224T180000
DTSTAMP:20260424T201645
CREATED:20181225T010000Z
LAST-MODIFIED:20200406T183108Z
UID:405759-1545670800-1545674400@emmanuelcovenant.ca
SUMMARY:Christmas Eve Service
DESCRIPTION:[column width=”1/1″ last=”true” title=”” title_type=”single” animation=”none” implicit=”true”] \n  \n[/column] \n[column width=”1/1″ last=”true” title=”” title_type=”single” animation=”none” implicit=”true”] \n[/column] \n[column width=”1/1″ last=”true” title=”” title_type=”single” animation=”none” implicit=”true”] \n  \n[/column] \n[column parallax_bg=”disabled” parallax_bg_inertia=”-0.2″ extended=”” extended_padding=”1″ background_color=”” background_image=”” background_repeat=”” background_position=”” background_size=”auto” background_attachment=”” hide_bg_lowres=”” background_video=”” vertical_padding_top=”0″ vertical_padding_bottom=”0″ more_link=”” more_text=”” left_border=”transparent” class=”” id=”” title=”” title_type=”single” animation=”none” width=”1/1″ last=”true”] \n[/column] \n[column width=”1/1″ last=”true” title=”” title_type=”single” animation=”none” implicit=”true”] \n[/column] \n[column parallax_bg=”disabled” parallax_bg_inertia=”-0.2″ extended=”” extended_padding=”1″ background_color=”” background_image=”” background_repeat=”” background_position=”” background_size=”auto” background_attachment=”” hide_bg_lowres=”” background_video=”” vertical_padding_top=”0″ vertical_padding_bottom=”0″ more_link=”” more_text=”” left_border=”transparent” class=”” id=”” title=”” title_type=”single” animation=”none” width=”1/1″ last=”true”] \n[/column] \n[column parallax_bg=”disabled” parallax_bg_inertia=”-0.2″ extended=”” extended_padding=”1″ background_color=”” background_image=”” background_repeat=”” background_position=”” background_size=”auto” background_attachment=”” hide_bg_lowres=”” background_video=”” vertical_padding_top=”0″ vertical_padding_bottom=”0″ more_link=”” more_text=”” left_border=”transparent” class=”” id=”” title=”” title_type=”single” animation=”none” width=”1/1″ last=”true”] \n[/column]
URL:https://emmanuelcovenant.ca/event/christmas-eve-service-4/
CATEGORIES:Fellowship,Life Together,Worship
ATTACH;FMTTYPE=image/png:https://emmanuelcovenant.ca/wp-content/uploads/2018/11/Christmas-Eve-2018-TV.png
END:VEVENT
BEGIN:VEVENT
DTSTART;TZID=America/Vancouver:20181223T103000
DTEND;TZID=America/Vancouver:20181223T120000
DTSTAMP:20260424T201645
CREATED:20181223T183000Z
LAST-MODIFIED:20200406T183109Z
UID:405810-1545561000-1545566400@emmanuelcovenant.ca
SUMMARY:Worship Service
DESCRIPTION:[column width=”1/1″ last=”true” title=”” title_type=”single” animation=”none” implicit=”true”] \n  \n[/column]
URL:https://emmanuelcovenant.ca/event/worship-service-41/
CATEGORIES:Fellowship,Life Together,Prayer,Worship
END:VEVENT
BEGIN:VEVENT
DTSTART;TZID=America/Vancouver:20181221T180000
DTEND;TZID=America/Vancouver:20181221T200000
DTSTAMP:20260424T201645
CREATED:20181222T020000Z
LAST-MODIFIED:20200406T183109Z
UID:405793-1545415200-1545422400@emmanuelcovenant.ca
SUMMARY:Men's Bible Study
DESCRIPTION:[column width=”1/1″ last=”true” title=”” title_type=”single” animation=”none” implicit=”true”] \n  \n[/column]
URL:https://emmanuelcovenant.ca/event/mens-bible-study-43/
CATEGORIES:Bible Study,Men's Ministry
END:VEVENT
BEGIN:VEVENT
DTSTART;TZID=America/Vancouver:20181208T180000
DTEND;TZID=America/Vancouver:20181208T210000
DTSTAMP:20260424T201645
CREATED:20181209T020000Z
LAST-MODIFIED:20200406T183111Z
UID:405743-1544292000-1544302800@emmanuelcovenant.ca
SUMMARY:Christmas Celebration (Sold Out)
DESCRIPTION:[column width=”1/1″ last=”true” title=”” title_type=”single” animation=”none” implicit=”true”] \n  \n[/column] \n[column width=”1/1″ last=”true” title=”” title_type=”single” animation=”none” implicit=”true”] \n[/column] \n[column width=”1/1″ last=”true” title=”” title_type=”single” animation=”none” implicit=”true”] \n  \n[/column]
URL:https://emmanuelcovenant.ca/event/christmas-celebration/
CATEGORIES:Fellowship,Life Together,Outreach
ATTACH;FMTTYPE=image/png:https://emmanuelcovenant.ca/wp-content/uploads/2018/11/christmasbanquet2018-slide-2.png
END:VEVENT
BEGIN:VEVENT
DTSTART;TZID=America/Vancouver:20180401T103000
DTEND;TZID=America/Vancouver:20180401T113000
DTSTAMP:20260424T201645
CREATED:20180307T044810Z
LAST-MODIFIED:20180307T044810Z
UID:405544-1522578600-1522582200@emmanuelcovenant.ca
SUMMARY:Easter Sunday Service
DESCRIPTION:
URL:https://emmanuelcovenant.ca/event/easter-sunday-service/
LOCATION:17029 16 Ave\, Surrey\, BC V3Z 9M5\, Canada
END:VEVENT
BEGIN:VEVENT
DTSTART;TZID=America/Vancouver:20180401T091500
DTEND;TZID=America/Vancouver:20180401T101500
DTSTAMP:20260424T201645
CREATED:20180328T170435Z
LAST-MODIFIED:20180328T170435Z
UID:405574-1522574100-1522577700@emmanuelcovenant.ca
SUMMARY:Bible Study & Prayer
DESCRIPTION:
URL:https://emmanuelcovenant.ca/event/bible-study-prayer/
CATEGORIES:Bible Study,Prayer
END:VEVENT
BEGIN:VEVENT
DTSTART;TZID=America/Vancouver:20180330T190000
DTEND;TZID=America/Vancouver:20180330T203000
DTSTAMP:20260424T201645
CREATED:20180307T044305Z
LAST-MODIFIED:20180307T044305Z
UID:405536-1522436400-1522441800@emmanuelcovenant.ca
SUMMARY:Good Friday Service (with The Crossing Church)
DESCRIPTION:
URL:https://emmanuelcovenant.ca/event/good-friday-service-with-the-crossing-church/
LOCATION:17029 16 Ave\, Surrey\, BC V3Z 9M5\, Canada
END:VEVENT
BEGIN:VEVENT
DTSTART;TZID=America/Vancouver:20180328T093000
DTEND;TZID=America/Vancouver:20180328T120000
DTSTAMP:20260424T201645
CREATED:20180307T045157Z
LAST-MODIFIED:20180307T045157Z
UID:405552-1522229400-1522238400@emmanuelcovenant.ca
SUMMARY:Women's Bible Study
DESCRIPTION:
URL:https://emmanuelcovenant.ca/event/womens-bible-study-4/
LOCATION:17029 16 Ave\, Surrey\, BC V3Z 9M5\, Canada
CATEGORIES:Bible Study,Womens' Ministry
END:VEVENT
BEGIN:VEVENT
DTSTART;TZID=America/Vancouver:20180328T090000
DTEND;TZID=America/Vancouver:20180328T120000
DTSTAMP:20260424T201645
CREATED:20180307T044716Z
LAST-MODIFIED:20180307T044716Z
UID:405542-1522227600-1522238400@emmanuelcovenant.ca
SUMMARY:Easter Camp for Kids
DESCRIPTION:
URL:https://emmanuelcovenant.ca/event/easter-camp-for-kids-3/
LOCATION:17029 16 Ave\, Surrey\, BC V3Z 9M5\, Canada
END:VEVENT
BEGIN:VEVENT
DTSTART;TZID=America/Vancouver:20180327T090000
DTEND;TZID=America/Vancouver:20180327T120000
DTSTAMP:20260424T201645
CREATED:20180307T044635Z
LAST-MODIFIED:20180307T044635Z
UID:405540-1522141200-1522152000@emmanuelcovenant.ca
SUMMARY:Easter Camp for Kids
DESCRIPTION:
URL:https://emmanuelcovenant.ca/event/easter-camp-for-kids-2/
LOCATION:17029 16 Ave\, Surrey\, BC V3Z 9M5\, Canada
END:VEVENT
BEGIN:VEVENT
DTSTART;TZID=America/Vancouver:20180326T090000
DTEND;TZID=America/Vancouver:20180326T120000
DTSTAMP:20260424T201645
CREATED:20180307T044459Z
LAST-MODIFIED:20180307T044459Z
UID:405538-1522054800-1522065600@emmanuelcovenant.ca
SUMMARY:Easter Camp for Kids
DESCRIPTION:
URL:https://emmanuelcovenant.ca/event/easter-camp-for-kids/
LOCATION:17029 16 Ave\, Surrey\, BC V3Z 9M5\, Canada
END:VEVENT
BEGIN:VEVENT
DTSTART;TZID=America/Vancouver:20180323T180000
DTEND;TZID=America/Vancouver:20180323T200000
DTSTAMP:20260424T201645
CREATED:20180307T045402Z
LAST-MODIFIED:20180307T045402Z
UID:405558-1521828000-1521835200@emmanuelcovenant.ca
SUMMARY:Men's Bible Study
DESCRIPTION:
URL:https://emmanuelcovenant.ca/event/mens-bible-study-41/
LOCATION:17029 16 Ave\, Surrey\, BC V3Z 9M5\, Canada
CATEGORIES:Bible Study
END:VEVENT
BEGIN:VEVENT
DTSTART;TZID=America/Vancouver:20180321T093000
DTEND;TZID=America/Vancouver:20180321T120000
DTSTAMP:20260424T201645
CREATED:20180307T045110Z
LAST-MODIFIED:20180307T045110Z
UID:405550-1521624600-1521633600@emmanuelcovenant.ca
SUMMARY:Women's Bible Study
DESCRIPTION:
URL:https://emmanuelcovenant.ca/event/womens-bible-study-3/
LOCATION:17029 16 Ave\, Surrey\, BC V3Z 9M5\, Canada
CATEGORIES:Bible Study,Womens' Ministry
END:VEVENT
BEGIN:VEVENT
DTSTART;TZID=America/Vancouver:20180316T180000
DTEND;TZID=America/Vancouver:20180316T200000
DTSTAMP:20260424T201645
CREATED:20180307T045324Z
LAST-MODIFIED:20180307T045324Z
UID:405556-1521223200-1521230400@emmanuelcovenant.ca
SUMMARY:Men's Bible Study
DESCRIPTION:
URL:https://emmanuelcovenant.ca/event/mens-bible-study-40/
LOCATION:17029 16 Ave\, Surrey\, BC V3Z 9M5\, Canada
CATEGORIES:Bible Study
END:VEVENT
BEGIN:VEVENT
DTSTART;TZID=America/Vancouver:20180314T093000
DTEND;TZID=America/Vancouver:20180314T120000
DTSTAMP:20260424T201645
CREATED:20180307T045027Z
LAST-MODIFIED:20180307T045027Z
UID:405548-1521019800-1521028800@emmanuelcovenant.ca
SUMMARY:Women's Bible Study
DESCRIPTION:
URL:https://emmanuelcovenant.ca/event/womens-bible-study-2/
CATEGORIES:Bible Study,Womens' Ministry
END:VEVENT
BEGIN:VEVENT
DTSTART;TZID=America/Vancouver:20180309T180000
DTEND;TZID=America/Vancouver:20180309T200000
DTSTAMP:20260424T201645
CREATED:20180307T045246Z
LAST-MODIFIED:20180307T045246Z
UID:405554-1520618400-1520625600@emmanuelcovenant.ca
SUMMARY:Men's Bible Study
DESCRIPTION:
URL:https://emmanuelcovenant.ca/event/mens-bible-study-13/
LOCATION:17029 16 Ave\, Surrey\, BC V3Z 9M5\, Canada
CATEGORIES:Bible Study
END:VEVENT
BEGIN:VEVENT
DTSTART;TZID=America/Vancouver:20180307T093000
DTEND;TZID=America/Vancouver:20180307T120000
DTSTAMP:20260424T201645
CREATED:20180307T044936Z
LAST-MODIFIED:20180307T044936Z
UID:405546-1520415000-1520424000@emmanuelcovenant.ca
SUMMARY:Women's Bible Study
DESCRIPTION:
URL:https://emmanuelcovenant.ca/event/womens-bible-study/
LOCATION:17029 16 Ave\, Surrey\, BC V3Z 9M5\, Canada
END:VEVENT
BEGIN:VEVENT
DTSTART;TZID=America/Vancouver:20180128T120000
DTEND;TZID=America/Vancouver:20180128T140000
DTSTAMP:20260424T201645
CREATED:20171204T202718Z
LAST-MODIFIED:20171204T202718Z
UID:405449-1517140800-1517148000@emmanuelcovenant.ca
SUMMARY:Annual General Meeting
DESCRIPTION:
URL:https://emmanuelcovenant.ca/event/annual-general-meeting/
CATEGORIES:Life Together
END:VEVENT
BEGIN:VEVENT
DTSTART;TZID=America/Vancouver:20180119T180000
DTEND;TZID=America/Vancouver:20180119T200000
DTSTAMP:20260424T201645
CREATED:20180120T020000Z
LAST-MODIFIED:20200406T183130Z
UID:401576-1516384800-1516392000@emmanuelcovenant.ca
SUMMARY:Mens' Bible Study
DESCRIPTION:This is our weekly men’s Bible study. Men of all ages are welcome to attend! \nDinner is provided (for small donation) at 6:00 pm\nBible study begins at 7:00 pm \n(If you’re interested in small groups or Bible studies that meet other times during the week\, please contact the Church Administrator).
URL:https://emmanuelcovenant.ca/event/mens-bible-study-200/
LOCATION:17029 16 Ave\, Surrey\, BC V3Z 9M5\, Canada
END:VEVENT
END:VCALENDAR