BEGIN:VCALENDAR
VERSION:2.0
PRODID:-//Emmanuel Covenant Church | South Surrey, BC - ECPv6.15.20//NONSGML v1.0//EN
CALSCALE:GREGORIAN
METHOD:PUBLISH
X-ORIGINAL-URL:https://emmanuelcovenant.ca
X-WR-CALDESC:Events for Emmanuel Covenant Church | South Surrey, BC
REFRESH-INTERVAL;VALUE=DURATION:PT1H
X-Robots-Tag:noindex
X-PUBLISHED-TTL:PT1H
BEGIN:VTIMEZONE
TZID:America/Vancouver
BEGIN:DAYLIGHT
TZOFFSETFROM:-0800
TZOFFSETTO:-0700
TZNAME:PDT
DTSTART:20190310T100000
END:DAYLIGHT
BEGIN:STANDARD
TZOFFSETFROM:-0700
TZOFFSETTO:-0800
TZNAME:PST
DTSTART:20191103T090000
END:STANDARD
BEGIN:DAYLIGHT
TZOFFSETFROM:-0800
TZOFFSETTO:-0700
TZNAME:PDT
DTSTART:20200308T100000
END:DAYLIGHT
BEGIN:STANDARD
TZOFFSETFROM:-0700
TZOFFSETTO:-0800
TZNAME:PST
DTSTART:20201101T090000
END:STANDARD
BEGIN:DAYLIGHT
TZOFFSETFROM:-0800
TZOFFSETTO:-0700
TZNAME:PDT
DTSTART:20210314T100000
END:DAYLIGHT
BEGIN:STANDARD
TZOFFSETFROM:-0700
TZOFFSETTO:-0800
TZNAME:PST
DTSTART:20211107T090000
END:STANDARD
END:VTIMEZONE
BEGIN:VEVENT
DTSTART;VALUE=DATE:20200912
DTEND;VALUE=DATE:20200913
DTSTAMP:20260423T172257
CREATED:20191210T033749Z
LAST-MODIFIED:20191210T033904Z
UID:406626-1599868800-1599955199@emmanuelcovenant.ca
SUMMARY:Annual Pig Roast
DESCRIPTION:
URL:https://emmanuelcovenant.ca/event/annual-pig-roast/
CATEGORIES:Fellowship,Life Together,Outreach
END:VEVENT
BEGIN:VEVENT
DTSTART;TZID=America/Vancouver:20200705T103000
DTEND;TZID=America/Vancouver:20200705T113000
DTSTAMP:20260423T172257
CREATED:20200705T173000Z
LAST-MODIFIED:20200406T183009Z
UID:406573-1593945000-1593948600@emmanuelcovenant.ca
SUMMARY:Sunday Worship - Communion
DESCRIPTION:[column width=”1/1″ last=”true” title=”” title_type=”single” animation=”none” implicit=”true”] \nSermon Series: Same Passage 5 Ways\nGuest Preacher: Emmanuel Congregation \n[/column]
URL:https://emmanuelcovenant.ca/event/sunday-worship-communion-6/
CATEGORIES:Life Together,Worship
END:VEVENT
BEGIN:VEVENT
DTSTART;TZID=America/Vancouver:20200628T103000
DTEND;TZID=America/Vancouver:20200628T113000
DTSTAMP:20260423T172257
CREATED:20200628T173000Z
LAST-MODIFIED:20200406T183010Z
UID:406571-1593340200-1593343800@emmanuelcovenant.ca
SUMMARY:Sunday Worship
DESCRIPTION:[column width=”1/1″ last=”true” title=”” title_type=”single” animation=”none” implicit=”true”] \nSermon Series: Same Passage 5 Ways\nGuest Preacher: \n[/column]
URL:https://emmanuelcovenant.ca/event/sunday-worship-40/
CATEGORIES:Worship
END:VEVENT
BEGIN:VEVENT
DTSTART;TZID=America/Vancouver:20200628T091500
DTEND;TZID=America/Vancouver:20200628T101500
DTSTAMP:20260423T172257
CREATED:20191212T224715Z
LAST-MODIFIED:20191212T224715Z
UID:406679-1593335700-1593339300@emmanuelcovenant.ca
SUMMARY:Sunday Bible Study & Prayer
DESCRIPTION:
URL:https://emmanuelcovenant.ca/event/sunday-bible-study-prayer-42/
CATEGORIES:Bible Study,Life Together,Prayer
END:VEVENT
BEGIN:VEVENT
DTSTART;TZID=America/Vancouver:20200626T180000
DTEND;TZID=America/Vancouver:20200626T200000
DTSTAMP:20260423T172257
CREATED:20200627T010000Z
LAST-MODIFIED:20200406T183010Z
UID:406532-1593194400-1593201600@emmanuelcovenant.ca
SUMMARY:Men's Bible Study
DESCRIPTION:[column width=”1/1″ last=”true” title=”” title_type=”single” animation=”none” implicit=”true”] \nDinner at 6pm Bible Study at 7pm Please RSVP to debbie@emmanuelcovenant.ca \n[/column]
URL:https://emmanuelcovenant.ca/event/mens-bible-study-120/
CATEGORIES:Bible Study,Men's Ministry
END:VEVENT
BEGIN:VEVENT
DTSTART;TZID=America/Vancouver:20200621T103000
DTEND;TZID=America/Vancouver:20200621T113000
DTSTAMP:20260423T172257
CREATED:20200621T173000Z
LAST-MODIFIED:20200406T183010Z
UID:406569-1592735400-1592739000@emmanuelcovenant.ca
SUMMARY:Sunday Worship
DESCRIPTION:[column width=”1/1″ last=”true” title=”” title_type=”single” animation=”none” implicit=”true”] \nSermon Series: Same Passage 5 Ways\nGuest Preacher: \n[/column]
URL:https://emmanuelcovenant.ca/event/sunday-worship-39/
CATEGORIES:Worship
END:VEVENT
BEGIN:VEVENT
DTSTART;TZID=America/Vancouver:20200621T091500
DTEND;TZID=America/Vancouver:20200621T101500
DTSTAMP:20260423T172257
CREATED:20191212T224515Z
LAST-MODIFIED:20191212T224515Z
UID:406677-1592730900-1592734500@emmanuelcovenant.ca
SUMMARY:Sunday Bible Study & Prayer
DESCRIPTION:
URL:https://emmanuelcovenant.ca/event/sunday-bible-study-prayer-41/
CATEGORIES:Bible Study,Life Together,Prayer
END:VEVENT
BEGIN:VEVENT
DTSTART;TZID=America/Vancouver:20200619T180000
DTEND;TZID=America/Vancouver:20200619T200000
DTSTAMP:20260423T172257
CREATED:20200620T010000Z
LAST-MODIFIED:20200406T183010Z
UID:406530-1592589600-1592596800@emmanuelcovenant.ca
SUMMARY:Men's Bible Study
DESCRIPTION:[column width=”1/1″ last=”true” title=”” title_type=”single” animation=”none” implicit=”true”] \nDinner at 6pm Bible Study at 7pm Please RSVP to debbie@emmanuelcovenant.ca \n[/column]
URL:https://emmanuelcovenant.ca/event/mens-bible-study-118/
CATEGORIES:Bible Study,Men's Ministry
END:VEVENT
BEGIN:VEVENT
DTSTART;TZID=America/Vancouver:20200614T103000
DTEND;TZID=America/Vancouver:20200614T113000
DTSTAMP:20260423T172257
CREATED:20200614T173000Z
LAST-MODIFIED:20200406T183010Z
UID:406567-1592130600-1592134200@emmanuelcovenant.ca
SUMMARY:Sunday Worship
DESCRIPTION:[column width=”1/1″ last=”true” title=”” title_type=”single” animation=”none” implicit=”true”] \nSermon Series: Same Passage 5 Ways\nGuest Preacher: \n[/column]
URL:https://emmanuelcovenant.ca/event/sunday-worship-38/
CATEGORIES:Worship
END:VEVENT
BEGIN:VEVENT
DTSTART;TZID=America/Vancouver:20200614T091500
DTEND;TZID=America/Vancouver:20200614T101500
DTSTAMP:20260423T172257
CREATED:20191212T224440Z
LAST-MODIFIED:20191212T224440Z
UID:406675-1592126100-1592129700@emmanuelcovenant.ca
SUMMARY:Sunday Bible Study & Prayer
DESCRIPTION:
URL:https://emmanuelcovenant.ca/event/sunday-bible-study-prayer-40/
CATEGORIES:Bible Study,Life Together,Prayer
END:VEVENT
BEGIN:VEVENT
DTSTART;TZID=America/Vancouver:20200612T180000
DTEND;TZID=America/Vancouver:20200612T200000
DTSTAMP:20260423T172257
CREATED:20200613T010000Z
LAST-MODIFIED:20200406T183010Z
UID:406528-1591984800-1591992000@emmanuelcovenant.ca
SUMMARY:Men's Bible Study
DESCRIPTION:[column width=”1/1″ last=”true” title=”” title_type=”single” animation=”none” implicit=”true”] \nDinner at 6pm Bible Study at 7pm Please RSVP to debbie@emmanuelcovenant.ca \n[/column]
URL:https://emmanuelcovenant.ca/event/mens-bible-study-117/
CATEGORIES:Bible Study,Men's Ministry
END:VEVENT
BEGIN:VEVENT
DTSTART;TZID=America/Vancouver:20200607T103000
DTEND;TZID=America/Vancouver:20200607T113000
DTSTAMP:20260423T172257
CREATED:20200607T173000Z
LAST-MODIFIED:20200406T183010Z
UID:406565-1591525800-1591529400@emmanuelcovenant.ca
SUMMARY:Sunday Worship - Communion
DESCRIPTION:[column width=”1/1″ last=”true” title=”” title_type=”single” animation=”none” implicit=”true”] \nSermon Series: Same Passage 5 Ways\nGuest Preacher: \n[/column]
URL:https://emmanuelcovenant.ca/event/sunday-worship-communion-5/
CATEGORIES:Worship
END:VEVENT
BEGIN:VEVENT
DTSTART;TZID=America/Vancouver:20200607T091500
DTEND;TZID=America/Vancouver:20200607T101500
DTSTAMP:20260423T172257
CREATED:20191212T224214Z
LAST-MODIFIED:20191212T224215Z
UID:406673-1591521300-1591524900@emmanuelcovenant.ca
SUMMARY:Sunday Bible Study & Prayer
DESCRIPTION:
URL:https://emmanuelcovenant.ca/event/sunday-bible-study-prayer-39/
CATEGORIES:Bible Study,Life Together,Prayer
END:VEVENT
BEGIN:VEVENT
DTSTART;TZID=America/Vancouver:20200605T180000
DTEND;TZID=America/Vancouver:20200605T200000
DTSTAMP:20260423T172257
CREATED:20200606T010000Z
LAST-MODIFIED:20200406T183010Z
UID:406526-1591380000-1591387200@emmanuelcovenant.ca
SUMMARY:Men's Bible Study
DESCRIPTION:[column width=”1/1″ last=”true” title=”” title_type=”single” animation=”none” implicit=”true”] \nDinner at 6pm Bible Study at 7pm Please RSVP to debbie@emmanuelcovenant.ca \n[/column]
URL:https://emmanuelcovenant.ca/event/mens-bible-study-115/
CATEGORIES:Bible Study,Men's Ministry
END:VEVENT
BEGIN:VEVENT
DTSTART;TZID=America/Vancouver:20200531T103000
DTEND;TZID=America/Vancouver:20200531T113000
DTSTAMP:20260423T172257
CREATED:20200531T173000Z
LAST-MODIFIED:20200406T183010Z
UID:406563-1590921000-1590924600@emmanuelcovenant.ca
SUMMARY:Sunday Worship
DESCRIPTION:[column width=”1/1″ last=”true” title=”” title_type=”single” animation=”none” implicit=”true”] \nSermon Series: Same Passage 5 Ways\nGuest Preacher: \n[/column]
URL:https://emmanuelcovenant.ca/event/sunday-worship-37/
CATEGORIES:Worship
END:VEVENT
BEGIN:VEVENT
DTSTART;TZID=America/Vancouver:20200531T091500
DTEND;TZID=America/Vancouver:20200531T101500
DTSTAMP:20260423T172257
CREATED:20191212T184021Z
LAST-MODIFIED:20191212T184021Z
UID:406671-1590916500-1590920100@emmanuelcovenant.ca
SUMMARY:Sunday Bible Study & Prayer
DESCRIPTION:
URL:https://emmanuelcovenant.ca/event/sunday-bible-study-prayer-38/
CATEGORIES:Bible Study,Life Together,Prayer
END:VEVENT
BEGIN:VEVENT
DTSTART;TZID=America/Vancouver:20200529T180000
DTEND;TZID=America/Vancouver:20200529T200000
DTSTAMP:20260423T172257
CREATED:20200530T010000Z
LAST-MODIFIED:20200406T183010Z
UID:406524-1590775200-1590782400@emmanuelcovenant.ca
SUMMARY:Men's Bible Study
DESCRIPTION:[column width=”1/1″ last=”true” title=”” title_type=”single” animation=”none” implicit=”true”] \nDinner at 6pm Bible Study at 7pm Please RSVP to debbie@emmanuelcovenant.ca \n[/column]
URL:https://emmanuelcovenant.ca/event/mens-bible-study-114/
CATEGORIES:Bible Study,Men's Ministry
END:VEVENT
BEGIN:VEVENT
DTSTART;TZID=America/Vancouver:20200527T093000
DTEND;TZID=America/Vancouver:20200527T120000
DTSTAMP:20260423T172257
CREATED:20191210T032722Z
LAST-MODIFIED:20191210T032722Z
UID:406617-1590571800-1590580800@emmanuelcovenant.ca
SUMMARY:Ladies' Bible Study
DESCRIPTION:
URL:https://emmanuelcovenant.ca/event/ladies-bible-study-78/
CATEGORIES:Bible Study,Prayer,Womens' Ministry
END:VEVENT
BEGIN:VEVENT
DTSTART;TZID=America/Vancouver:20200524T103000
DTEND;TZID=America/Vancouver:20200524T113000
DTSTAMP:20260423T172257
CREATED:20200524T173000Z
LAST-MODIFIED:20200406T183010Z
UID:406561-1590316200-1590319800@emmanuelcovenant.ca
SUMMARY:Sunday Worship
DESCRIPTION:[column width=”1/1″ last=”true” title=”” title_type=”single” animation=”none” implicit=”true”] \nSermon Series: John \n[/column]
URL:https://emmanuelcovenant.ca/event/sunday-worship-36/
CATEGORIES:Worship
END:VEVENT
BEGIN:VEVENT
DTSTART;TZID=America/Vancouver:20200524T091500
DTEND;TZID=America/Vancouver:20200524T101500
DTSTAMP:20260423T172257
CREATED:20191212T183930Z
LAST-MODIFIED:20191212T183930Z
UID:406669-1590311700-1590315300@emmanuelcovenant.ca
SUMMARY:Sunday Bible Study & Prayer
DESCRIPTION:
URL:https://emmanuelcovenant.ca/event/sunday-bible-study-prayer-37/
CATEGORIES:Bible Study,Life Together,Prayer
END:VEVENT
BEGIN:VEVENT
DTSTART;TZID=America/Vancouver:20200522T180000
DTEND;TZID=America/Vancouver:20200522T200000
DTSTAMP:20260423T172257
CREATED:20200523T010000Z
LAST-MODIFIED:20200406T183011Z
UID:406522-1590170400-1590177600@emmanuelcovenant.ca
SUMMARY:Men's Bible Study
DESCRIPTION:[column width=”1/1″ last=”true” title=”” title_type=”single” animation=”none” implicit=”true”] \nDinner at 6pm Bible Study at 7pm Please RSVP to debbie@emmanuelcovenant.ca \n[/column]
URL:https://emmanuelcovenant.ca/event/mens-bible-study-112/
CATEGORIES:Bible Study,Men's Ministry
END:VEVENT
BEGIN:VEVENT
DTSTART;TZID=America/Vancouver:20200520T093000
DTEND;TZID=America/Vancouver:20200520T120000
DTSTAMP:20260423T172257
CREATED:20191210T032650Z
LAST-MODIFIED:20191210T032650Z
UID:406615-1589967000-1589976000@emmanuelcovenant.ca
SUMMARY:Ladies' Bible Study
DESCRIPTION:
URL:https://emmanuelcovenant.ca/event/ladies-bible-study-77/
CATEGORIES:Bible Study,Prayer,Womens' Ministry
END:VEVENT
BEGIN:VEVENT
DTSTART;TZID=America/Vancouver:20200517T103000
DTEND;TZID=America/Vancouver:20200517T113000
DTSTAMP:20260423T172257
CREATED:20200517T173000Z
LAST-MODIFIED:20200406T183011Z
UID:406559-1589711400-1589715000@emmanuelcovenant.ca
SUMMARY:Sunday Worship
DESCRIPTION:[column width=”1/1″ last=”true” title=”” title_type=”single” animation=”none” implicit=”true”] \nSermon Series: John \n[/column]
URL:https://emmanuelcovenant.ca/event/sunday-worship-35/
CATEGORIES:Worship
END:VEVENT
BEGIN:VEVENT
DTSTART;TZID=America/Vancouver:20200517T091500
DTEND;TZID=America/Vancouver:20200517T101500
DTSTAMP:20260423T172257
CREATED:20191212T183902Z
LAST-MODIFIED:20191212T183902Z
UID:406667-1589706900-1589710500@emmanuelcovenant.ca
SUMMARY:Sunday Bible Study & Prayer
DESCRIPTION:
URL:https://emmanuelcovenant.ca/event/sunday-bible-study-prayer-36/
CATEGORIES:Bible Study,Life Together,Prayer
END:VEVENT
BEGIN:VEVENT
DTSTART;TZID=America/Vancouver:20200515T180000
DTEND;TZID=America/Vancouver:20200515T200000
DTSTAMP:20260423T172257
CREATED:20200516T010000Z
LAST-MODIFIED:20200406T183011Z
UID:406520-1589565600-1589572800@emmanuelcovenant.ca
SUMMARY:Men's Bible Study
DESCRIPTION:[column width=”1/1″ last=”true” title=”” title_type=”single” animation=”none” implicit=”true”] \nDinner at 6pm Bible Study at 7pm Please RSVP to debbie@emmanuelcovenant.ca \n[/column]
URL:https://emmanuelcovenant.ca/event/mens-bible-study-111/
CATEGORIES:Bible Study,Men's Ministry
END:VEVENT
BEGIN:VEVENT
DTSTART;TZID=America/Vancouver:20200513T093000
DTEND;TZID=America/Vancouver:20200513T120000
DTSTAMP:20260423T172257
CREATED:20191210T032617Z
LAST-MODIFIED:20191210T032617Z
UID:406613-1589362200-1589371200@emmanuelcovenant.ca
SUMMARY:Ladies' Bible Study
DESCRIPTION:
URL:https://emmanuelcovenant.ca/event/ladies-bible-study-75/
CATEGORIES:Bible Study,Prayer,Womens' Ministry
END:VEVENT
BEGIN:VEVENT
DTSTART;TZID=America/Vancouver:20200510T103000
DTEND;TZID=America/Vancouver:20200510T113000
DTSTAMP:20260423T172257
CREATED:20200510T173000Z
LAST-MODIFIED:20200406T183011Z
UID:406557-1589106600-1589110200@emmanuelcovenant.ca
SUMMARY:Sunday Worship
DESCRIPTION:[column width=”1/1″ last=”true” title=”” title_type=”single” animation=”none” implicit=”true”] \nSermon Series: John \n[/column]
URL:https://emmanuelcovenant.ca/event/sunday-worship-34/
CATEGORIES:Worship
END:VEVENT
BEGIN:VEVENT
DTSTART;TZID=America/Vancouver:20200510T091500
DTEND;TZID=America/Vancouver:20200510T101500
DTSTAMP:20260423T172257
CREATED:20191212T183815Z
LAST-MODIFIED:20191212T183815Z
UID:406665-1589102100-1589105700@emmanuelcovenant.ca
SUMMARY:Sunday Bible Study & Prayer
DESCRIPTION:
URL:https://emmanuelcovenant.ca/event/sunday-bible-study-prayer-35/
CATEGORIES:Bible Study,Life Together,Prayer
END:VEVENT
BEGIN:VEVENT
DTSTART;TZID=America/Vancouver:20200508T180000
DTEND;TZID=America/Vancouver:20200508T200000
DTSTAMP:20260423T172257
CREATED:20200509T010000Z
LAST-MODIFIED:20200406T183011Z
UID:406518-1588960800-1588968000@emmanuelcovenant.ca
SUMMARY:Men's Bible Study
DESCRIPTION:[column width=”1/1″ last=”true” title=”” title_type=”single” animation=”none” implicit=”true”] \nDinner at 6pm Bible Study at 7pm Please RSVP to debbie@emmanuelcovenant.ca \n[/column]
URL:https://emmanuelcovenant.ca/event/mens-bible-study-109/
CATEGORIES:Bible Study,Men's Ministry
END:VEVENT
BEGIN:VEVENT
DTSTART;TZID=America/Vancouver:20200506T093000
DTEND;TZID=America/Vancouver:20200506T120000
DTSTAMP:20260423T172257
CREATED:20191210T032529Z
LAST-MODIFIED:20191210T032529Z
UID:406611-1588757400-1588766400@emmanuelcovenant.ca
SUMMARY:Ladies' Bible Study
DESCRIPTION:
URL:https://emmanuelcovenant.ca/event/ladies-bible-study-74/
CATEGORIES:Bible Study,Prayer,Womens' Ministry
END:VEVENT
END:VCALENDAR