BEGIN:VCALENDAR
VERSION:2.0
PRODID:-//Emmanuel Covenant Church | South Surrey, BC - ECPv6.15.20//NONSGML v1.0//EN
CALSCALE:GREGORIAN
METHOD:PUBLISH
X-WR-CALNAME:Emmanuel Covenant Church | South Surrey, BC
X-ORIGINAL-URL:https://emmanuelcovenant.ca
X-WR-CALDESC:Events for Emmanuel Covenant Church | South Surrey, BC
REFRESH-INTERVAL;VALUE=DURATION:PT1H
X-Robots-Tag:noindex
X-PUBLISHED-TTL:PT1H
BEGIN:VTIMEZONE
TZID:America/Vancouver
BEGIN:DAYLIGHT
TZOFFSETFROM:-0800
TZOFFSETTO:-0700
TZNAME:PDT
DTSTART:20160313T100000
END:DAYLIGHT
BEGIN:STANDARD
TZOFFSETFROM:-0700
TZOFFSETTO:-0800
TZNAME:PST
DTSTART:20161106T090000
END:STANDARD
BEGIN:DAYLIGHT
TZOFFSETFROM:-0800
TZOFFSETTO:-0700
TZNAME:PDT
DTSTART:20170312T100000
END:DAYLIGHT
BEGIN:STANDARD
TZOFFSETFROM:-0700
TZOFFSETTO:-0800
TZNAME:PST
DTSTART:20171105T090000
END:STANDARD
BEGIN:DAYLIGHT
TZOFFSETFROM:-0800
TZOFFSETTO:-0700
TZNAME:PDT
DTSTART:20180311T100000
END:DAYLIGHT
BEGIN:STANDARD
TZOFFSETFROM:-0700
TZOFFSETTO:-0800
TZNAME:PST
DTSTART:20181104T090000
END:STANDARD
BEGIN:DAYLIGHT
TZOFFSETFROM:-0800
TZOFFSETTO:-0700
TZNAME:PDT
DTSTART:20190310T100000
END:DAYLIGHT
BEGIN:STANDARD
TZOFFSETFROM:-0700
TZOFFSETTO:-0800
TZNAME:PST
DTSTART:20191103T090000
END:STANDARD
END:VTIMEZONE
BEGIN:VEVENT
DTSTART;TZID=America/Vancouver:20181223T103000
DTEND;TZID=America/Vancouver:20181223T120000
DTSTAMP:20260424T022727
CREATED:20181223T183000Z
LAST-MODIFIED:20200406T183109Z
UID:405810-1545561000-1545566400@emmanuelcovenant.ca
SUMMARY:Worship Service
DESCRIPTION:[column width=”1/1″ last=”true” title=”” title_type=”single” animation=”none” implicit=”true”] \n  \n[/column]
URL:https://emmanuelcovenant.ca/event/worship-service-41/
CATEGORIES:Fellowship,Life Together,Prayer,Worship
END:VEVENT
BEGIN:VEVENT
DTSTART;TZID=America/Vancouver:20180111T180000
DTEND;TZID=America/Vancouver:20180111T200000
DTSTAMP:20260424T022727
CREATED:20171211T184205Z
LAST-MODIFIED:20171211T184205Z
UID:405464-1515693600-1515700800@emmanuelcovenant.ca
SUMMARY:Worship Night
DESCRIPTION:
URL:https://emmanuelcovenant.ca/event/worship-night/
LOCATION:Emmanuel Evangelical Covenant Church\, 17029 16 Ave\, Surrey\, BC\, V3Z9M5\, Canada
CATEGORIES:Worship
END:VEVENT
BEGIN:VEVENT
DTSTART;TZID=America/Vancouver:20171224T173000
DTEND;TZID=America/Vancouver:20171224T183000
DTSTAMP:20260424T022727
CREATED:20171225T013000Z
LAST-MODIFIED:20200406T183133Z
UID:405443-1514136600-1514140200@emmanuelcovenant.ca
SUMMARY:Christmas Eve Service
DESCRIPTION:[column width=”1/1″ last=”true” title=”” title_type=”single” animation=”none” implicit=”true”] \n \n[/column]
URL:https://emmanuelcovenant.ca/event/christmas-eve-service-3/
LOCATION:17029 16 Ave\, Surrey\, BC V3Z 9M5\, Canada
CATEGORIES:Worship
ATTACH;FMTTYPE=image/png:https://emmanuelcovenant.ca/wp-content/uploads/2016/12/eccheader-winter2016.png
END:VEVENT
BEGIN:VEVENT
DTSTART;TZID=America/Vancouver:20170715T190000
DTEND;TZID=America/Vancouver:20170715T210000
DTSTAMP:20260424T022727
CREATED:20170704T170757Z
LAST-MODIFIED:20170704T170757Z
UID:405315-1500145200-1500152400@emmanuelcovenant.ca
SUMMARY:A Journey Through Israel & Palestine
DESCRIPTION:
URL:https://emmanuelcovenant.ca/event/a-journey-through-israel-palestine/
LOCATION:Emmanuel Evangelical Covenant Church\, 17029 16 Ave\, Surrey\, BC\, V3Z9M5\, Canada
CATEGORIES:Bible Study,Fellowship,Outreach,Prayer,Worship
END:VEVENT
END:VCALENDAR