BEGIN:VCALENDAR
VERSION:2.0
PRODID:-//Emmanuel Covenant Church | South Surrey, BC - ECPv6.15.20//NONSGML v1.0//EN
CALSCALE:GREGORIAN
METHOD:PUBLISH
X-ORIGINAL-URL:https://emmanuelcovenant.ca
X-WR-CALDESC:Events for Emmanuel Covenant Church | South Surrey, BC
REFRESH-INTERVAL;VALUE=DURATION:PT1H
X-Robots-Tag:noindex
X-PUBLISHED-TTL:PT1H
BEGIN:VTIMEZONE
TZID:America/Vancouver
BEGIN:DAYLIGHT
TZOFFSETFROM:-0800
TZOFFSETTO:-0700
TZNAME:PDT
DTSTART:20180311T100000
END:DAYLIGHT
BEGIN:STANDARD
TZOFFSETFROM:-0700
TZOFFSETTO:-0800
TZNAME:PST
DTSTART:20181104T090000
END:STANDARD
BEGIN:DAYLIGHT
TZOFFSETFROM:-0800
TZOFFSETTO:-0700
TZNAME:PDT
DTSTART:20190310T100000
END:DAYLIGHT
BEGIN:STANDARD
TZOFFSETFROM:-0700
TZOFFSETTO:-0800
TZNAME:PST
DTSTART:20191103T090000
END:STANDARD
BEGIN:DAYLIGHT
TZOFFSETFROM:-0800
TZOFFSETTO:-0700
TZNAME:PDT
DTSTART:20200308T100000
END:DAYLIGHT
BEGIN:STANDARD
TZOFFSETFROM:-0700
TZOFFSETTO:-0800
TZNAME:PST
DTSTART:20201101T090000
END:STANDARD
END:VTIMEZONE
BEGIN:VEVENT
DTSTART;TZID=America/Vancouver:20191103T091500
DTEND;TZID=America/Vancouver:20191103T101500
DTSTAMP:20260424T011635
CREATED:20191103T171500Z
LAST-MODIFIED:20200406T183023Z
UID:406183-1572772500-1572776100@emmanuelcovenant.ca
SUMMARY:Sunday Bible Study & Prayer
DESCRIPTION:[column width=”1/1″ last=”true” title=”” title_type=”single” animation=”none” implicit=”true”] \n  \n[/column]
URL:https://emmanuelcovenant.ca/event/sunday-bible-study-prayer-9/
CATEGORIES:Bible Study,Life Together,Prayer
END:VEVENT
BEGIN:VEVENT
DTSTART;TZID=America/Vancouver:20191030T093000
DTEND;TZID=America/Vancouver:20191030T120000
DTSTAMP:20260424T011635
CREATED:20191030T163000Z
LAST-MODIFIED:20200406T183023Z
UID:406292-1572427800-1572436800@emmanuelcovenant.ca
SUMMARY:Ladies' Bible Study
DESCRIPTION:[column width=”1/1″ last=”true” title=”” title_type=”single” animation=”none” implicit=”true”] \n  \n[/column]
URL:https://emmanuelcovenant.ca/event/ladies-bible-study-44/
LOCATION:Emmanuel Evangelical Covenant Church\, 17029 16 Ave\, Surrey\, BC\, V3Z9M5\, Canada
CATEGORIES:Bible Study,Life Together,Prayer,Womens' Ministry
END:VEVENT
BEGIN:VEVENT
DTSTART;TZID=America/Vancouver:20191027T091500
DTEND;TZID=America/Vancouver:20191027T101500
DTSTAMP:20260424T011635
CREATED:20191027T161500Z
LAST-MODIFIED:20200406T183024Z
UID:406181-1572167700-1572171300@emmanuelcovenant.ca
SUMMARY:Sunday Bible Study & Prayer
DESCRIPTION:[column width=”1/1″ last=”true” title=”” title_type=”single” animation=”none” implicit=”true”] \n  \n[/column]
URL:https://emmanuelcovenant.ca/event/sunday-bible-study-prayer-8/
CATEGORIES:Bible Study,Life Together,Prayer
END:VEVENT
BEGIN:VEVENT
DTSTART;TZID=America/Vancouver:20191023T093000
DTEND;TZID=America/Vancouver:20191023T120000
DTSTAMP:20260424T011635
CREATED:20191023T163000Z
LAST-MODIFIED:20200406T183024Z
UID:406289-1571823000-1571832000@emmanuelcovenant.ca
SUMMARY:Ladies' Bible Study
DESCRIPTION:[column width=”1/1″ last=”true” title=”” title_type=”single” animation=”none” implicit=”true”] \n  \n[/column] \n[column width=”1/1″ last=”true” title=”” title_type=”single” animation=”none” implicit=”true”] \n[/column] \n[column width=”1/1″ last=”true” title=”” title_type=”single” animation=”none” implicit=”true”] \n  \n[/column]
URL:https://emmanuelcovenant.ca/event/ladies-bible-study-43/
LOCATION:Emmanuel Evangelical Covenant Church\, 17029 16 Ave\, Surrey\, BC\, V3Z9M5\, Canada
CATEGORIES:Bible Study,Life Together,Prayer,Womens' Ministry
END:VEVENT
BEGIN:VEVENT
DTSTART;TZID=America/Vancouver:20191020T091500
DTEND;TZID=America/Vancouver:20191020T101500
DTSTAMP:20260424T011635
CREATED:20191020T161500Z
LAST-MODIFIED:20200406T183025Z
UID:406179-1571562900-1571566500@emmanuelcovenant.ca
SUMMARY:Sunday Bible Study & Prayer
DESCRIPTION:[column width=”1/1″ last=”true” title=”” title_type=”single” animation=”none” implicit=”true”] \n  \n[/column]
URL:https://emmanuelcovenant.ca/event/sunday-bible-study-prayer-7/
CATEGORIES:Bible Study,Life Together,Prayer
END:VEVENT
BEGIN:VEVENT
DTSTART;TZID=America/Vancouver:20191016T093000
DTEND;TZID=America/Vancouver:20191016T120000
DTSTAMP:20260424T011635
CREATED:20191016T163000Z
LAST-MODIFIED:20200406T183026Z
UID:406286-1571218200-1571227200@emmanuelcovenant.ca
SUMMARY:Ladies' Bible Study
DESCRIPTION:[column width=”1/1″ last=”true” title=”” title_type=”single” animation=”none” implicit=”true”] \n  \n[/column] \n[column width=”1/1″ last=”true” title=”” title_type=”single” animation=”none” implicit=”true”] \n[/column] \n[column width=”1/1″ last=”true” title=”” title_type=”single” animation=”none” implicit=”true”] \n  \n[/column]
URL:https://emmanuelcovenant.ca/event/ladies-bible-study-42/
LOCATION:Emmanuel Evangelical Covenant Church\, 17029 16 Ave\, Surrey\, BC\, V3Z9M5\, Canada
CATEGORIES:Bible Study,Life Together,Prayer,Womens' Ministry
END:VEVENT
BEGIN:VEVENT
DTSTART;TZID=America/Vancouver:20191013T091500
DTEND;TZID=America/Vancouver:20191013T101500
DTSTAMP:20260424T011635
CREATED:20191013T161500Z
LAST-MODIFIED:20200406T183027Z
UID:406177-1570958100-1570961700@emmanuelcovenant.ca
SUMMARY:Sunday Bible Study & Prayer
DESCRIPTION:[column width=”1/1″ last=”true” title=”” title_type=”single” animation=”none” implicit=”true”] \n  \n[/column]
URL:https://emmanuelcovenant.ca/event/sunday-bible-study-prayer-6/
CATEGORIES:Bible Study,Life Together,Prayer
END:VEVENT
BEGIN:VEVENT
DTSTART;TZID=America/Vancouver:20191009T093000
DTEND;TZID=America/Vancouver:20191009T120000
DTSTAMP:20260424T011635
CREATED:20191009T163000Z
LAST-MODIFIED:20200406T183027Z
UID:406284-1570613400-1570622400@emmanuelcovenant.ca
SUMMARY:Ladies' Bible Study
DESCRIPTION:[column width=”1/1″ last=”true” title=”” title_type=”single” animation=”none” implicit=”true”] \n  \n[/column]
URL:https://emmanuelcovenant.ca/event/ladies-bible-study-41/
CATEGORIES:Bible Study,Life Together,Prayer,Womens' Ministry
END:VEVENT
BEGIN:VEVENT
DTSTART;TZID=America/Vancouver:20191006T091500
DTEND;TZID=America/Vancouver:20191006T101500
DTSTAMP:20260424T011635
CREATED:20191006T161500Z
LAST-MODIFIED:20200406T183027Z
UID:406175-1570353300-1570356900@emmanuelcovenant.ca
SUMMARY:Sunday Bible Study & Prayer
DESCRIPTION:[column width=”1/1″ last=”true” title=”” title_type=”single” animation=”none” implicit=”true”] \n  \n[/column]
URL:https://emmanuelcovenant.ca/event/sunday-bible-study-prayer-5/
CATEGORIES:Bible Study,Life Together,Prayer
END:VEVENT
BEGIN:VEVENT
DTSTART;TZID=America/Vancouver:20191002T093000
DTEND;TZID=America/Vancouver:20191002T120000
DTSTAMP:20260424T011635
CREATED:20191002T163000Z
LAST-MODIFIED:20200406T183028Z
UID:406282-1570008600-1570017600@emmanuelcovenant.ca
SUMMARY:Ladies' Bible Study
DESCRIPTION:[column width=”1/1″ last=”true” title=”” title_type=”single” animation=”none” implicit=”true”] \n  \n[/column]
URL:https://emmanuelcovenant.ca/event/ladies-bible-study-40/
LOCATION:Emmanuel Evangelical Covenant Church\, 17029 16 Ave\, Surrey\, BC\, V3Z9M5\, Canada
CATEGORIES:Bible Study,Life Together,Prayer,Womens' Ministry
END:VEVENT
BEGIN:VEVENT
DTSTART;TZID=America/Vancouver:20190929T091500
DTEND;TZID=America/Vancouver:20190929T101500
DTSTAMP:20260424T011635
CREATED:20190929T161500Z
LAST-MODIFIED:20200406T183029Z
UID:406173-1569748500-1569752100@emmanuelcovenant.ca
SUMMARY:Sunday Bible Study & Prayer
DESCRIPTION:[column width=”1/1″ last=”true” title=”” title_type=”single” animation=”none” implicit=”true”] \n  \n[/column]
URL:https://emmanuelcovenant.ca/event/sunday-bible-study-prayer-4/
CATEGORIES:Bible Study,Life Together,Prayer
END:VEVENT
BEGIN:VEVENT
DTSTART;TZID=America/Vancouver:20190925T093000
DTEND;TZID=America/Vancouver:20190925T120000
DTSTAMP:20260424T011635
CREATED:20190925T163000Z
LAST-MODIFIED:20200406T183029Z
UID:406278-1569403800-1569412800@emmanuelcovenant.ca
SUMMARY:Ladies' Bible Study
DESCRIPTION:[column width=”1/1″ last=”true” title=”” title_type=”single” animation=”none” implicit=”true”] \n  \n[/column]
URL:https://emmanuelcovenant.ca/event/ladies-bible-study-39/
CATEGORIES:Bible Study,Life Together,Prayer,Womens' Ministry
END:VEVENT
BEGIN:VEVENT
DTSTART;TZID=America/Vancouver:20190922T091500
DTEND;TZID=America/Vancouver:20190922T101500
DTSTAMP:20260424T011635
CREATED:20190922T161500Z
LAST-MODIFIED:20200406T183030Z
UID:406171-1569143700-1569147300@emmanuelcovenant.ca
SUMMARY:Sunday Bible Study & Prayer
DESCRIPTION:[column width=”1/1″ last=”true” title=”” title_type=”single” animation=”none” implicit=”true”] \n  \n[/column]
URL:https://emmanuelcovenant.ca/event/sunday-bible-study-prayer-3/
CATEGORIES:Bible Study,Life Together,Prayer
END:VEVENT
BEGIN:VEVENT
DTSTART;TZID=America/Vancouver:20190918T100000
DTEND;TZID=America/Vancouver:20190918T110000
DTSTAMP:20260424T011635
CREATED:20190918T170000Z
LAST-MODIFIED:20200406T183031Z
UID:406276-1568800800-1568804400@emmanuelcovenant.ca
SUMMARY:Ladies' Prayer Gathering
DESCRIPTION:[column width=”1/1″ last=”true” title=”” title_type=”single” animation=”none” implicit=”true”] \n  \n[/column] \n[column width=”1/1″ last=”true” title=”” title_type=”single” animation=”none” implicit=”true”] \n[/column] \n[column width=”1/1″ last=”true” title=”” title_type=”single” animation=”none” implicit=”true”] \n  \n[/column] \n[column parallax_bg=”disabled” parallax_bg_inertia=”-0.2″ extended=”” extended_padding=”1″ background_color=”” background_image=”” background_repeat=”” background_position=”” background_size=”auto” background_attachment=”” hide_bg_lowres=”” background_video=”” vertical_padding_top=”0″ vertical_padding_bottom=”0″ more_link=”” more_text=”” left_border=”transparent” class=”” id=”” title=”” title_type=”single” animation=”none” width=”1/1″ last=”true”] \n[/column] \n[column width=”1/1″ last=”true” title=”” title_type=”single” animation=”none” implicit=”true”] \n[/column]
URL:https://emmanuelcovenant.ca/event/ladies-prayer-gathering/
LOCATION:Emmanuel Evangelical Covenant Church\, 17029 16 Ave\, Surrey\, BC\, V3Z9M5\, Canada
CATEGORIES:Life Together,Prayer,Womens' Ministry
END:VEVENT
BEGIN:VEVENT
DTSTART;TZID=America/Vancouver:20190915T091500
DTEND;TZID=America/Vancouver:20190915T101500
DTSTAMP:20260424T011635
CREATED:20190915T161500Z
LAST-MODIFIED:20200406T183031Z
UID:406169-1568538900-1568542500@emmanuelcovenant.ca
SUMMARY:Sunday Bible Study & Prayer
DESCRIPTION:[column width=”1/1″ last=”true” title=”” title_type=”single” animation=”none” implicit=”true”] \n  \n[/column]
URL:https://emmanuelcovenant.ca/event/sunday-bible-study-prayer-2/
CATEGORIES:Bible Study,Life Together,Prayer
END:VEVENT
BEGIN:VEVENT
DTSTART;TZID=America/Vancouver:20190908T091500
DTEND;TZID=America/Vancouver:20190908T101500
DTSTAMP:20260424T011635
CREATED:20190908T161500Z
LAST-MODIFIED:20200406T183033Z
UID:406167-1567934100-1567937700@emmanuelcovenant.ca
SUMMARY:Sunday Bible Study & Prayer
DESCRIPTION:[column width=”1/1″ last=”true” title=”” title_type=”single” animation=”none” implicit=”true”] \n  \n[/column]
URL:https://emmanuelcovenant.ca/event/sunday-bible-study-prayer/
CATEGORIES:Bible Study,Life Together,Prayer
END:VEVENT
BEGIN:VEVENT
DTSTART;TZID=America/Vancouver:20190901T091500
DTEND;TZID=America/Vancouver:20190901T101500
DTSTAMP:20260424T011635
CREATED:20190901T161500Z
LAST-MODIFIED:20200406T183033Z
UID:406109-1567329300-1567332900@emmanuelcovenant.ca
SUMMARY:Sunday Bible Study & Prayer
DESCRIPTION:[column width=”1/1″ last=”true” title=”” title_type=”single” animation=”none” implicit=”true”] \n  \n[/column] \n[column width=”1/1″ last=”true” title=”” title_type=”single” animation=”none” implicit=”true”] \n[/column] \n[column width=”1/1″ last=”true” title=”” title_type=”single” animation=”none” implicit=”true”] \n  \n[/column]
URL:https://emmanuelcovenant.ca/event/sunday-morning-prayer-4/
CATEGORIES:Bible Study,Life Together,Prayer
END:VEVENT
BEGIN:VEVENT
DTSTART;TZID=America/Vancouver:20190825T091500
DTEND;TZID=America/Vancouver:20190825T101500
DTSTAMP:20260424T011635
CREATED:20190825T161500Z
LAST-MODIFIED:20200406T183033Z
UID:406091-1566724500-1566728100@emmanuelcovenant.ca
SUMMARY:Sunday Bible Study & Prayer
DESCRIPTION:[column width=”1/1″ last=”true” title=”” title_type=”single” animation=”none” implicit=”true”] \n  \n[/column] \n[column width=”1/1″ last=”true” title=”” title_type=”single” animation=”none” implicit=”true”] \n[/column] \n[column width=”1/1″ last=”true” title=”” title_type=”single” animation=”none” implicit=”true”] \n  \n[/column]
URL:https://emmanuelcovenant.ca/event/sunday-bible-study-5/
CATEGORIES:Bible Study,Life Together,Prayer
END:VEVENT
BEGIN:VEVENT
DTSTART;TZID=America/Vancouver:20190818T091500
DTEND;TZID=America/Vancouver:20190818T101500
DTSTAMP:20260424T011635
CREATED:20190818T161500Z
LAST-MODIFIED:20200406T183034Z
UID:406089-1566119700-1566123300@emmanuelcovenant.ca
SUMMARY:Sunday Bible Study & Prayer
DESCRIPTION:[column width=”1/1″ last=”true” title=”” title_type=”single” animation=”none” implicit=”true”] \n  \n[/column] \n[column width=”1/1″ last=”true” title=”” title_type=”single” animation=”none” implicit=”true”] \n[/column] \n[column width=”1/1″ last=”true” title=”” title_type=”single” animation=”none” implicit=”true”] \n  \n[/column]
URL:https://emmanuelcovenant.ca/event/sunday-bible-study-4/
CATEGORIES:Bible Study,Life Together,Prayer
END:VEVENT
BEGIN:VEVENT
DTSTART;TZID=America/Vancouver:20190811T091500
DTEND;TZID=America/Vancouver:20190811T101500
DTSTAMP:20260424T011635
CREATED:20190811T161500Z
LAST-MODIFIED:20200406T183035Z
UID:406087-1565514900-1565518500@emmanuelcovenant.ca
SUMMARY:Sunday Bible Study & Prayer
DESCRIPTION:[column width=”1/1″ last=”true” title=”” title_type=”single” animation=”none” implicit=”true”] \n  \n[/column] \n[column width=”1/1″ last=”true” title=”” title_type=”single” animation=”none” implicit=”true”] \n[/column] \n[column width=”1/1″ last=”true” title=”” title_type=”single” animation=”none” implicit=”true”] \n  \n[/column] \n[column parallax_bg=”disabled” parallax_bg_inertia=”-0.2″ extended=”” extended_padding=”1″ background_color=”” background_image=”” background_repeat=”” background_position=”” background_size=”auto” background_attachment=”” hide_bg_lowres=”” background_video=”” vertical_padding_top=”0″ vertical_padding_bottom=”0″ more_link=”” more_text=”” left_border=”transparent” class=”” id=”” title=”” title_type=”single” animation=”none” width=”1/1″ last=”true”] \n[/column] \n[column width=”1/1″ last=”true” title=”” title_type=”single” animation=”none” implicit=”true”] \n[/column]
URL:https://emmanuelcovenant.ca/event/sunday-bible-study-3/
CATEGORIES:Bible Study,Life Together,Prayer
END:VEVENT
BEGIN:VEVENT
DTSTART;TZID=America/Vancouver:20190421T103000
DTEND;TZID=America/Vancouver:20190421T120000
DTSTAMP:20260424T011635
CREATED:20190421T173000Z
LAST-MODIFIED:20200406T183048Z
UID:405843-1555842600-1555848000@emmanuelcovenant.ca
SUMMARY:Easter Sunday Worship Service
DESCRIPTION:[column width=”1/1″ last=”true” title=”” title_type=”single” animation=”none” implicit=”true”] \n  \n[/column]
URL:https://emmanuelcovenant.ca/event/easter-sunday-worship-service/
CATEGORIES:Bible Study,Fellowship,Life Together,Prayer,Worship
END:VEVENT
BEGIN:VEVENT
DTSTART;TZID=America/Vancouver:20190414T103000
DTEND;TZID=America/Vancouver:20190414T120000
DTSTAMP:20260424T011635
CREATED:20190414T173000Z
LAST-MODIFIED:20200406T183049Z
UID:405841-1555237800-1555243200@emmanuelcovenant.ca
SUMMARY:Worship Service
DESCRIPTION:[column width=”1/1″ last=”true” title=”” title_type=”single” animation=”none” implicit=”true”] \n  \n[/column]
URL:https://emmanuelcovenant.ca/event/worship-service-68/
CATEGORIES:Bible Study,Fellowship,Life Together,Prayer,Worship
END:VEVENT
BEGIN:VEVENT
DTSTART;TZID=America/Vancouver:20190407T103000
DTEND;TZID=America/Vancouver:20190407T120000
DTSTAMP:20260424T011635
CREATED:20190407T173000Z
LAST-MODIFIED:20200406T183050Z
UID:405839-1554633000-1554638400@emmanuelcovenant.ca
SUMMARY:Worship Service
DESCRIPTION:[column width=”1/1″ last=”true” title=”” title_type=”single” animation=”none” implicit=”true”] \n  \n[/column]
URL:https://emmanuelcovenant.ca/event/worship-service-66/
CATEGORIES:Bible Study,Fellowship,Life Together,Prayer,Worship
END:VEVENT
BEGIN:VEVENT
DTSTART;TZID=America/Vancouver:20190331T103000
DTEND;TZID=America/Vancouver:20190331T120000
DTSTAMP:20260424T011635
CREATED:20190331T173000Z
LAST-MODIFIED:20200406T183050Z
UID:405837-1554028200-1554033600@emmanuelcovenant.ca
SUMMARY:Worship Service
DESCRIPTION:[column width=”1/1″ last=”true” title=”” title_type=”single” animation=”none” implicit=”true”] \n  \n[/column]
URL:https://emmanuelcovenant.ca/event/worship-service-64/
CATEGORIES:Bible Study,Fellowship,Life Together,Prayer,Worship
END:VEVENT
BEGIN:VEVENT
DTSTART;TZID=America/Vancouver:20190324T103000
DTEND;TZID=America/Vancouver:20190324T120000
DTSTAMP:20260424T011635
CREATED:20190324T173000Z
LAST-MODIFIED:20200406T183051Z
UID:405834-1553423400-1553428800@emmanuelcovenant.ca
SUMMARY:Worship Service
DESCRIPTION:[column width=”1/1″ last=”true” title=”” title_type=”single” animation=”none” implicit=”true”] \n  \n[/column] \n[column width=”1/1″ last=”true” title=”” title_type=”single” animation=”none” implicit=”true”] \n[/column] \n[column width=”1/1″ last=”true” title=”” title_type=”single” animation=”none” implicit=”true”] \n  \n[/column]
URL:https://emmanuelcovenant.ca/event/worship-service-62/
CATEGORIES:Bible Study,Fellowship,Life Together,Prayer,Worship
END:VEVENT
BEGIN:VEVENT
DTSTART;TZID=America/Vancouver:20190317T103000
DTEND;TZID=America/Vancouver:20190317T120000
DTSTAMP:20260424T011635
CREATED:20190317T173000Z
LAST-MODIFIED:20200406T183052Z
UID:405832-1552818600-1552824000@emmanuelcovenant.ca
SUMMARY:Worship Service
DESCRIPTION:[column width=”1/1″ last=”true” title=”” title_type=”single” animation=”none” implicit=”true”] \n  \n[/column]
URL:https://emmanuelcovenant.ca/event/worship-service-61/
CATEGORIES:Bible Study,Fellowship,Life Together,Prayer,Worship
END:VEVENT
BEGIN:VEVENT
DTSTART;TZID=America/Vancouver:20190310T103000
DTEND;TZID=America/Vancouver:20190310T120000
DTSTAMP:20260424T011635
CREATED:20190310T173000Z
LAST-MODIFIED:20200406T183052Z
UID:405830-1552213800-1552219200@emmanuelcovenant.ca
SUMMARY:Worship Service
DESCRIPTION:[column width=”1/1″ last=”true” title=”” title_type=”single” animation=”none” implicit=”true”] \n  \n[/column]
URL:https://emmanuelcovenant.ca/event/worship-service-59/
CATEGORIES:Bible Study,Fellowship,Life Together,Prayer,Worship
END:VEVENT
BEGIN:VEVENT
DTSTART;TZID=America/Vancouver:20190303T103000
DTEND;TZID=America/Vancouver:20190303T120000
DTSTAMP:20260424T011635
CREATED:20190303T183000Z
LAST-MODIFIED:20200406T183053Z
UID:405828-1551609000-1551614400@emmanuelcovenant.ca
SUMMARY:Worship Service
DESCRIPTION:[column width=”1/1″ last=”true” title=”” title_type=”single” animation=”none” implicit=”true”] \n  \n[/column]
URL:https://emmanuelcovenant.ca/event/worship-service-57/
CATEGORIES:Bible Study,Fellowship,Life Together,Prayer,Worship
END:VEVENT
BEGIN:VEVENT
DTSTART;TZID=America/Vancouver:20190224T120000
DTEND;TZID=America/Vancouver:20190224T140000
DTSTAMP:20260424T011635
CREATED:20190224T200000Z
LAST-MODIFIED:20200406T183054Z
UID:405808-1551009600-1551016800@emmanuelcovenant.ca
SUMMARY:Annual General Meeting
DESCRIPTION:[column width=”1/1″ last=”true” title=”” title_type=”single” animation=”none” implicit=”true”] \n  \n[/column]
URL:https://emmanuelcovenant.ca/event/annual-general-meeting-2/
CATEGORIES:Fellowship,Life Together,Outreach,Prayer,Worship
END:VEVENT
BEGIN:VEVENT
DTSTART;TZID=America/Vancouver:20190224T103000
DTEND;TZID=America/Vancouver:20190224T120000
DTSTAMP:20260424T011635
CREATED:20190224T183000Z
LAST-MODIFIED:20200406T183054Z
UID:405826-1551004200-1551009600@emmanuelcovenant.ca
SUMMARY:Worship Service
DESCRIPTION:[column width=”1/1″ last=”true” title=”” title_type=”single” animation=”none” implicit=”true”] \n  \n[/column]
URL:https://emmanuelcovenant.ca/event/worship-service-55/
CATEGORIES:Bible Study,Fellowship,Life Together,Prayer,Worship
END:VEVENT
END:VCALENDAR