BEGIN:VCALENDAR
VERSION:2.0
PRODID:-//Emmanuel Covenant Church | South Surrey, BC - ECPv6.15.20//NONSGML v1.0//EN
CALSCALE:GREGORIAN
METHOD:PUBLISH
X-ORIGINAL-URL:https://emmanuelcovenant.ca
X-WR-CALDESC:Events for Emmanuel Covenant Church | South Surrey, BC
REFRESH-INTERVAL;VALUE=DURATION:PT1H
X-Robots-Tag:noindex
X-PUBLISHED-TTL:PT1H
BEGIN:VTIMEZONE
TZID:America/Vancouver
BEGIN:DAYLIGHT
TZOFFSETFROM:-0800
TZOFFSETTO:-0700
TZNAME:PDT
DTSTART:20160313T100000
END:DAYLIGHT
BEGIN:STANDARD
TZOFFSETFROM:-0700
TZOFFSETTO:-0800
TZNAME:PST
DTSTART:20161106T090000
END:STANDARD
BEGIN:DAYLIGHT
TZOFFSETFROM:-0800
TZOFFSETTO:-0700
TZNAME:PDT
DTSTART:20170312T100000
END:DAYLIGHT
BEGIN:STANDARD
TZOFFSETFROM:-0700
TZOFFSETTO:-0800
TZNAME:PST
DTSTART:20171105T090000
END:STANDARD
BEGIN:DAYLIGHT
TZOFFSETFROM:-0800
TZOFFSETTO:-0700
TZNAME:PDT
DTSTART:20180311T100000
END:DAYLIGHT
BEGIN:STANDARD
TZOFFSETFROM:-0700
TZOFFSETTO:-0800
TZNAME:PST
DTSTART:20181104T090000
END:STANDARD
END:VTIMEZONE
BEGIN:VEVENT
DTSTART;TZID=America/Vancouver:20171219T190000
DTEND;TZID=America/Vancouver:20171219T200000
DTSTAMP:20260424T062522
CREATED:20171220T030000Z
LAST-MODIFIED:20200406T183133Z
UID:401477-1513710000-1513713600@emmanuelcovenant.ca
SUMMARY:Prayer Meeting
DESCRIPTION:[column width=”1/1″ last=”true” title=”” title_type=”single” animation=”none” implicit=”true”] \nAll are welcome to attend this time of prayer. \n[/column]
URL:https://emmanuelcovenant.ca/event/prayer-meeting-199/
LOCATION:Emmanuel Evangelical Covenant Church\, 17029 16 Ave\, Surrey\, BC\, V3Z9M5\, Canada
CATEGORIES:Prayer
END:VEVENT
BEGIN:VEVENT
DTSTART;TZID=America/Vancouver:20171212T190000
DTEND;TZID=America/Vancouver:20171212T200000
DTSTAMP:20260424T062522
CREATED:20171213T030000Z
LAST-MODIFIED:20200406T183133Z
UID:401455-1513105200-1513108800@emmanuelcovenant.ca
SUMMARY:Prayer Meeting
DESCRIPTION:[column width=”1/1″ last=”true” title=”” title_type=”single” animation=”none” implicit=”true”] \nAll are welcome to attend this time of prayer. \n[/column]
URL:https://emmanuelcovenant.ca/event/prayer-meeting-198/
LOCATION:Emmanuel Evangelical Covenant Church\, 17029 16 Ave\, Surrey\, BC\, V3Z9M5\, Canada
CATEGORIES:Prayer
END:VEVENT
BEGIN:VEVENT
DTSTART;TZID=America/Vancouver:20171205T190000
DTEND;TZID=America/Vancouver:20171205T200000
DTSTAMP:20260424T062522
CREATED:20171206T030000Z
LAST-MODIFIED:20200406T183134Z
UID:401434-1512500400-1512504000@emmanuelcovenant.ca
SUMMARY:Prayer Meeting
DESCRIPTION:[column width=”1/1″ last=”true” title=”” title_type=”single” animation=”none” implicit=”true”] \nAll are welcome to attend this time of prayer. \n[/column]
URL:https://emmanuelcovenant.ca/event/prayer-meeting-195/
LOCATION:Emmanuel Evangelical Covenant Church\, 17029 16 Ave\, Surrey\, BC\, V3Z9M5\, Canada
CATEGORIES:Prayer
END:VEVENT
BEGIN:VEVENT
DTSTART;TZID=America/Vancouver:20170715T190000
DTEND;TZID=America/Vancouver:20170715T210000
DTSTAMP:20260424T062522
CREATED:20170704T170757Z
LAST-MODIFIED:20170704T170757Z
UID:405315-1500145200-1500152400@emmanuelcovenant.ca
SUMMARY:A Journey Through Israel & Palestine
DESCRIPTION:
URL:https://emmanuelcovenant.ca/event/a-journey-through-israel-palestine/
LOCATION:Emmanuel Evangelical Covenant Church\, 17029 16 Ave\, Surrey\, BC\, V3Z9M5\, Canada
CATEGORIES:Bible Study,Fellowship,Outreach,Prayer,Worship
END:VEVENT
END:VCALENDAR