BEGIN:VCALENDAR
VERSION:2.0
PRODID:-//Emmanuel Covenant Church | South Surrey, BC - ECPv6.15.20//NONSGML v1.0//EN
CALSCALE:GREGORIAN
METHOD:PUBLISH
X-WR-CALNAME:Emmanuel Covenant Church | South Surrey, BC
X-ORIGINAL-URL:https://emmanuelcovenant.ca
X-WR-CALDESC:Events for Emmanuel Covenant Church | South Surrey, BC
REFRESH-INTERVAL;VALUE=DURATION:PT1H
X-Robots-Tag:noindex
X-PUBLISHED-TTL:PT1H
BEGIN:VTIMEZONE
TZID:America/Vancouver
BEGIN:DAYLIGHT
TZOFFSETFROM:-0800
TZOFFSETTO:-0700
TZNAME:PDT
DTSTART:20160313T100000
END:DAYLIGHT
BEGIN:STANDARD
TZOFFSETFROM:-0700
TZOFFSETTO:-0800
TZNAME:PST
DTSTART:20161106T090000
END:STANDARD
BEGIN:DAYLIGHT
TZOFFSETFROM:-0800
TZOFFSETTO:-0700
TZNAME:PDT
DTSTART:20170312T100000
END:DAYLIGHT
BEGIN:STANDARD
TZOFFSETFROM:-0700
TZOFFSETTO:-0800
TZNAME:PST
DTSTART:20171105T090000
END:STANDARD
BEGIN:DAYLIGHT
TZOFFSETFROM:-0800
TZOFFSETTO:-0700
TZNAME:PDT
DTSTART:20180311T100000
END:DAYLIGHT
BEGIN:STANDARD
TZOFFSETFROM:-0700
TZOFFSETTO:-0800
TZNAME:PST
DTSTART:20181104T090000
END:STANDARD
BEGIN:DAYLIGHT
TZOFFSETFROM:-0800
TZOFFSETTO:-0700
TZNAME:PDT
DTSTART:20190310T100000
END:DAYLIGHT
BEGIN:STANDARD
TZOFFSETFROM:-0700
TZOFFSETTO:-0800
TZNAME:PST
DTSTART:20191103T090000
END:STANDARD
BEGIN:DAYLIGHT
TZOFFSETFROM:-0800
TZOFFSETTO:-0700
TZNAME:PDT
DTSTART:20200308T100000
END:DAYLIGHT
BEGIN:STANDARD
TZOFFSETFROM:-0700
TZOFFSETTO:-0800
TZNAME:PST
DTSTART:20201101T090000
END:STANDARD
BEGIN:DAYLIGHT
TZOFFSETFROM:-0800
TZOFFSETTO:-0700
TZNAME:PDT
DTSTART:20210314T100000
END:DAYLIGHT
BEGIN:STANDARD
TZOFFSETFROM:-0700
TZOFFSETTO:-0800
TZNAME:PST
DTSTART:20211107T090000
END:STANDARD
END:VTIMEZONE
BEGIN:VEVENT
DTSTART;VALUE=DATE:20200912
DTEND;VALUE=DATE:20200913
DTSTAMP:20260423T172145
CREATED:20191210T033749Z
LAST-MODIFIED:20191210T033904Z
UID:406626-1599868800-1599955199@emmanuelcovenant.ca
SUMMARY:Annual Pig Roast
DESCRIPTION:
URL:https://emmanuelcovenant.ca/event/annual-pig-roast/
CATEGORIES:Fellowship,Life Together,Outreach
END:VEVENT
BEGIN:VEVENT
DTSTART;TZID=America/Vancouver:20200105T090000
DTEND;TZID=America/Vancouver:20200105T160000
DTSTAMP:20260423T172145
CREATED:20191112T191039Z
LAST-MODIFIED:20191120T012235Z
UID:406427-1578214800-1578240000@emmanuelcovenant.ca
SUMMARY:Christmas Tree Chipping & Bottle Drive
DESCRIPTION:
URL:https://emmanuelcovenant.ca/event/christmas-tree-chipping-bottle-drive-6/
LOCATION:17029 16 Ave\, Surrey\, BC V3Z 9M5\, Canada
CATEGORIES:Fellowship,Life Together,Outreach,Youth
END:VEVENT
BEGIN:VEVENT
DTSTART;TZID=America/Vancouver:20200104T100000
DTEND;TZID=America/Vancouver:20200104T160000
DTSTAMP:20260423T172145
CREATED:20191112T190910Z
LAST-MODIFIED:20191112T190930Z
UID:406425-1578132000-1578153600@emmanuelcovenant.ca
SUMMARY:Christmas Tree Chipping & Bottle Drive
DESCRIPTION:
URL:https://emmanuelcovenant.ca/event/christmas-tree-chipping-bottle-drive-5/
LOCATION:17029 16 Ave\, Surrey\, BC V3Z 9M5\, Canada
CATEGORIES:Fellowship,Life Together,Outreach,Youth
END:VEVENT
BEGIN:VEVENT
DTSTART;TZID=America/Vancouver:20191207T150000
DTEND;TZID=America/Vancouver:20191207T183000
DTSTAMP:20260423T172145
CREATED:20191207T230000Z
LAST-MODIFIED:20200406T183018Z
UID:406334-1575730800-1575743400@emmanuelcovenant.ca
SUMMARY:Christmas Event!
DESCRIPTION:[column width=”1/1″ last=”true” title=”” title_type=”single” animation=”none” implicit=”true”] \n[/column]
URL:https://emmanuelcovenant.ca/event/christmas-event/
LOCATION:17029 16 Ave\, Surrey\, BC V3Z 9M5\, Canada
CATEGORIES:Fellowship,Life Together,Outreach
END:VEVENT
BEGIN:VEVENT
DTSTART;TZID=America/Vancouver:20191025T173000
DTEND;TZID=America/Vancouver:20191025T203000
DTSTAMP:20260423T172145
CREATED:20191026T003000Z
LAST-MODIFIED:20200406T183024Z
UID:406077-1572024600-1572035400@emmanuelcovenant.ca
SUMMARY:Harvest Party
DESCRIPTION:[column width=”1/1″ last=”true” title=”” title_type=”single” animation=”none” implicit=”true”] \n  \n[/column] \n[column width=”1/1″ last=”true” title=”” title_type=”single” animation=”none” implicit=”true”] \n[/column] \n[column width=”1/1″ last=”true” title=”” title_type=”single” animation=”none” implicit=”true”] \n  \n[/column]
URL:https://emmanuelcovenant.ca/event/harvest-party-2/
CATEGORIES:Children,Fellowship,Life Together,Outreach,Youth
ORGANIZER;CN="":MAILTO:office@emmanuelcovenant.ca
END:VEVENT
BEGIN:VEVENT
DTSTART;TZID=America/Vancouver:20191025T090000
DTEND;TZID=America/Vancouver:20191025T150000
DTSTAMP:20260423T172145
CREATED:20191025T160000Z
LAST-MODIFIED:20200406T183024Z
UID:406085-1571994000-1572015600@emmanuelcovenant.ca
SUMMARY:Pro-D Day Camp
DESCRIPTION:[column width=”1/1″ last=”true” title=”” title_type=”single” animation=”none” implicit=”true”] \nRSVP to the Church office by Thursday\, October 24th \ndebbie@emmanuelcovenant.ca or 604-535-0748 \n[/column] \n[column parallax_bg=”disabled” parallax_bg_inertia=”-0.2″ extended=”” extended_padding=”1″ background_color=”” background_image=”” background_repeat=”” background_position=”” background_size=”auto” background_attachment=”” hide_bg_lowres=”” background_video=”” vertical_padding_top=”0″ vertical_padding_bottom=”0″ more_link=”” more_text=”” left_border=”transparent” class=”” id=”” title=”” title_type=”single” animation=”none” width=”1/1″ last=”true”] \n[/column] \n[column width=”1/1″ last=”true” title=”” title_type=”single” animation=”none” implicit=”true”] \n[/column]
URL:https://emmanuelcovenant.ca/event/pro-d-day-camp-2/
CATEGORIES:Children,Outreach
ATTACH;FMTTYPE=image/png:https://emmanuelcovenant.ca/wp-content/uploads/2019/09/2019-pro-d-day-camp.png
END:VEVENT
BEGIN:VEVENT
DTSTART;TZID=America/Vancouver:20191006T103000
DTEND;TZID=America/Vancouver:20191006T113000
DTSTAMP:20260423T172145
CREATED:20191006T173000Z
LAST-MODIFIED:20200406T183027Z
UID:406206-1570357800-1570361400@emmanuelcovenant.ca
SUMMARY:Sunday Worship with BC Adult & Teen Challenge
DESCRIPTION:[column width=”1/1″ last=”true” title=”” title_type=”single” animation=”none” implicit=”true”] \nWorship with Testimonies from BC Adult & Teen Challenge  \n[/column]
URL:https://emmanuelcovenant.ca/event/sunday-worship-with-bc-adult-teen-challenge/
CATEGORIES:Outreach,Worship
END:VEVENT
BEGIN:VEVENT
DTSTART;TZID=America/Vancouver:20190930T090000
DTEND;TZID=America/Vancouver:20190930T150000
DTSTAMP:20260423T172145
CREATED:20190930T160000Z
LAST-MODIFIED:20200406T183028Z
UID:406081-1569834000-1569855600@emmanuelcovenant.ca
SUMMARY:Pro-D Day Camp
DESCRIPTION:[column width=”1/1″ last=”true” title=”” title_type=”single” animation=”none” implicit=”true”] \n  \n[/column] \n[column width=”1/1″ last=”true” title=”” title_type=”single” animation=”none” implicit=”true”] \n[/column] \n[column width=”1/1″ last=”true” title=”” title_type=”single” animation=”none” implicit=”true”] \n  \n[/column] \n[column parallax_bg=”disabled” parallax_bg_inertia=”-0.2″ extended=”” extended_padding=”1″ background_color=”” background_image=”” background_repeat=”” background_position=”” background_size=”auto” background_attachment=”” hide_bg_lowres=”” background_video=”” vertical_padding_top=”0″ vertical_padding_bottom=”0″ more_link=”” more_text=”” left_border=”transparent” class=”” id=”” title=”” title_type=”single” animation=”none” width=”1/1″ last=”true”] \n[/column] \n[column width=”1/1″ last=”true” title=”” title_type=”single” animation=”none” implicit=”true”] \n[/column]
URL:https://emmanuelcovenant.ca/event/pro-d-day-camp/
LOCATION:17029 16 Ave\, Surrey\, BC V3Z 9M5\, Canada
CATEGORIES:Children,Outreach
ATTACH;FMTTYPE=image/png:https://emmanuelcovenant.ca/wp-content/uploads/2019/09/2019-pro-d-day-camp.png
END:VEVENT
BEGIN:VEVENT
DTSTART;TZID=America/Vancouver:20190817T160000
DTEND;TZID=America/Vancouver:20190817T180000
DTSTAMP:20260423T172145
CREATED:20190817T230000Z
LAST-MODIFIED:20200406T183034Z
UID:406071-1566057600-1566064800@emmanuelcovenant.ca
SUMMARY:Community BBQ
DESCRIPTION:[column width=”1/1″ last=”true” title=”” title_type=”single” animation=”none” implicit=”true”] \n  \n[/column] \n[column width=”1/1″ last=”true” title=”” title_type=”single” animation=”none” implicit=”true”] \n[/column] \n[column width=”1/1″ last=”true” title=”” title_type=”single” animation=”none” implicit=”true”] \n  \n[/column]
URL:https://emmanuelcovenant.ca/event/community-bbq/
CATEGORIES:Fellowship,Life Together,Outreach
ATTACH;FMTTYPE=image/png:https://emmanuelcovenant.ca/wp-content/uploads/2019/08/Screen-Shot-2019-08-10-at-7.40.39-AM.png
END:VEVENT
BEGIN:VEVENT
DTSTART;TZID=America/Vancouver:20190327T090000
DTEND;TZID=America/Vancouver:20190327T120000
DTSTAMP:20260423T172145
CREATED:20190327T160000Z
LAST-MODIFIED:20200406T183050Z
UID:405806-1553677200-1553688000@emmanuelcovenant.ca
SUMMARY:Spring Camp!
DESCRIPTION:[column width=”1/1″ last=”true” title=”” title_type=”single” animation=”none” implicit=”true”] \n  \n[/column]
URL:https://emmanuelcovenant.ca/event/spring-camp-3/
CATEGORIES:Children,Fellowship,Outreach,Youth
END:VEVENT
BEGIN:VEVENT
DTSTART;TZID=America/Vancouver:20190326T090000
DTEND;TZID=America/Vancouver:20190326T120000
DTSTAMP:20260423T172145
CREATED:20190326T160000Z
LAST-MODIFIED:20200406T183051Z
UID:405804-1553590800-1553601600@emmanuelcovenant.ca
SUMMARY:Spring Camp!
DESCRIPTION:[column width=”1/1″ last=”true” title=”” title_type=”single” animation=”none” implicit=”true”] \n  \n[/column]
URL:https://emmanuelcovenant.ca/event/spring-camp-2/
CATEGORIES:Children,Fellowship,Outreach,Youth
END:VEVENT
BEGIN:VEVENT
DTSTART;TZID=America/Vancouver:20190325T090000
DTEND;TZID=America/Vancouver:20190325T120000
DTSTAMP:20260423T172145
CREATED:20190325T160000Z
LAST-MODIFIED:20200406T183051Z
UID:405802-1553504400-1553515200@emmanuelcovenant.ca
SUMMARY:Spring Camp!
DESCRIPTION:[column width=”1/1″ last=”true” title=”” title_type=”single” animation=”none” implicit=”true”] \n  \n[/column]
URL:https://emmanuelcovenant.ca/event/spring-camp/
CATEGORIES:Children,Fellowship,Outreach,Youth
END:VEVENT
BEGIN:VEVENT
DTSTART;TZID=America/Vancouver:20190224T120000
DTEND;TZID=America/Vancouver:20190224T140000
DTSTAMP:20260423T172145
CREATED:20190224T200000Z
LAST-MODIFIED:20200406T183054Z
UID:405808-1551009600-1551016800@emmanuelcovenant.ca
SUMMARY:Annual General Meeting
DESCRIPTION:[column width=”1/1″ last=”true” title=”” title_type=”single” animation=”none” implicit=”true”] \n  \n[/column]
URL:https://emmanuelcovenant.ca/event/annual-general-meeting-2/
CATEGORIES:Fellowship,Life Together,Outreach,Prayer,Worship
END:VEVENT
BEGIN:VEVENT
DTSTART;TZID=America/Vancouver:20190120T103000
DTEND;TZID=America/Vancouver:20190120T120000
DTSTAMP:20260423T172145
CREATED:20190120T183000Z
LAST-MODIFIED:20200406T183059Z
UID:405816-1547980200-1547985600@emmanuelcovenant.ca
SUMMARY:Worship Service
DESCRIPTION:[column width=”1/1″ last=”true” title=”” title_type=”single” animation=”none” implicit=”true”] \n  \n[/column]
URL:https://emmanuelcovenant.ca/event/worship-service-46/
CATEGORIES:Bible Study,Fellowship,Life Together,Outreach,Prayer,Worship
END:VEVENT
BEGIN:VEVENT
DTSTART;TZID=America/Vancouver:20190105T100000
DTEND;TZID=America/Vancouver:20190105T160000
DTSTAMP:20260423T172145
CREATED:20190105T180000Z
LAST-MODIFIED:20200406T183105Z
UID:405761-1546682400-1546704000@emmanuelcovenant.ca
SUMMARY:Christmas Tree Chipping & Bottle Drive
DESCRIPTION:[column width=”1/1″ last=”true” title=”” title_type=”single” animation=”none” implicit=”true”] \n  \n[/column] \n[column width=”1/1″ last=”true” title=”” title_type=”single” animation=”none” implicit=”true”] \n[/column] \n[column width=”1/1″ last=”true” title=”” title_type=”single” animation=”none” implicit=”true”] \n  \n[/column]
URL:https://emmanuelcovenant.ca/event/christmas-tree-chipping-bottle-drive-3/
CATEGORIES:Fellowship,Life Together,Outreach,Youth
ATTACH;FMTTYPE=image/png:https://emmanuelcovenant.ca/wp-content/uploads/2018/11/Tree-Chipping-2019-TV.png
END:VEVENT
BEGIN:VEVENT
DTSTART;TZID=America/Vancouver:20181208T180000
DTEND;TZID=America/Vancouver:20181208T210000
DTSTAMP:20260423T172145
CREATED:20181209T020000Z
LAST-MODIFIED:20200406T183111Z
UID:405743-1544292000-1544302800@emmanuelcovenant.ca
SUMMARY:Christmas Celebration (Sold Out)
DESCRIPTION:[column width=”1/1″ last=”true” title=”” title_type=”single” animation=”none” implicit=”true”] \n  \n[/column] \n[column width=”1/1″ last=”true” title=”” title_type=”single” animation=”none” implicit=”true”] \n[/column] \n[column width=”1/1″ last=”true” title=”” title_type=”single” animation=”none” implicit=”true”] \n  \n[/column]
URL:https://emmanuelcovenant.ca/event/christmas-celebration/
CATEGORIES:Fellowship,Life Together,Outreach
ATTACH;FMTTYPE=image/png:https://emmanuelcovenant.ca/wp-content/uploads/2018/11/christmasbanquet2018-slide-2.png
END:VEVENT
BEGIN:VEVENT
DTSTART;TZID=America/Vancouver:20171214T180000
DTEND;TZID=America/Vancouver:20171214T200000
DTSTAMP:20260423T172145
CREATED:20171204T202957Z
LAST-MODIFIED:20171204T202957Z
UID:405451-1513274400-1513281600@emmanuelcovenant.ca
SUMMARY:IF: Table - Women's Ministry Event
DESCRIPTION:
URL:https://emmanuelcovenant.ca/event/if-table-womens-ministry-event/
CATEGORIES:Fellowship,Outreach,Womens' Ministry
ATTACH;FMTTYPE=image/png:https://emmanuelcovenant.ca/wp-content/uploads/2017/12/IF-2017-Slide-ECC.png
END:VEVENT
BEGIN:VEVENT
DTSTART;TZID=America/Vancouver:20170802T183000
DTEND;TZID=America/Vancouver:20170802T200000
DTSTAMP:20260423T172145
CREATED:20170704T170520Z
LAST-MODIFIED:20170704T170520Z
UID:405313-1501698600-1501704000@emmanuelcovenant.ca
SUMMARY:Concert at Dart's Hill Garden Park
DESCRIPTION:
URL:https://emmanuelcovenant.ca/event/concert-at-darts-hill-garden-park-2/
LOCATION:Dart’s HIll Garden Park\, 1633 170 Street\, Surrey\, Canada
CATEGORIES:Fellowship,Outreach
END:VEVENT
BEGIN:VEVENT
DTSTART;TZID=America/Vancouver:20170728T190000
DTEND;TZID=America/Vancouver:20170728T220000
DTSTAMP:20260423T172145
CREATED:20170704T171352Z
LAST-MODIFIED:20170704T171446Z
UID:405319-1501268400-1501279200@emmanuelcovenant.ca
SUMMARY:Vancouver Canadians Game w/ Green Timbers Covenant Church
DESCRIPTION:
URL:https://emmanuelcovenant.ca/event/vancouver-canadians-game-w-green-timbers-covenant-church/
LOCATION:Nat Bailey Stadium\, Vancouver\, BC\, Canada
CATEGORIES:Fellowship,Outreach
END:VEVENT
BEGIN:VEVENT
DTSTART;TZID=America/Vancouver:20170715T190000
DTEND;TZID=America/Vancouver:20170715T210000
DTSTAMP:20260423T172145
CREATED:20170704T170757Z
LAST-MODIFIED:20170704T170757Z
UID:405315-1500145200-1500152400@emmanuelcovenant.ca
SUMMARY:A Journey Through Israel & Palestine
DESCRIPTION:
URL:https://emmanuelcovenant.ca/event/a-journey-through-israel-palestine/
LOCATION:Emmanuel Evangelical Covenant Church\, 17029 16 Ave\, Surrey\, BC\, V3Z9M5\, Canada
CATEGORIES:Bible Study,Fellowship,Outreach,Prayer,Worship
END:VEVENT
BEGIN:VEVENT
DTSTART;TZID=America/Vancouver:20170712T130000
DTEND;TZID=America/Vancouver:20170712T143000
DTSTAMP:20260423T172145
CREATED:20170704T170421Z
LAST-MODIFIED:20170704T170421Z
UID:405310-1499864400-1499869800@emmanuelcovenant.ca
SUMMARY:Concert at Dart's Hill Garden Park
DESCRIPTION:
URL:https://emmanuelcovenant.ca/event/concert-at-darts-hill-garden-park/
LOCATION:Dart’s HIll Garden Park\, 1633 170 Street\, Surrey\, Canada
CATEGORIES:Fellowship,Outreach
END:VEVENT
END:VCALENDAR