BEGIN:VCALENDAR
VERSION:2.0
PRODID:-//Emmanuel Covenant Church | South Surrey, BC - ECPv6.15.20//NONSGML v1.0//EN
CALSCALE:GREGORIAN
METHOD:PUBLISH
X-ORIGINAL-URL:https://emmanuelcovenant.ca
X-WR-CALDESC:Events for Emmanuel Covenant Church | South Surrey, BC
REFRESH-INTERVAL;VALUE=DURATION:PT1H
X-Robots-Tag:noindex
X-PUBLISHED-TTL:PT1H
BEGIN:VTIMEZONE
TZID:America/Vancouver
BEGIN:DAYLIGHT
TZOFFSETFROM:-0800
TZOFFSETTO:-0700
TZNAME:PDT
DTSTART:20180311T100000
END:DAYLIGHT
BEGIN:STANDARD
TZOFFSETFROM:-0700
TZOFFSETTO:-0800
TZNAME:PST
DTSTART:20181104T090000
END:STANDARD
BEGIN:DAYLIGHT
TZOFFSETFROM:-0800
TZOFFSETTO:-0700
TZNAME:PDT
DTSTART:20190310T100000
END:DAYLIGHT
BEGIN:STANDARD
TZOFFSETFROM:-0700
TZOFFSETTO:-0800
TZNAME:PST
DTSTART:20191103T090000
END:STANDARD
BEGIN:DAYLIGHT
TZOFFSETFROM:-0800
TZOFFSETTO:-0700
TZNAME:PDT
DTSTART:20200308T100000
END:DAYLIGHT
BEGIN:STANDARD
TZOFFSETFROM:-0700
TZOFFSETTO:-0800
TZNAME:PST
DTSTART:20201101T090000
END:STANDARD
END:VTIMEZONE
BEGIN:VEVENT
DTSTART;TZID=America/Vancouver:20191222T091500
DTEND;TZID=America/Vancouver:20191222T101500
DTSTAMP:20260424T022727
CREATED:20191222T171500Z
LAST-MODIFIED:20200406T183018Z
UID:406197-1577006100-1577009700@emmanuelcovenant.ca
SUMMARY:Sunday Bible Study & Prayer
DESCRIPTION:[column width=”1/1″ last=”true” title=”” title_type=”single” animation=”none” implicit=”true”] \n  \n[/column]
URL:https://emmanuelcovenant.ca/event/sunday-bible-study-prayer-16/
CATEGORIES:Bible Study,Life Together,Prayer
END:VEVENT
BEGIN:VEVENT
DTSTART;TZID=America/Vancouver:20191220T180000
DTEND;TZID=America/Vancouver:20191220T200000
DTSTAMP:20260424T022727
CREATED:20191221T020000Z
LAST-MODIFIED:20200406T183018Z
UID:406157-1576864800-1576872000@emmanuelcovenant.ca
SUMMARY:Men's Bible Study
DESCRIPTION:[column width=”1/1″ last=”true” title=”” title_type=”single” animation=”none” implicit=”true”] \nDinner at 6pm \nBible Study at 7pm \nPlease RSVP to debbie@emmanuelcovenant.ca \n[/column]
URL:https://emmanuelcovenant.ca/event/mens-bible-study-85/
CATEGORIES:Bible Study,Men's Ministry
END:VEVENT
BEGIN:VEVENT
DTSTART;TZID=America/Vancouver:20191215T091500
DTEND;TZID=America/Vancouver:20191215T101500
DTSTAMP:20260424T022727
CREATED:20191215T171500Z
LAST-MODIFIED:20200406T183018Z
UID:406195-1576401300-1576404900@emmanuelcovenant.ca
SUMMARY:Sunday Bible Study & Prayer
DESCRIPTION:[column width=”1/1″ last=”true” title=”” title_type=”single” animation=”none” implicit=”true”] \n  \n[/column]
URL:https://emmanuelcovenant.ca/event/sunday-bible-study-prayer-15/
CATEGORIES:Bible Study,Life Together,Prayer
END:VEVENT
BEGIN:VEVENT
DTSTART;TZID=America/Vancouver:20191213T180000
DTEND;TZID=America/Vancouver:20191213T200000
DTSTAMP:20260424T022727
CREATED:20191214T020000Z
LAST-MODIFIED:20200406T183018Z
UID:406155-1576260000-1576267200@emmanuelcovenant.ca
SUMMARY:Men's Bible Study
DESCRIPTION:[column width=”1/1″ last=”true” title=”” title_type=”single” animation=”none” implicit=”true”] \nDinner at 6pm \nBible Study at 7pm \nPlease RSVP to debbie@emmanuelcovenant.ca \n[/column]
URL:https://emmanuelcovenant.ca/event/mens-bible-study-84/
CATEGORIES:Bible Study,Men's Ministry
END:VEVENT
BEGIN:VEVENT
DTSTART;TZID=America/Vancouver:20191208T091500
DTEND;TZID=America/Vancouver:20191208T101500
DTSTAMP:20260424T022727
CREATED:20191208T171500Z
LAST-MODIFIED:20200406T183018Z
UID:406193-1575796500-1575800100@emmanuelcovenant.ca
SUMMARY:Sunday Bible Study & Prayer
DESCRIPTION:[column width=”1/1″ last=”true” title=”” title_type=”single” animation=”none” implicit=”true”] \n  \n[/column]
URL:https://emmanuelcovenant.ca/event/sunday-bible-study-prayer-14/
CATEGORIES:Bible Study,Life Together,Prayer
END:VEVENT
BEGIN:VEVENT
DTSTART;TZID=America/Vancouver:20191206T180000
DTEND;TZID=America/Vancouver:20191206T200000
DTSTAMP:20260424T022727
CREATED:20191207T020000Z
LAST-MODIFIED:20200406T183020Z
UID:406153-1575655200-1575662400@emmanuelcovenant.ca
SUMMARY:Men's Bible Study
DESCRIPTION:[column width=”1/1″ last=”true” title=”” title_type=”single” animation=”none” implicit=”true”] \nDinner at 6pm \nBible Study at 7pm \nPlease RSVP to debbie@emmanuelcovenant.ca \n[/column]
URL:https://emmanuelcovenant.ca/event/mens-bible-study-83/
CATEGORIES:Bible Study,Men's Ministry
END:VEVENT
BEGIN:VEVENT
DTSTART;TZID=America/Vancouver:20191204T093000
DTEND;TZID=America/Vancouver:20191204T120000
DTSTAMP:20260424T022727
CREATED:20191204T173000Z
LAST-MODIFIED:20200406T183020Z
UID:406304-1575451800-1575460800@emmanuelcovenant.ca
SUMMARY:Ladies' Bible Study
DESCRIPTION:[column width=”1/1″ last=”true” title=”” title_type=”single” animation=”none” implicit=”true”] \n  \n[/column]
URL:https://emmanuelcovenant.ca/event/ladies-bible-study-49/
LOCATION:Emmanuel Evangelical Covenant Church\, 17029 16 Ave\, Surrey\, BC\, V3Z9M5\, Canada
CATEGORIES:Bible Study,Life Together,Prayer,Womens' Ministry
END:VEVENT
BEGIN:VEVENT
DTSTART;TZID=America/Vancouver:20191201T091500
DTEND;TZID=America/Vancouver:20191201T101500
DTSTAMP:20260424T022727
CREATED:20191201T171500Z
LAST-MODIFIED:20200406T183020Z
UID:406191-1575191700-1575195300@emmanuelcovenant.ca
SUMMARY:Sunday Bible Study & Prayer
DESCRIPTION:[column width=”1/1″ last=”true” title=”” title_type=”single” animation=”none” implicit=”true”] \n  \n[/column]
URL:https://emmanuelcovenant.ca/event/sunday-bible-study-prayer-13/
CATEGORIES:Bible Study,Life Together,Prayer
END:VEVENT
BEGIN:VEVENT
DTSTART;TZID=America/Vancouver:20191129T180000
DTEND;TZID=America/Vancouver:20191129T200000
DTSTAMP:20260424T022727
CREATED:20191130T020000Z
LAST-MODIFIED:20200406T183020Z
UID:406151-1575050400-1575057600@emmanuelcovenant.ca
SUMMARY:Men's Bible Study
DESCRIPTION:[column width=”1/1″ last=”true” title=”” title_type=”single” animation=”none” implicit=”true”] \nDinner at 6pm \nBible Study at 7pm \nPlease RSVP to debbie@emmanuelcovenant.ca \n[/column]
URL:https://emmanuelcovenant.ca/event/mens-bible-study-80/
CATEGORIES:Bible Study,Men's Ministry
END:VEVENT
BEGIN:VEVENT
DTSTART;TZID=America/Vancouver:20191127T093000
DTEND;TZID=America/Vancouver:20191127T120000
DTSTAMP:20260424T022727
CREATED:20191127T173000Z
LAST-MODIFIED:20200406T183020Z
UID:406302-1574847000-1574856000@emmanuelcovenant.ca
SUMMARY:Ladies' Bible Study
DESCRIPTION:[column width=”1/1″ last=”true” title=”” title_type=”single” animation=”none” implicit=”true”] \n  \n[/column]
URL:https://emmanuelcovenant.ca/event/ladies-bible-study-48/
LOCATION:Emmanuel Evangelical Covenant Church\, 17029 16 Ave\, Surrey\, BC\, V3Z9M5\, Canada
CATEGORIES:Bible Study,Life Together,Prayer,Womens' Ministry
END:VEVENT
BEGIN:VEVENT
DTSTART;TZID=America/Vancouver:20191124T091500
DTEND;TZID=America/Vancouver:20191124T101500
DTSTAMP:20260424T022727
CREATED:20191124T171500Z
LAST-MODIFIED:20200406T183020Z
UID:406189-1574586900-1574590500@emmanuelcovenant.ca
SUMMARY:Sunday Bible Study & Prayer
DESCRIPTION:[column width=”1/1″ last=”true” title=”” title_type=”single” animation=”none” implicit=”true”] \n  \n[/column]
URL:https://emmanuelcovenant.ca/event/sunday-bible-study-prayer-12/
CATEGORIES:Bible Study,Life Together,Prayer
END:VEVENT
BEGIN:VEVENT
DTSTART;TZID=America/Vancouver:20191122T180000
DTEND;TZID=America/Vancouver:20191122T200000
DTSTAMP:20260424T022727
CREATED:20191123T020000Z
LAST-MODIFIED:20200406T183020Z
UID:406149-1574445600-1574452800@emmanuelcovenant.ca
SUMMARY:Men's Bible Study
DESCRIPTION:[column width=”1/1″ last=”true” title=”” title_type=”single” animation=”none” implicit=”true”] \nDinner at 6pm \nBible Study at 7pm \nPlease RSVP to debbie@emmanuelcovenant.ca \n[/column]
URL:https://emmanuelcovenant.ca/event/mens-bible-study-78/
CATEGORIES:Bible Study,Life Together
END:VEVENT
BEGIN:VEVENT
DTSTART;TZID=America/Vancouver:20191120T093000
DTEND;TZID=America/Vancouver:20191120T120000
DTSTAMP:20260424T022727
CREATED:20191120T173000Z
LAST-MODIFIED:20200406T183021Z
UID:406300-1574242200-1574251200@emmanuelcovenant.ca
SUMMARY:Ladies' Bible Study
DESCRIPTION:[column width=”1/1″ last=”true” title=”” title_type=”single” animation=”none” implicit=”true”] \n  \n[/column]
URL:https://emmanuelcovenant.ca/event/ladies-bible-study-47/
LOCATION:Emmanuel Evangelical Covenant Church\, 17029 16 Ave\, Surrey\, BC\, V3Z9M5\, Canada
CATEGORIES:Bible Study,Life Together,Prayer,Womens' Ministry
END:VEVENT
BEGIN:VEVENT
DTSTART;TZID=America/Vancouver:20191117T091500
DTEND;TZID=America/Vancouver:20191117T101500
DTSTAMP:20260424T022727
CREATED:20191117T171500Z
LAST-MODIFIED:20200406T183021Z
UID:406187-1573982100-1573985700@emmanuelcovenant.ca
SUMMARY:Sunday Bible Study & Prayer
DESCRIPTION:[column width=”1/1″ last=”true” title=”” title_type=”single” animation=”none” implicit=”true”] \n  \n[/column]
URL:https://emmanuelcovenant.ca/event/sunday-bible-study-prayer-11/
CATEGORIES:Bible Study,Life Together,Prayer
END:VEVENT
BEGIN:VEVENT
DTSTART;TZID=America/Vancouver:20191115T180000
DTEND;TZID=America/Vancouver:20191115T200000
DTSTAMP:20260424T022727
CREATED:20191116T020000Z
LAST-MODIFIED:20200406T183022Z
UID:406147-1573840800-1573848000@emmanuelcovenant.ca
SUMMARY:Men's Bible Study
DESCRIPTION:[column width=”1/1″ last=”true” title=”” title_type=”single” animation=”none” implicit=”true”] \nDinner at 6pm \nBible Study at 7pm \nPlease RSVP to debbie@emmanuelcovenant.ca \n[/column]
URL:https://emmanuelcovenant.ca/event/mens-bible-study-77/
CATEGORIES:Bible Study,Men's Ministry
END:VEVENT
BEGIN:VEVENT
DTSTART;TZID=America/Vancouver:20191114T190000
DTEND;TZID=America/Vancouver:20191114T200000
DTSTAMP:20260424T022727
CREATED:20191115T030000Z
LAST-MODIFIED:20200406T183022Z
UID:406261-1573758000-1573761600@emmanuelcovenant.ca
SUMMARY:Community Bible Experience Group
DESCRIPTION:[column width=”1/1″ last=”true” title=”” title_type=”single” animation=”none” implicit=”true”] \n  \n[/column] \n[column width=”1/1″ last=”true” title=”” title_type=”single” animation=”none” implicit=”true”] \n[/column] \n[column width=”1/1″ last=”true” title=”” title_type=”single” animation=”none” implicit=”true”] \n  \n[/column] \n[column parallax_bg=”disabled” parallax_bg_inertia=”-0.2″ extended=”” extended_padding=”1″ background_color=”” background_image=”” background_repeat=”” background_position=”” background_size=”auto” background_attachment=”” hide_bg_lowres=”” background_video=”” vertical_padding_top=”0″ vertical_padding_bottom=”0″ more_link=”” more_text=”” left_border=”transparent” class=”” id=”” title=”” title_type=”single” animation=”none” width=”1/1″ last=”true”] \n[/column] \n[column width=”1/1″ last=”true” title=”” title_type=”single” animation=”none” implicit=”true”] \n[/column]
URL:https://emmanuelcovenant.ca/event/community-bible-experience-group-7/
CATEGORIES:Bible Study,Life Together
ATTACH;FMTTYPE=image/jpeg:https://emmanuelcovenant.ca/wp-content/uploads/2019/09/CBEMainSlide2019.jpg
END:VEVENT
BEGIN:VEVENT
DTSTART;TZID=America/Vancouver:20191113T093000
DTEND;TZID=America/Vancouver:20191113T120000
DTSTAMP:20260424T022727
CREATED:20191113T173000Z
LAST-MODIFIED:20200406T183022Z
UID:406296-1573637400-1573646400@emmanuelcovenant.ca
SUMMARY:Ladies' Bible Study
DESCRIPTION:[column width=”1/1″ last=”true” title=”” title_type=”single” animation=”none” implicit=”true”] \n  \n[/column] \n[column width=”1/1″ last=”true” title=”” title_type=”single” animation=”none” implicit=”true”] \n[/column] \n[column width=”1/1″ last=”true” title=”” title_type=”single” animation=”none” implicit=”true”] \n  \n[/column] \n[column parallax_bg=”disabled” parallax_bg_inertia=”-0.2″ extended=”” extended_padding=”1″ background_color=”” background_image=”” background_repeat=”” background_position=”” background_size=”auto” background_attachment=”” hide_bg_lowres=”” background_video=”” vertical_padding_top=”0″ vertical_padding_bottom=”0″ more_link=”” more_text=”” left_border=”transparent” class=”” id=”” title=”” title_type=”single” animation=”none” width=”1/1″ last=”true”] \n[/column] \n[column width=”1/1″ last=”true” title=”” title_type=”single” animation=”none” implicit=”true”] \n[/column]
URL:https://emmanuelcovenant.ca/event/ladies-bible-study-46/
LOCATION:Emmanuel Evangelical Covenant Church\, 17029 16 Ave\, Surrey\, BC\, V3Z9M5\, Canada
CATEGORIES:Bible Study,Life Together,Prayer,Womens' Ministry
END:VEVENT
BEGIN:VEVENT
DTSTART;TZID=America/Vancouver:20191110T091500
DTEND;TZID=America/Vancouver:20191110T101500
DTSTAMP:20260424T022727
CREATED:20191110T171500Z
LAST-MODIFIED:20200406T183022Z
UID:406185-1573377300-1573380900@emmanuelcovenant.ca
SUMMARY:Sunday Bible Study & Prayer
DESCRIPTION:[column width=”1/1″ last=”true” title=”” title_type=”single” animation=”none” implicit=”true”] \n  \n[/column]
URL:https://emmanuelcovenant.ca/event/sunday-bible-study-prayer-10/
CATEGORIES:Bible Study,Life Together,Prayer
END:VEVENT
BEGIN:VEVENT
DTSTART;TZID=America/Vancouver:20191108T180000
DTEND;TZID=America/Vancouver:20191108T200000
DTSTAMP:20260424T022727
CREATED:20191109T020000Z
LAST-MODIFIED:20200406T183022Z
UID:406145-1573236000-1573243200@emmanuelcovenant.ca
SUMMARY:Men's Bible Study
DESCRIPTION:[column width=”1/1″ last=”true” title=”” title_type=”single” animation=”none” implicit=”true”] \nDinner at 6pm \nBible Study at 7pm \nPlease RSVP to debbie@emmanuelcovenant.ca \n[/column]
URL:https://emmanuelcovenant.ca/event/mens-bible-study-75/
CATEGORIES:Bible Study,Men's Ministry
END:VEVENT
BEGIN:VEVENT
DTSTART;TZID=America/Vancouver:20191107T190000
DTEND;TZID=America/Vancouver:20191107T200000
DTSTAMP:20260424T022727
CREATED:20191108T030000Z
LAST-MODIFIED:20200406T183022Z
UID:406259-1573153200-1573156800@emmanuelcovenant.ca
SUMMARY:Community Bible Experience Group
DESCRIPTION:[column width=”1/1″ last=”true” title=”” title_type=”single” animation=”none” implicit=”true”] \n  \n[/column] \n[column width=”1/1″ last=”true” title=”” title_type=”single” animation=”none” implicit=”true”] \n[/column] \n[column width=”1/1″ last=”true” title=”” title_type=”single” animation=”none” implicit=”true”] \n  \n[/column]
URL:https://emmanuelcovenant.ca/event/community-bible-experience-group-6/
CATEGORIES:Bible Study,Life Together
ATTACH;FMTTYPE=image/jpeg:https://emmanuelcovenant.ca/wp-content/uploads/2019/09/CBEMainSlide2019.jpg
END:VEVENT
BEGIN:VEVENT
DTSTART;TZID=America/Vancouver:20191106T093000
DTEND;TZID=America/Vancouver:20191106T120000
DTSTAMP:20260424T022727
CREATED:20191106T173000Z
LAST-MODIFIED:20200406T183022Z
UID:406294-1573032600-1573041600@emmanuelcovenant.ca
SUMMARY:Ladies' Bible Study
DESCRIPTION:[column width=”1/1″ last=”true” title=”” title_type=”single” animation=”none” implicit=”true”] \n  \n[/column]
URL:https://emmanuelcovenant.ca/event/ladies-bible-study-45/
LOCATION:Emmanuel Evangelical Covenant Church\, 17029 16 Ave\, Surrey\, BC\, V3Z9M5\, Canada
CATEGORIES:Bible Study,Life Together,Prayer,Womens' Ministry
END:VEVENT
BEGIN:VEVENT
DTSTART;TZID=America/Vancouver:20191103T091500
DTEND;TZID=America/Vancouver:20191103T101500
DTSTAMP:20260424T022727
CREATED:20191103T171500Z
LAST-MODIFIED:20200406T183023Z
UID:406183-1572772500-1572776100@emmanuelcovenant.ca
SUMMARY:Sunday Bible Study & Prayer
DESCRIPTION:[column width=”1/1″ last=”true” title=”” title_type=”single” animation=”none” implicit=”true”] \n  \n[/column]
URL:https://emmanuelcovenant.ca/event/sunday-bible-study-prayer-9/
CATEGORIES:Bible Study,Life Together,Prayer
END:VEVENT
BEGIN:VEVENT
DTSTART;TZID=America/Vancouver:20191101T180000
DTEND;TZID=America/Vancouver:20191101T200000
DTSTAMP:20260424T022727
CREATED:20191102T010000Z
LAST-MODIFIED:20200406T183023Z
UID:406143-1572631200-1572638400@emmanuelcovenant.ca
SUMMARY:Men's Bible Study
DESCRIPTION:[column width=”1/1″ last=”true” title=”” title_type=”single” animation=”none” implicit=”true”] \nDinner at 6pm \nBible Study at 7pm \nPlease RSVP to debbie@emmanuelcovenant.ca \n[/column]
URL:https://emmanuelcovenant.ca/event/mens-bible-study-73/
CATEGORIES:Bible Study,Men's Ministry
END:VEVENT
BEGIN:VEVENT
DTSTART;TZID=America/Vancouver:20191031T190000
DTEND;TZID=America/Vancouver:20191031T200000
DTSTAMP:20260424T022727
CREATED:20191101T020000Z
LAST-MODIFIED:20200406T183023Z
UID:406257-1572548400-1572552000@emmanuelcovenant.ca
SUMMARY:Community Bible Experience Group
DESCRIPTION:[column width=”1/1″ last=”true” title=”” title_type=”single” animation=”none” implicit=”true”] \n  \n[/column] \n[column width=”1/1″ last=”true” title=”” title_type=”single” animation=”none” implicit=”true”] \n[/column] \n[column width=”1/1″ last=”true” title=”” title_type=”single” animation=”none” implicit=”true”] \n  \n[/column]
URL:https://emmanuelcovenant.ca/event/community-bible-experience-group-5/
CATEGORIES:Bible Study,Life Together
END:VEVENT
BEGIN:VEVENT
DTSTART;TZID=America/Vancouver:20191030T093000
DTEND;TZID=America/Vancouver:20191030T120000
DTSTAMP:20260424T022727
CREATED:20191030T163000Z
LAST-MODIFIED:20200406T183023Z
UID:406292-1572427800-1572436800@emmanuelcovenant.ca
SUMMARY:Ladies' Bible Study
DESCRIPTION:[column width=”1/1″ last=”true” title=”” title_type=”single” animation=”none” implicit=”true”] \n  \n[/column]
URL:https://emmanuelcovenant.ca/event/ladies-bible-study-44/
LOCATION:Emmanuel Evangelical Covenant Church\, 17029 16 Ave\, Surrey\, BC\, V3Z9M5\, Canada
CATEGORIES:Bible Study,Life Together,Prayer,Womens' Ministry
END:VEVENT
BEGIN:VEVENT
DTSTART;TZID=America/Vancouver:20191027T091500
DTEND;TZID=America/Vancouver:20191027T101500
DTSTAMP:20260424T022727
CREATED:20191027T161500Z
LAST-MODIFIED:20200406T183024Z
UID:406181-1572167700-1572171300@emmanuelcovenant.ca
SUMMARY:Sunday Bible Study & Prayer
DESCRIPTION:[column width=”1/1″ last=”true” title=”” title_type=”single” animation=”none” implicit=”true”] \n  \n[/column]
URL:https://emmanuelcovenant.ca/event/sunday-bible-study-prayer-8/
CATEGORIES:Bible Study,Life Together,Prayer
END:VEVENT
BEGIN:VEVENT
DTSTART;TZID=America/Vancouver:20191024T190000
DTEND;TZID=America/Vancouver:20191024T200000
DTSTAMP:20260424T022727
CREATED:20191025T020000Z
LAST-MODIFIED:20200406T183024Z
UID:406255-1571943600-1571947200@emmanuelcovenant.ca
SUMMARY:Community Bible Experience Group
DESCRIPTION:[column width=”1/1″ last=”true” title=”” title_type=”single” animation=”none” implicit=”true”] \n  \n[/column] \n[column width=”1/1″ last=”true” title=”” title_type=”single” animation=”none” implicit=”true”] \n[/column] \n[column width=”1/1″ last=”true” title=”” title_type=”single” animation=”none” implicit=”true”] \n  \n[/column]
URL:https://emmanuelcovenant.ca/event/community-bible-experience-group-4/
CATEGORIES:Bible Study,Life Together
ATTACH;FMTTYPE=image/jpeg:https://emmanuelcovenant.ca/wp-content/uploads/2019/09/CBEMainSlide2019.jpg
END:VEVENT
BEGIN:VEVENT
DTSTART;TZID=America/Vancouver:20191023T093000
DTEND;TZID=America/Vancouver:20191023T120000
DTSTAMP:20260424T022727
CREATED:20191023T163000Z
LAST-MODIFIED:20200406T183024Z
UID:406289-1571823000-1571832000@emmanuelcovenant.ca
SUMMARY:Ladies' Bible Study
DESCRIPTION:[column width=”1/1″ last=”true” title=”” title_type=”single” animation=”none” implicit=”true”] \n  \n[/column] \n[column width=”1/1″ last=”true” title=”” title_type=”single” animation=”none” implicit=”true”] \n[/column] \n[column width=”1/1″ last=”true” title=”” title_type=”single” animation=”none” implicit=”true”] \n  \n[/column]
URL:https://emmanuelcovenant.ca/event/ladies-bible-study-43/
LOCATION:Emmanuel Evangelical Covenant Church\, 17029 16 Ave\, Surrey\, BC\, V3Z9M5\, Canada
CATEGORIES:Bible Study,Life Together,Prayer,Womens' Ministry
END:VEVENT
BEGIN:VEVENT
DTSTART;TZID=America/Vancouver:20191020T091500
DTEND;TZID=America/Vancouver:20191020T101500
DTSTAMP:20260424T022727
CREATED:20191020T161500Z
LAST-MODIFIED:20200406T183025Z
UID:406179-1571562900-1571566500@emmanuelcovenant.ca
SUMMARY:Sunday Bible Study & Prayer
DESCRIPTION:[column width=”1/1″ last=”true” title=”” title_type=”single” animation=”none” implicit=”true”] \n  \n[/column]
URL:https://emmanuelcovenant.ca/event/sunday-bible-study-prayer-7/
CATEGORIES:Bible Study,Life Together,Prayer
END:VEVENT
BEGIN:VEVENT
DTSTART;TZID=America/Vancouver:20191018T180000
DTEND;TZID=America/Vancouver:20191018T200000
DTSTAMP:20260424T022727
CREATED:20191019T010000Z
LAST-MODIFIED:20200406T183025Z
UID:406141-1571421600-1571428800@emmanuelcovenant.ca
SUMMARY:Men's Bible Study
DESCRIPTION:[column width=”1/1″ last=”true” title=”” title_type=”single” animation=”none” implicit=”true”] \nDinner at 6pm \nBible Study at 7pm \nPlease RSVP to debbie@emmanuelcovenant.ca \n[/column]
URL:https://emmanuelcovenant.ca/event/mens-bible-study-71/
CATEGORIES:Bible Study,Men's Ministry
END:VEVENT
END:VCALENDAR